BEGIN:VCALENDAR
VERSION:2.0
PRODID:-//ÉrdKultúra - ECPv6.8.0//NONSGML v1.0//EN
CALSCALE:GREGORIAN
METHOD:PUBLISH
X-ORIGINAL-URL:https://erdkultura.hu
X-WR-CALDESC:Events for ÉrdKultúra
REFRESH-INTERVAL;VALUE=DURATION:PT1H
X-Robots-Tag:noindex
X-PUBLISHED-TTL:PT1H
BEGIN:VTIMEZONE
TZID:UTC
BEGIN:STANDARD
TZOFFSETFROM:+0000
TZOFFSETTO:+0000
TZNAME:UTC
DTSTART:20260101T000000
END:STANDARD
END:VTIMEZONE
BEGIN:VEVENT
DTSTART;TZID=UTC:20260220T180000
DTEND;TZID=UTC:20260417T170000
DTSTAMP:20260421T093422
CREATED:20260220T171516Z
LAST-MODIFIED:20260316T122642Z
UID:7423-1771610400-1776445200@erdkultura.hu
SUMMARY:Ifjúsági pályázat 2026 − felhívás
DESCRIPTION:„Legyen előtted mindig út\,\nFújjon hátad mögül a szél…”\n/Rúzsa Magdolna/ \nAz érdi Parkvárosi Közösségi Ház pályázatot hirdet a 15 és 30 év közötti\, Érden vagy Érd vonzáskörzetében élő\, szárnyait bontogató amatőr művészek számára. \nA pályázat célja olyan fiatal művészek felfedezése\, akik művészi értékű grafikákat és festményeket készítenek\, valamint lehetőséget adni nekik\, hogy megmutathassák alkotásaikat. A pályaművek témája kötetlen\, készülhet bármilyen grafikai és festészeti stílusban\, technikával. A pályázaton indulni kizárólag saját alkotásokkal lehet\, továbbá olyanokkal\, amelyek díjazva még nem voltak. \nA pályázat nyilvános mindazok számára\, akik a fenti előírásnak megfelelnek. Pályázni maximum két alkotással lehet! \nAz alkotások maximális mérete: 1\,2 x 1 méter. Az alkotásokat kiállításkész állapotban kérjük beadni (keret\, akasztó\, név\, cím\, életkor). A nem installálható\, nem kiállításkész művek nem kerülnek átvételre /zsűrizésre. \nA beérkező munkákból 2026. 04. 25-én 15 órakor kiállítás nyílik a Parkvárosi Közösségi Ház Galériájában\, az ünnepség keretében oklevelet adunk át a résztvevőknek. \nA háromfős zsűri által két legjobbnak ítélt alkotónak 2027-ben lehetőséget adunk egy önálló kiállítás megrendezésére. \nA pályaművek benyújtási ideje és helyszíne:\nAz alkotásokat regisztrációt követően a Parkvárosi Közösségi Ház (2030 Érd\, Gépész u. 14.) recepcióján lehet leadni\, 2026. április 14. és 17. között.\nRegisztráció: takacs.gabriella@erdkultura.hu
URL:https://erdkultura.hu/event/ifjusagi-palyazat-2026-felhivas/
LOCATION:PARKVÁROS\, Gépész u. 14.\, Érd\, 2030\, Magyarország
CATEGORIES:Parkváros
ATTACH;FMTTYPE=image/jpeg:https://erdkultura.hu/wp-content/uploads/2026/02/Web-kep-1920-x-1080-pixel-3-1.jpg
END:VEVENT
BEGIN:VEVENT
DTSTART;TZID=UTC:20260306T100000
DTEND;TZID=UTC:20260306T100000
DTSTAMP:20260421T093422
CREATED:20260217T153427Z
LAST-MODIFIED:20260217T154322Z
UID:7338-1772791200-1772791200@erdkultura.hu
SUMMARY:Danny mesél: Kodzsugukila\, a boszorkány
DESCRIPTION:Afrikai mese bábokkal és különleges hangszerekkel\nA gyerekszínházi szemle különdíjasa és Michel Indali-díjas előadás. \nIdőtartam: 45 perc\nAjánlott korosztály: 3-10 év \nDanny Bain előadásában Dzséli\, a zenész és varázsló repít bennünket Afrikába\, annak is a legkülönlegesebb szegletébe: saját kunyhójába. Zenélés közben meséli el Kalili és Szandzsi történetét\, amely során megismerünk egy bátor ugróegeret\, egy kecses gazellát és a könyörtelen Kodzsugukila boszorkányt. A mese során minden csoda valóra válhat\, s mivel varázsló\, aki muzsikál\, még az is lehetséges\, hogy valójában maguk a dobok beszélnek. \nBővebb információ: https://www.dannymesel.hu/ \nA szervezők a programváltozás jogát fenntartják.\nA programon résztvevők elfogadják a házirendet\, valamint elfogadják\, hogy a programon készült kép-\, hang- és videofelvételt a szervezők saját nyilvános felületeiken\, illetve egyéb médiafelületeken való megjelenés során felhasználhatnak.
URL:https://erdkultura.hu/event/danny-mesel-kodzsugukila-a-boszorkany/
LOCATION:PARKVÁROS\, Gépész u. 14.\, Érd\, 2030\, Magyarország
CATEGORIES:előadás,Parkváros
ATTACH;FMTTYPE=image/jpeg:https://erdkultura.hu/wp-content/uploads/2026/02/PR2_3942.jpg
END:VEVENT
BEGIN:VEVENT
DTSTART;TZID=UTC:20260306T120000
DTEND;TZID=UTC:20260306T130000
DTSTAMP:20260421T093422
CREATED:20260219T134200Z
LAST-MODIFIED:20260305T115824Z
UID:7359-1772798400-1772802000@erdkultura.hu
SUMMARY:Elmarad-Kokárdakészítő workshop
DESCRIPTION:Technikai okok miatt elmarad.\nKokárdakészítő workshopot szervezünk a Parkvárosi Közösségi Házban.\nCélunk\, hogy közösen készítsük el azokat a kokárdákat\, amelyeket a Március 15-i kokárda kitűzési akció keretében osztunk szét Érden. \nAz alapanyagokat a Nemzeti Művelődési Intézet ASzakkör című programja keretében kapta az Érden működő Nemezelő szakkör. \nA programon való részvételhez előzetes regisztráció szükséges a szucs.agnes@erdkultura.hu e-mail címen.\nA program az „Idősen\, aktívan\, Érden” programsorozat keretében kerül megrendezésre. A részvétel az érdi 65 év fölöttiek számára ingyenes! \nA szervezők a programváltozás jogát fenntartják.\nA programon résztvevők elfogadják a házirendet\, valamint elfogadják\, hogy a programon készült kép-\, hang- és videofelvételt a szervezők saját nyilvános felületeiken\, illetve egyéb médiafelületeken való megjelenés során felhasználhatnak.
URL:https://erdkultura.hu/event/kokardakeszito-workshop/
LOCATION:PARKVÁROS\, Gépész u. 14.\, Érd\, 2030\, Magyarország
CATEGORIES:Idősprogram,Parkváros
ATTACH;FMTTYPE=image/png:https://erdkultura.hu/wp-content/uploads/2026/02/Nevtelen-terv-7.png
END:VEVENT
END:VCALENDAR