BEGIN:VCALENDAR
VERSION:2.0
PRODID:-//ÉrdKultúra - ECPv6.8.0//NONSGML v1.0//EN
CALSCALE:GREGORIAN
METHOD:PUBLISH
X-WR-CALNAME:ÉrdKultúra
X-ORIGINAL-URL:https://erdkultura.hu
X-WR-CALDESC:Events for ÉrdKultúra
REFRESH-INTERVAL;VALUE=DURATION:PT1H
X-Robots-Tag:noindex
X-PUBLISHED-TTL:PT1H
BEGIN:VTIMEZONE
TZID:UTC
BEGIN:STANDARD
TZOFFSETFROM:+0000
TZOFFSETTO:+0000
TZNAME:UTC
DTSTART:20240101T000000
END:STANDARD
END:VTIMEZONE
BEGIN:VEVENT
DTSTART;TZID=UTC:20241019T090000
DTEND;TZID=UTC:20241019T170000
DTSTAMP:20260421T105215
CREATED:20240918T074835Z
LAST-MODIFIED:20240918T074835Z
UID:2575-1729328400-1729357200@erdkultura.hu
SUMMARY:Rajzos-festő foglalkozás gyerekeknek
DESCRIPTION:Rajzos-festő foglalkozás gyerekeknek a Parkvárosi Közösségi Házban – szeptember 21-én\, október 19-én\, november 23-án; szombat délelőtt 9 órától 13 óráig! \nA foglalkozások témája nem egymásra épül\, lehet 1-1 alkalommal is jönni. \n7 – 12 éves\, alkotásra nyitott gyermekeket várom szeretettel!  \nA foglalkozásokon festünk akrilfestékkel\, akvarellel. A száraz technikák közül olajpasztell\, szén és porpasztell illetve kollázstechnika rejtelmeiben merülünk el. \nA program további részletei  Festés gyerekeknek – bohemkuckom.hu oldalon olvashatóak. \nÉrdeklődni és jelentkezni a fenti honlapon\, info@bohemkuckom.hu e-mail címen vagy Szegedy Tamaránál a 20/226-2853 telefonszámon lehet!”
URL:https://erdkultura.hu/event/rajzos-festo-foglalkozas-gyerekeknek-2/
LOCATION:PARKVÁROS\, Gépész u. 14.\, Érd\, 2030\, Magyarország
CATEGORIES:Parkváros,tanfolyam
ATTACH;FMTTYPE=image/jpeg:https://erdkultura.hu/wp-content/uploads/2024/09/Esemenykep_fb_0921_1019_1123-1.jpg
END:VEVENT
BEGIN:VEVENT
DTSTART;TZID=UTC:20241019T150000
DTEND;TZID=UTC:20241019T170000
DTSTAMP:20260421T105215
CREATED:20241016T180007Z
LAST-MODIFIED:20241016T180347Z
UID:2848-1729350000-1729357200@erdkultura.hu
SUMMARY:kék-kapcsolódás kiállításmegnyitó
DESCRIPTION:A Parkvárosi Közösségi Ház meghívja önt és barátait a Képzőművészek Érdi Közösségének Kapcsolódás című kiállításának megnyitójára\,2024. október 19-én\, szombaton\, 15 órára.\n\nA kiállítást megnyitja Szabó Noémi festőművész\, közreműködik Falus Gábor zongorán és a KÉK tagok.\n\nA kiállítás megtekinthető 2024. november 13-ig\, a közösségi ház nyitvatartási idejében.\n\nIdén 10 éves a Képzőművészek Érdi Közössége\, mely alkalomból Kapcsolódás címmel hirdettek pályázatot. Az erre az alkalomra készült és beérkezett alkotásokat szakmai zsűri válogatja\, értékeli. A két\, zsűri által legjobbnak ítélt alkotó 2025 folyamán páros bemutatkozási lehetőséget kap a Szepes Gyula Művelődési Központ kiállítóterében.\n\nA Képzőművészek Érdi Közössége 2014-ben alakult meg 9 alapító taggal. Ez az alkotócsoport a Poly-Art Alapítvány égisze alatt működik és nyújt támaszt a térség nem hivatásos képzőművészei számára. A KÉK csoport (vagy ahogyan azt sokan mondják: a KÉK-ek) jelenleg körülbelül 30 aktív tagot számlál\, akik egymást inspirálva\, támogatva alkotnak összetartó közösséget.\n\nA KÉK-ek honlapja: http://poly-art.hu/kek/tagok_kek.php
URL:https://erdkultura.hu/event/kek-kapcsolodas-kiallitasmegnyito/
LOCATION:PARKVÁROS\, Gépész u. 14.\, Érd\, 2030\, Magyarország
CATEGORIES:kiállítás,Parkváros
ATTACH;FMTTYPE=image/jpeg:https://erdkultura.hu/wp-content/uploads/2024/10/KEK-kiallitas.jpg
END:VEVENT
BEGIN:VEVENT
DTSTART;TZID=UTC:20241019T200000
DTEND;TZID=UTC:20241019T210000
DTSTAMP:20260421T105215
CREATED:20240924T192113Z
LAST-MODIFIED:20240924T192324Z
UID:2646-1729368000-1729371600@erdkultura.hu
SUMMARY:Catsby önálló est
DESCRIPTION:A Catsby első Érdi koncertjén való hatalmas érdeklődésre tekintettel\, a zenekar ismét egy fergeteges estre készül!\nAz együttes tagjai erős színpadi jelenlétükkel és az electroswing energiájával varázsolják el a közönséget. Az 1920-as évek elegáns és életigenlő swing muzsikáját ötvözik a modern kor kedvelt stílusjegyeivel\, hogy egy igazán vérpezsdítő élményt nyújtsanak.\nA saját dalaik mellett felcsendülnek majd ismert Parov Stelar és Caro Emerald slágerek is\, így garantáltan mindenki talál kedvére valót a repertoárban.
URL:https://erdkultura.hu/event/catsby-onallo-est/
LOCATION:PARKVÁROS\, Gépész u. 14.\, Érd\, 2030\, Magyarország
CATEGORIES:Parkváros,zene
ATTACH;FMTTYPE=image/jpeg:https://erdkultura.hu/wp-content/uploads/2024/09/Catsby-koncert.jpg
END:VEVENT
END:VCALENDAR