BEGIN:VCALENDAR
VERSION:2.0
PRODID:-//ÉrdKultúra - ECPv6.8.0//NONSGML v1.0//EN
CALSCALE:GREGORIAN
METHOD:PUBLISH
X-WR-CALNAME:ÉrdKultúra
X-ORIGINAL-URL:https://erdkultura.hu
X-WR-CALDESC:Events for ÉrdKultúra
REFRESH-INTERVAL;VALUE=DURATION:PT1H
X-Robots-Tag:noindex
X-PUBLISHED-TTL:PT1H
BEGIN:VTIMEZONE
TZID:UTC
BEGIN:STANDARD
TZOFFSETFROM:+0000
TZOFFSETTO:+0000
TZNAME:UTC
DTSTART:20240101T000000
END:STANDARD
END:VTIMEZONE
BEGIN:VEVENT
DTSTART;TZID=UTC:20241012T090000
DTEND;TZID=UTC:20241012T120000
DTSTAMP:20260421T105215
CREATED:20240925T080914Z
LAST-MODIFIED:20241004T135333Z
UID:2651-1728723600-1728734400@erdkultura.hu
SUMMARY:ÚJ időpontban: Edukáció az életért - Második alkalom
DESCRIPTION:A program új időpontban kerül megrendezésre\, erről a későbbiekben tájékoztatjuk az esemény iránt érdeklődőket!
URL:https://erdkultura.hu/event/edukacio-az-eletert-masodik-alkalom/
LOCATION:PARKVÁROS\, Gépész u. 14.\, Érd\, 2030\, Magyarország
CATEGORIES:előadás,Parkváros
ATTACH;FMTTYPE=image/jpeg:https://erdkultura.hu/wp-content/uploads/2024/08/454199843_515399327668336_280466362225810806_n.jpg
END:VEVENT
BEGIN:VEVENT
DTSTART;TZID=UTC:20241012T090000
DTEND;TZID=UTC:20241012T170000
DTSTAMP:20260421T105215
CREATED:20240824T092552Z
LAST-MODIFIED:20240824T092558Z
UID:2232-1728723600-1728752400@erdkultura.hu
SUMMARY:Festőklub felőtteknek
DESCRIPTION:Felnőtteknek szóló festőklub a Parkvárosi Közösségi Házban – havonta egyszer\, minden hónap második szombat délelőtt 9 órától 13 óráig \nE festőklubon a teljesen kezdők és gyakorlottabbak is megtalálják az örömöt és a kihívást! \nMinden alkalommal feszített vászonra\, akrilfestékkel készülnek a fő alkotások. A ragyogó színkörből színkeverési feladatokkal és festészeti technikákkal gazdagítjuk tudásunkat. \nCélunk\, hogy egyediséget\, hangulatot\, érzéseket visszatükröző képek születhessenek\, miközben az alkotók a hétköznapi rutinból kikapcsolódnak\, az alkotási folyamat közben feltöltődnek. \nA program további részletei https://bohemkuckom.hu/kreativfoglalkozasok/festoklub oldalon olvashatóak. \nÉrdeklődni és jelentkezni a fenti honlapon\, info@bohemkuckom.hu e-mail címen vagy Szegedy Tamaránál a 20/226-2853 telefonszámon lehet!
URL:https://erdkultura.hu/event/fesoklub-felotteknek/
LOCATION:PARKVÁROS\, Gépész u. 14.\, Érd\, 2030\, Magyarország
CATEGORIES:előadás,Parkváros,tanfolyam
ATTACH;FMTTYPE=image/jpeg:https://erdkultura.hu/wp-content/uploads/2024/08/Erdkultura_kep2-1.jpg
END:VEVENT
BEGIN:VEVENT
DTSTART;TZID=UTC:20241012T163000
DTEND;TZID=UTC:20241012T180000
DTSTAMP:20260421T105215
CREATED:20240924T192939Z
LAST-MODIFIED:20240924T192939Z
UID:2649-1728750600-1728756000@erdkultura.hu
SUMMARY:Mesedélután
DESCRIPTION:Ismételten Mesedélután a Parkvárosi Közösségi Házban!Októberben újra várjuk a gyerekeket egy közös mesehallgatásra és kézműves foglalkozásra. Mesemondó: Kissné Matkó GabriellaAz esemény ingyenes! HÁROM ÉVES KORTÓL\, KILENC ÉVES KORIG AJÁNLOTT!FIGYELEM: A nagy érdeklődésre való tekintettel\, REGISZTRÁCIÓ szükséges!!!Regisztráció: 06-23-746118 vagy keszei.virag@szepesmk.hu
URL:https://erdkultura.hu/event/mesedelutan-2/
LOCATION:PARKVÁROS\, Gépész u. 14.\, Érd\, 2030\, Magyarország
CATEGORIES:Parkváros
ATTACH;FMTTYPE=image/png:https://erdkultura.hu/wp-content/uploads/2024/03/Web-kep-14.png
END:VEVENT
BEGIN:VEVENT
DTSTART;TZID=UTC:20241012T190000
DTEND;TZID=UTC:20241012T190000
DTSTAMP:20260421T105215
CREATED:20241004T105414Z
LAST-MODIFIED:20241004T105443Z
UID:2762-1728759600-1728759600@erdkultura.hu
SUMMARY:Úgy táncolnék veled!
DESCRIPTION:Tánclehetőség egyedülállóknak és pároknak. \nSajátítsátok el közismert táncok alapjait ismét egy fergeteges táncesten! \nSzéchenyi Petra és Széchenyi Krisztián mindketten a Táncművészeti Egyetemen végzett professzionális táncművészek\, akik Kanadától Japánig áttáncolták a világot és most itt vannak\, hogy nektek is tanítsanak néhány lépést.\nRoki\, salsa\, keringő\, tangó vagy esetleg disco?\nGyertek és kóstoljatok bele a különböző stílusokba\, hogy a következő buliban már ti lehessetek a táncparkett ördögei! \nÉrdeklődés: +36703239285\, díj: 2500 Ft/fő
URL:https://erdkultura.hu/event/ugy-tancolnek-veled-5/
LOCATION:PARKVÁROS\, Gépész u. 14.\, Érd\, 2030\, Magyarország
CATEGORIES:előadás,Parkváros,tanfolyam,zene
ATTACH;FMTTYPE=image/png:https://erdkultura.hu/wp-content/uploads/2024/10/FB-eemeny-borito-3.png
END:VEVENT
END:VCALENDAR