BEGIN:VCALENDAR
VERSION:2.0
PRODID:-//ÉrdKultúra - ECPv6.8.0//NONSGML v1.0//EN
CALSCALE:GREGORIAN
METHOD:PUBLISH
X-ORIGINAL-URL:https://erdkultura.hu
X-WR-CALDESC:Events for ÉrdKultúra
REFRESH-INTERVAL;VALUE=DURATION:PT1H
X-Robots-Tag:noindex
X-PUBLISHED-TTL:PT1H
BEGIN:VTIMEZONE
TZID:UTC
BEGIN:STANDARD
TZOFFSETFROM:+0000
TZOFFSETTO:+0000
TZNAME:UTC
DTSTART:20240101T000000
END:STANDARD
END:VTIMEZONE
BEGIN:VEVENT
DTSTART;TZID=UTC:20240928T170000
DTEND;TZID=UTC:20240928T180000
DTSTAMP:20260421T120936
CREATED:20240816T115717Z
LAST-MODIFIED:20240902T082701Z
UID:2196-1727542800-1727546400@erdkultura.hu
SUMMARY:szociopoly - interaktív színházi társasjáték
DESCRIPTION:A Szociopoly egy észak-magyarországi kistelepülésen játszódik. Szereplői a településen élő emberek: a falu elitje\, az ott működő intézmények dolgozói és a faluban élő (többségében szegény) emberek\, akik közül néhányat színészek alakítanak\, de a falu lakóinak többségét a nézők személyesítik meg. A darabban négy hetet játszunk végig\, ami alatt a résztvevőknek meg kell élniük a játék adta keretek között: két gyereket nevelnek\, munkanélküliek\, esetleg közmunkára vagy alkalmi munkára számíthatnak\, de minden héten be kell vásárolniuk\, ki kellene fizetniük a lakásuk rezsijét\, illetve az esetlegesen felmerülő más kiadásaikat is. A játék elején megkapják az összes olyan segélyt\, támogatást\, amihez ma Magyarországon egy ilyen család hozzájuthat. A darab rövid jelenetek sora: a néző van\, hogy egy orvosi váróban találja magát\, ahol ő is a jelenet szereplőjévé válik\, és eldöntheti\, hogy kiváltja-e a neki felírt gyógyszert\, vagy sem? Tanúja lehet egy beszélgetésnek\, ahol a helyi vállalkozó munkát ajánl valakinek\, majd őt is megszólítja: akar-e jönni dolgozni\, és ha igen\, milyen feltételekkel? Hogy éppen milyen szituációba kerül a néző\, azt mindig a szerencse dönti el.\nJátsszák: Bass László\, Herczeg Tamás/Fábián Gábor\, Hay Anna/Sipos Vera\, Jaskó Bálint\nRendező: Fábián Gábor\nAz előadás időtartama 2\,5 óra\, a résztvevők létszáma 16- 60 fő\, korhatár 16 év felettJegyár: 4000 FtJegyvásárlás online: https://szepesmk.jegyx1.hu/eloadas/3557/szociopoly—interaktiv-szinhazi-tarsasjatek?fbclid=IwY2xjawEsHaVleHRuA2FlbQIxMAABHZ8qLMSuzqURdjm5_sPAHirqLlbEocoTzW-lplSiNFv12PtZl0_q0402ZQ_aem_MCj1gSSSmqSsQcsqit6idA\n\n\nA Szociopoly 2016-ban a VIII. Kaposvári ASSITEJ Nemzetközi Biennálén elnyerte a legjobb előadásnak járó Üveghegy-díjat.
URL:https://erdkultura.hu/event/szociopoly-interaktiv-szinhazi-tarsasjatek/
LOCATION:PARKVÁROS\, Gépész u. 14.\, Érd\, 2030\, Magyarország
CATEGORIES:előadás,Parkváros
ATTACH;FMTTYPE=image/png:https://erdkultura.hu/wp-content/uploads/2024/08/Program-post-56.png
END:VEVENT
BEGIN:VEVENT
DTSTART;TZID=UTC:20240928T190000
DTEND;TZID=UTC:20240928T190000
DTSTAMP:20260421T120936
CREATED:20240824T112759Z
LAST-MODIFIED:20240904T121532Z
UID:2258-1727550000-1727550000@erdkultura.hu
SUMMARY:Úgy táncolnék veled!
DESCRIPTION:Az esemény technikai okok miatt elmarad! \n  \nÚgy táncolnék veled! \nTánclehetőség egyedülállóknak és pároknak. Sajátítsátok el közismert táncok alapjait ismét egy fergeteges táncesten! \nSzéchenyi Petra és Széchenyi Krisztián mindketten a Táncművészeti Egyetemen végzett professzionális táncművészek\, akik Kanadától Japánig áttáncolták a világot és most itt vannak\, hogy nektek is tanítsanak néhány lépést.\nRoki\, salsa\, keringő\, tangó vagy esetleg disco? \nGyertek és kóstoljatok bele a különböző stílusokba\, hogy a következő buliban már ti lehessetek a táncparkett ördögei! \nÉrdeklődés: +36703239284\, díj: 2500 Ft/fő
URL:https://erdkultura.hu/event/ugy-tancolnek-veled-4/
LOCATION:PARKVÁROS\, Gépész u. 14.\, Érd\, 2030\, Magyarország
CATEGORIES:Parkváros,tanfolyam,zene
ATTACH;FMTTYPE=image/png:https://erdkultura.hu/wp-content/uploads/2024/03/Web-kep-18.png
END:VEVENT
END:VCALENDAR