BEGIN:VCALENDAR
VERSION:2.0
PRODID:-//ÉrdKultúra - ECPv6.8.0//NONSGML v1.0//EN
CALSCALE:GREGORIAN
METHOD:PUBLISH
X-WR-CALNAME:ÉrdKultúra
X-ORIGINAL-URL:https://erdkultura.hu
X-WR-CALDESC:Events for ÉrdKultúra
REFRESH-INTERVAL;VALUE=DURATION:PT1H
X-Robots-Tag:noindex
X-PUBLISHED-TTL:PT1H
BEGIN:VTIMEZONE
TZID:UTC
BEGIN:STANDARD
TZOFFSETFROM:+0000
TZOFFSETTO:+0000
TZNAME:UTC
DTSTART:20240101T000000
END:STANDARD
END:VTIMEZONE
BEGIN:VEVENT
DTSTART;TZID=UTC:20240921T090000
DTEND;TZID=UTC:20240921T170000
DTSTAMP:20260421T120614
CREATED:20240918T074710Z
LAST-MODIFIED:20240918T074710Z
UID:2571-1726909200-1726938000@erdkultura.hu
SUMMARY:Rajzos-festő foglalkozás gyerekeknek
DESCRIPTION:Rajzos-festő foglalkozás gyerekeknek a Parkvárosi Közösségi Házban – szeptember 21-én\, október 19-én\, november 23-án; szombat délelőtt 9 órától 13 óráig! \nA foglalkozások témája nem egymásra épül\, lehet 1-1 alkalommal is jönni. \n7 – 12 éves\, alkotásra nyitott gyermekeket várom szeretettel!  \nA foglalkozásokon festünk akrilfestékkel\, akvarellel. A száraz technikák közül olajpasztell\, szén és porpasztell illetve kollázstechnika rejtelmeiben merülünk el. \nA program további részletei  Festés gyerekeknek – bohemkuckom.hu oldalon olvashatóak. \nÉrdeklődni és jelentkezni a fenti honlapon\, info@bohemkuckom.hu e-mail címen vagy Szegedy Tamaránál a 20/226-2853 telefonszámon lehet!”
URL:https://erdkultura.hu/event/rajzos-festo-foglalkozas-gyerekeknek/
LOCATION:PARKVÁROS\, Gépész u. 14.\, Érd\, 2030\, Magyarország
CATEGORIES:Parkváros,tanfolyam
ATTACH;FMTTYPE=image/jpeg:https://erdkultura.hu/wp-content/uploads/2024/09/Esemenykep_fb_0921_1019_1123-1.jpg
END:VEVENT
BEGIN:VEVENT
DTSTART;TZID=UTC:20240921T150000
DTEND;TZID=UTC:20240921T170000
DTSTAMP:20260421T120614
CREATED:20240824T101504Z
LAST-MODIFIED:20240824T101504Z
UID:2248-1726930800-1726938000@erdkultura.hu
SUMMARY:Pazár Anna - LÉTELEM KÉPEK
DESCRIPTION:Kiállításmegnyitó \nAz élet és a történések szövevényében minden a mindennel keveredik\, gyakran túl nővik a még befogadható limitet. Csakúgy\, mint a színek világában\, azok egyenszürkévé válva kiolthatják egymást\, vagy épp öncélúan harsányan ütik egymást. Az ilyenféle szélsőségek sohasem izgattak\, annál inkább a lét éltető harmóniája. Melyeket a fizikai és morális lét alapvetéseiben látok.\nLételem képeim ezek kifejezései.
URL:https://erdkultura.hu/event/pazar-anna-letelem-kepek/
LOCATION:PARKVÁROS\, Gépész u. 14.\, Érd\, 2030\, Magyarország
CATEGORIES:kiállítás,Parkváros
ATTACH;FMTTYPE=image/jpeg:https://erdkultura.hu/wp-content/uploads/2024/08/Pazar-Anna-plakat-1.jpeg
END:VEVENT
END:VCALENDAR