BEGIN:VCALENDAR
VERSION:2.0
PRODID:-//ÉrdKultúra - ECPv6.8.0//NONSGML v1.0//EN
CALSCALE:GREGORIAN
METHOD:PUBLISH
X-ORIGINAL-URL:https://erdkultura.hu
X-WR-CALDESC:Events for ÉrdKultúra
REFRESH-INTERVAL;VALUE=DURATION:PT1H
X-Robots-Tag:noindex
X-PUBLISHED-TTL:PT1H
BEGIN:VTIMEZONE
TZID:UTC
BEGIN:STANDARD
TZOFFSETFROM:+0000
TZOFFSETTO:+0000
TZNAME:UTC
DTSTART:20240101T000000
END:STANDARD
END:VTIMEZONE
BEGIN:VEVENT
DTSTART;TZID=UTC:20240615T150000
DTEND;TZID=UTC:20240615T170000
DTSTAMP:20260421T162431
CREATED:20240522T171612Z
LAST-MODIFIED:20240522T171612Z
UID:2029-1718463600-1718470800@erdkultura.hu
SUMMARY:Rajzszög rajziskola tanévzárója és kiállításmegnyitója
DESCRIPTION:Minden kedves érdeklődőt várunk szeretettel!
URL:https://erdkultura.hu/event/rajzszog-rajziskola-tanevzaroja-es-kiallitasmegnyitoja/
LOCATION:PARKVÁROS\, Gépész u. 14.\, Érd\, 2030\, Magyarország
CATEGORIES:előadás,kiállítás,Parkváros
ATTACH;FMTTYPE=image/jpeg:https://erdkultura.hu/wp-content/uploads/2024/05/kreativ-onismereti-938x698-1.jpg
END:VEVENT
BEGIN:VEVENT
DTSTART;TZID=UTC:20240615T190000
DTEND;TZID=UTC:20240615T210000
DTSTAMP:20260421T162431
CREATED:20240522T172504Z
LAST-MODIFIED:20240522T172504Z
UID:2032-1718478000-1718485200@erdkultura.hu
SUMMARY:Úgy táncolnék veled! Tánclehetőség egyedülállóknak és pároknak
DESCRIPTION:Úgy táncolnék veled! Tánclehetőség egyedülállóknak és pároknak. \nSajátítsátok el közismert táncok alapjait ismét egy fergeteges táncesten! \nSzéchenyi Petra és Széchenyi Krisztián mindketten a Táncművészeti Egyetemen végzett professzionális táncművészek\, akik Kanadától Japánig áttáncolták a világot és most itt vannak\, hogy nektek is tanítsanak néhány lépést. \nRoki\, salsa\, keringő\, tangó vagy esetleg disco? \nGyertek és kóstoljatok bele a különböző stílusokba\, hogy a következő buliban már ti lehessetek a táncparkett ördögei! Érdeklődés: +36703239284\, díj: 2500 Ft/fő
URL:https://erdkultura.hu/event/ugy-tancolnek-veled-tanclehetoseg-egyedulalloknak-es-paroknak/
LOCATION:PARKVÁROS\, Gépész u. 14.\, Érd\, 2030\, Magyarország
CATEGORIES:Parkváros,tanfolyam,zene
ATTACH;FMTTYPE=image/png:https://erdkultura.hu/wp-content/uploads/2024/03/Web-kep-18.png
END:VEVENT
END:VCALENDAR