BEGIN:VCALENDAR
VERSION:2.0
PRODID:-//ÉrdKultúra - ECPv6.8.0//NONSGML v1.0//EN
CALSCALE:GREGORIAN
METHOD:PUBLISH
X-WR-CALNAME:ÉrdKultúra
X-ORIGINAL-URL:https://erdkultura.hu
X-WR-CALDESC:Events for ÉrdKultúra
REFRESH-INTERVAL;VALUE=DURATION:PT1H
X-Robots-Tag:noindex
X-PUBLISHED-TTL:PT1H
BEGIN:VTIMEZONE
TZID:UTC
BEGIN:STANDARD
TZOFFSETFROM:+0000
TZOFFSETTO:+0000
TZNAME:UTC
DTSTART:20240101T000000
END:STANDARD
END:VTIMEZONE
BEGIN:VEVENT
DTSTART;TZID=UTC:20240505T080000
DTEND;TZID=UTC:20240531T170000
DTSTAMP:20260421T174045
CREATED:20240503T125505Z
LAST-MODIFIED:20240503T125505Z
UID:1882-1714896000-1717174800@erdkultura.hu
SUMMARY:Anyák napi fotófal a Parkvárosi Közösségi Házban
DESCRIPTION:Gyertek el Anyukáddal vagy készítsetek neki fotót ajándékba\, amit elküldhettek neki egy üzenetben! \nEgész hónapban várunk mindenkit szeretettel!
URL:https://erdkultura.hu/event/anyak-napi-fotofal-a-parkvarosi-kozossegi-hazban/
LOCATION:PARKVÁROS\, Gépész u. 14.\, Érd\, 2030\, Magyarország
CATEGORIES:kiállítás,Parkváros
ATTACH;FMTTYPE=image/png:https://erdkultura.hu/wp-content/uploads/2024/05/Program-post-16.png
END:VEVENT
BEGIN:VEVENT
DTSTART;TZID=UTC:20240523T110000
DTEND;TZID=UTC:20240523T123000
DTSTAMP:20260421T174045
CREATED:20240424T165035Z
LAST-MODIFIED:20240424T165035Z
UID:1857-1716462000-1716467400@erdkultura.hu
SUMMARY:Szárnyaló Sólymok Haikucsoport
DESCRIPTION:
URL:https://erdkultura.hu/event/szarnyalo-solymok-haikucsoport-2/
LOCATION:PARKVÁROS\, Gépész u. 14.\, Érd\, 2030\, Magyarország
CATEGORIES:Parkváros,tanfolyam
ATTACH;FMTTYPE=image/png:https://erdkultura.hu/wp-content/uploads/2024/03/Web-kep-20.png
END:VEVENT
BEGIN:VEVENT
DTSTART;TZID=UTC:20240523T140000
DTEND;TZID=UTC:20240523T170000
DTSTAMP:20260421T174045
CREATED:20240424T165206Z
LAST-MODIFIED:20240424T165206Z
UID:1859-1716472800-1716483600@erdkultura.hu
SUMMARY:Eszterlánc Klub
DESCRIPTION:„ MÁJUS ÚJRA SZÁZ CSODÁT ÍGÉR” \nMinden hónap utolsó csütörtök délutánján\, változó zenés műsorral várja Szigeti Eszter a kikapcsolódásra vágyó érdeklődőket. \nA részvétel ingyenes!
URL:https://erdkultura.hu/event/eszterlanc-klub-2/
CATEGORIES:előadás,Parkváros,zene
ATTACH;FMTTYPE=image/jpeg:https://erdkultura.hu/wp-content/uploads/2024/03/1711469682181_xpsh3l_2_0.jpg
END:VEVENT
END:VCALENDAR