BEGIN:VCALENDAR
VERSION:2.0
PRODID:-//ÉrdKultúra - ECPv6.8.0//NONSGML v1.0//EN
CALSCALE:GREGORIAN
METHOD:PUBLISH
X-ORIGINAL-URL:https://erdkultura.hu
X-WR-CALDESC:Events for ÉrdKultúra
REFRESH-INTERVAL;VALUE=DURATION:PT1H
X-Robots-Tag:noindex
X-PUBLISHED-TTL:PT1H
BEGIN:VTIMEZONE
TZID:UTC
BEGIN:STANDARD
TZOFFSETFROM:+0000
TZOFFSETTO:+0000
TZNAME:UTC
DTSTART:20240101T000000
END:STANDARD
END:VTIMEZONE
BEGIN:VEVENT
DTSTART;TZID=UTC:20240406T090000
DTEND;TZID=UTC:20240406T110000
DTSTAMP:20260421T190431
CREATED:20240327T163424Z
LAST-MODIFIED:20240409T165605Z
UID:1598-1712394000-1712401200@erdkultura.hu
SUMMARY:Kerti lámpás készítő kerámia workshop
DESCRIPTION:Kerti lámpás készítő kerámia workshop. Regisztráció: takacs.gabriella@szepesmk.hu- lehetőség lesz tetszés szerinti lámpás megépítésére\, áttörésére és festésére\, de színes máz is választható ( 2 féle )\n– égetési\, mázolási díj a részvételi díjon felül opcionális \, összesen 3 féle mázból lehet majd választani ( transzparens + 2 féle színes )\n– részvétel 12 éven aluliak esetében csak felnőtt kísérővel ( 8 évnél kisebb gyerek esetében \, 1 kísérőhöz 1 gyerek ))\n– magukkal hozni ajánlott: vékony pengéjű kés és egy lapos\, egyenes fakanál ( a nem hengeres nyéllel ellátott ) vagy lapicka\nRegisztráció: takacs.gabriella@szepesmk.hu (telefonszám megadását is kérem!) Ár: 1 500 Ft
URL:https://erdkultura.hu/event/kerti-lampas-keszito-keramia-workshop/
LOCATION:PARKVÁROS\, Gépész u. 14.\, Érd\, 2030\, Magyarország
CATEGORIES:Parkváros,tanfolyam
ATTACH;FMTTYPE=image/png:https://erdkultura.hu/wp-content/uploads/2024/03/Web-kep-12.png
END:VEVENT
BEGIN:VEVENT
DTSTART;TZID=UTC:20240406T160000
DTEND;TZID=UTC:20240406T170000
DTSTAMP:20260421T190431
CREATED:20240327T163746Z
LAST-MODIFIED:20240409T165600Z
UID:1602-1712419200-1712422800@erdkultura.hu
SUMMARY:Családi Táncház a Korinda zenekarral
DESCRIPTION:Családi Táncház a Korinda zenekarral
URL:https://erdkultura.hu/event/csaladi-tanchaz-a-korinda-zenekarral/
LOCATION:PARKVÁROS\, Gépész u. 14.\, Érd\, 2030\, Magyarország
CATEGORIES:előadás,Parkváros
ATTACH;FMTTYPE=image/png:https://erdkultura.hu/wp-content/uploads/2024/03/Csaladi-tanchaz-plakat-1.png
END:VEVENT
END:VCALENDAR