BEGIN:VCALENDAR
VERSION:2.0
PRODID:-//ÉrdKultúra - ECPv6.8.0//NONSGML v1.0//EN
CALSCALE:GREGORIAN
METHOD:PUBLISH
X-WR-CALNAME:ÉrdKultúra
X-ORIGINAL-URL:https://erdkultura.hu
X-WR-CALDESC:Events for ÉrdKultúra
REFRESH-INTERVAL;VALUE=DURATION:PT1H
X-Robots-Tag:noindex
X-PUBLISHED-TTL:PT1H
BEGIN:VTIMEZONE
TZID:UTC
BEGIN:STANDARD
TZOFFSETFROM:+0000
TZOFFSETTO:+0000
TZNAME:UTC
DTSTART:20240101T000000
END:STANDARD
END:VTIMEZONE
BEGIN:VEVENT
DTSTART;TZID=UTC:20240503T190000
DTEND;TZID=UTC:20240503T203000
DTSTAMP:20260421T162006
CREATED:20240422T082614Z
LAST-MODIFIED:20240503T121250Z
UID:1775-1714762800-1714768200@erdkultura.hu
SUMMARY:Önfejlesztő előadássorozat anyáknak Takács Nelétával!
DESCRIPTION:Önfejlesztő Előadássorozat indult anyukáknak Érden\, a Parkvárosi Közösség Házban! \nAZ ELŐADÁS ELMARAD\, MÁS IDŐPONTBAN KERÜL MEGRENDEZÉSRE! \nMinden hónap első péntek estéjén 19:15-21:15-ig! \n9 fontos témával várom az édesanyákat a gyerekneveléstől kezdve a párkapcsolati kényes témákon át az időmenedzsmenten túl és vissza:) \nHARMONIKUS PÁRKAPCSOLAT? LÉTEZIK ILYEN? \nMiért nem tudjuk megbeszélni a problémákat? Honnan tudom\, hogy képesek vagyunk-e rendbe hozni? Hogyan lehet egyáltalán időt szakítani a kapcsolatra? \nRészletek és regisztráció ezen az oldalon https://neleta.hu/erdieloadasok2024
URL:https://erdkultura.hu/event/onfejleszto-eloadassorozat-anyaknak-takacs-neletaval/
LOCATION:PARKVÁROS\, Gépész u. 14.\, Érd\, 2030\, Magyarország
CATEGORIES:előadás,Parkváros
ATTACH;FMTTYPE=image/png:https://erdkultura.hu/wp-content/uploads/2024/04/Web-kep-43.png
END:VEVENT
BEGIN:VEVENT
DTSTART;TZID=UTC:20240504T160000
DTEND;TZID=UTC:20240504T170000
DTSTAMP:20260421T162006
CREATED:20240422T082817Z
LAST-MODIFIED:20240422T082817Z
UID:1778-1714838400-1714842000@erdkultura.hu
SUMMARY:Családi Táncház a Korinda zenekarral
DESCRIPTION:Családi Táncház a Korinda zenekarral
URL:https://erdkultura.hu/event/csaladi-tanchaz-a-korinda-zenekarral-2/
LOCATION:PARKVÁROS\, Gépész u. 14.\, Érd\, 2030\, Magyarország
CATEGORIES:Parkváros,zene
ATTACH;FMTTYPE=image/png:https://erdkultura.hu/wp-content/uploads/2024/03/Csaladi-tanchaz-plakat-1.png
END:VEVENT
BEGIN:VEVENT
DTSTART;TZID=UTC:20240505T080000
DTEND;TZID=UTC:20240531T170000
DTSTAMP:20260421T162006
CREATED:20240503T125505Z
LAST-MODIFIED:20240503T125505Z
UID:1882-1714896000-1717174800@erdkultura.hu
SUMMARY:Anyák napi fotófal a Parkvárosi Közösségi Házban
DESCRIPTION:Gyertek el Anyukáddal vagy készítsetek neki fotót ajándékba\, amit elküldhettek neki egy üzenetben! \nEgész hónapban várunk mindenkit szeretettel!
URL:https://erdkultura.hu/event/anyak-napi-fotofal-a-parkvarosi-kozossegi-hazban/
LOCATION:PARKVÁROS\, Gépész u. 14.\, Érd\, 2030\, Magyarország
CATEGORIES:kiállítás,Parkváros
ATTACH;FMTTYPE=image/png:https://erdkultura.hu/wp-content/uploads/2024/05/Program-post-16.png
END:VEVENT
BEGIN:VEVENT
DTSTART;TZID=UTC:20240511T090000
DTEND;TZID=UTC:20240511T170000
DTSTAMP:20260421T162006
CREATED:20240422T083734Z
LAST-MODIFIED:20240424T160745Z
UID:1783-1715418000-1715446800@erdkultura.hu
SUMMARY:Festő klub felnőtteknek
DESCRIPTION:Minden hónap 2. szombat délelőtt \nA foglalkozásra 14+ korosztályból várom szeretettel az alkotásra nyitott Hölgyeket és Urakat. \nMi vár Rád a festőklubon? – 1 konkrét (mindig más) akrilfestési technika bemutatása és gyakorlása – rajzolási technikád fejlődése – gyönyörű színek kikeverése – saját festményed megalkotása az alapozástól az utolsó ecsetvonásokig – egyedi figyelem és segítség – kellemes\, családias hangulat – 4 órányi teljes kikapcsolódás\, feltöltődés – sikerélmény\, mely egy általad vászonra festett alkotás képében kacsint vissza Rád E festőklubon a teljesen kezdők és gyakorlottabbak is megtalálják az örömöt és a kihívást! \nJelentkezni 20/226-2853 telefonszámon Szegedy Tamaránál lehet.
URL:https://erdkultura.hu/event/festo-klub-felnotteknek/
LOCATION:PARKVÁROS\, Gépész u. 14.\, Érd\, 2030\, Magyarország
CATEGORIES:Parkváros,tanfolyam
ATTACH;FMTTYPE=image/jpeg:https://erdkultura.hu/wp-content/uploads/2024/04/437529093_1195022088438621_7616137225151267051_n.jpg
END:VEVENT
BEGIN:VEVENT
DTSTART;TZID=UTC:20240511T163000
DTEND;TZID=UTC:20240511T190000
DTSTAMP:20260421T162006
CREATED:20240422T084251Z
LAST-MODIFIED:20240422T084251Z
UID:1786-1715445000-1715454000@erdkultura.hu
SUMMARY:Mesedélután kézműveskedéssel
DESCRIPTION:Ismételten Mesedélután a Parkvárosi Közösségi Házban! \nMájusban újra várjuk a gyerekeket egy közös mesehallgatásra és kézműves foglalkozásra. \nAz esemény ingyenes! HÁROM ÉVES KORTÓL AJÁNLOTT! \nFIGYELEM: A nagy érdeklődésre való tekintettel\, REGISZTRÁCIÓ szükséges!!! Regisztráció: keszei.virag @szepesmk.hu / 06-23-746118
URL:https://erdkultura.hu/event/mesedelutan-kezmuveskedessel-2/
LOCATION:PARKVÁROS\, Gépész u. 14.\, Érd\, 2030\, Magyarország
CATEGORIES:előadás,Parkváros
ATTACH;FMTTYPE=image/png:https://erdkultura.hu/wp-content/uploads/2024/03/Web-kep-14.png
END:VEVENT
BEGIN:VEVENT
DTSTART;TZID=UTC:20240514T100000
DTEND;TZID=UTC:20240514T123000
DTSTAMP:20260421T162006
CREATED:20240422T085903Z
LAST-MODIFIED:20240422T090203Z
UID:1791-1715680800-1715689800@erdkultura.hu
SUMMARY:Senior Társasjáték és Kártya Klub
DESCRIPTION:Idősügyi program
URL:https://erdkultura.hu/event/senior-tarsasjatek-es-kartya-klub/
LOCATION:PARKVÁROS\, Gépész u. 14.\, Érd\, 2030\, Magyarország
CATEGORIES:Idősprogram,Parkváros
ATTACH;FMTTYPE=image/png:https://erdkultura.hu/wp-content/uploads/2024/04/Web-kep-45.png
END:VEVENT
BEGIN:VEVENT
DTSTART;TZID=UTC:20240515T100000
DTEND;TZID=UTC:20240515T133000
DTSTAMP:20260421T162006
CREATED:20240422T090637Z
LAST-MODIFIED:20240422T090637Z
UID:1794-1715767200-1715779800@erdkultura.hu
SUMMARY:Senior Könyvklub
DESCRIPTION:Oliver Bourdeaut – Merre jársz\, Bojangles? \nIdősügyi program
URL:https://erdkultura.hu/event/senior-konyvklub/
LOCATION:PARKVÁROS\, Gépész u. 14.\, Érd\, 2030\, Magyarország
CATEGORIES:Idősprogram,Parkváros,tanfolyam
ATTACH;FMTTYPE=image/png:https://erdkultura.hu/wp-content/uploads/2024/03/Web-kep-16.png
END:VEVENT
BEGIN:VEVENT
DTSTART;TZID=UTC:20240517T100000
DTEND;TZID=UTC:20240517T133000
DTSTAMP:20260421T162006
CREATED:20240422T091053Z
LAST-MODIFIED:20240428T185349Z
UID:1796-1715940000-1715952600@erdkultura.hu
SUMMARY:Marcipán cica: Élőzenés bábmese-koncert
DESCRIPTION:Zsámár Katalin és Gay Tamás előadásában. \nJegyek a helyszínen válthatóak a P.K.H. recepcióján\, nyitvatartási időben. Ár: 1 000 Ft
URL:https://erdkultura.hu/event/marcipan-cica-elozenes-babmese-koncert/
LOCATION:PARKVÁROS\, Gépész u. 14.\, Érd\, 2030\, Magyarország
CATEGORIES:előadás,Parkváros
ATTACH;FMTTYPE=image/png:https://erdkultura.hu/wp-content/uploads/2024/04/Program-post-10.png
END:VEVENT
BEGIN:VEVENT
DTSTART;TZID=UTC:20240518T150000
DTEND;TZID=UTC:20240518T170000
DTSTAMP:20260421T162006
CREATED:20240424T164923Z
LAST-MODIFIED:20240424T164930Z
UID:1854-1716044400-1716051600@erdkultura.hu
SUMMARY:Múltidéző - Képzőművészek Érdi Közösségének kiállításmegnyitója
DESCRIPTION:
URL:https://erdkultura.hu/event/multideso-kepzomuveszek-erdi-kozossegenek-kiallitasmegnyitoja/
LOCATION:PARKVÁROS\, Gépész u. 14.\, Érd\, 2030\, Magyarország
CATEGORIES:kiállítás,Parkváros
ATTACH;FMTTYPE=image/png:https://erdkultura.hu/wp-content/uploads/2024/04/Web-kep-44.png
END:VEVENT
BEGIN:VEVENT
DTSTART;TZID=UTC:20240523T110000
DTEND;TZID=UTC:20240523T123000
DTSTAMP:20260421T162006
CREATED:20240424T165035Z
LAST-MODIFIED:20240424T165035Z
UID:1857-1716462000-1716467400@erdkultura.hu
SUMMARY:Szárnyaló Sólymok Haikucsoport
DESCRIPTION:
URL:https://erdkultura.hu/event/szarnyalo-solymok-haikucsoport-2/
LOCATION:PARKVÁROS\, Gépész u. 14.\, Érd\, 2030\, Magyarország
CATEGORIES:Parkváros,tanfolyam
ATTACH;FMTTYPE=image/png:https://erdkultura.hu/wp-content/uploads/2024/03/Web-kep-20.png
END:VEVENT
BEGIN:VEVENT
DTSTART;TZID=UTC:20240523T140000
DTEND;TZID=UTC:20240523T170000
DTSTAMP:20260421T162006
CREATED:20240424T165206Z
LAST-MODIFIED:20240424T165206Z
UID:1859-1716472800-1716483600@erdkultura.hu
SUMMARY:Eszterlánc Klub
DESCRIPTION:„ MÁJUS ÚJRA SZÁZ CSODÁT ÍGÉR” \nMinden hónap utolsó csütörtök délutánján\, változó zenés műsorral várja Szigeti Eszter a kikapcsolódásra vágyó érdeklődőket. \nA részvétel ingyenes!
URL:https://erdkultura.hu/event/eszterlanc-klub-2/
CATEGORIES:előadás,Parkváros,zene
ATTACH;FMTTYPE=image/jpeg:https://erdkultura.hu/wp-content/uploads/2024/03/1711469682181_xpsh3l_2_0.jpg
END:VEVENT
BEGIN:VEVENT
DTSTART;TZID=UTC:20240525T190000
DTEND;TZID=UTC:20240525T200000
DTSTAMP:20260421T162006
CREATED:20240424T165808Z
LAST-MODIFIED:20240424T165808Z
UID:1861-1716663600-1716667200@erdkultura.hu
SUMMARY:Úgy táncolnék veled!
DESCRIPTION:Úgy táncolnék veled! \nTánclehetőség egyedülállóknak és pároknak. \nSajátítsátok el közismert táncok alapjait ismét egy fergeteges táncesten! Széchenyi Petra és Széchenyi Krisztián mindketten a Táncművészeti Egyetemen végzett professzionális táncművészek\, akik Kanadától Japánig áttáncolták a világot és most itt vannak\, hogy nektek is tanítsanak néhány lépést. \nRoki\, salsa\, keringő\, tangó vagy esetleg disco? Gyertek és kóstoljatok bele a különböző stílusokba\, hogy a következő buliban már ti lehessetek a táncparkett ördögei! \nÉrdeklődés: +36703239284\, díj: 2500 Ft/fő
URL:https://erdkultura.hu/event/ugy-tancolnek-veled-3/
LOCATION:PARKVÁROS\, Gépész u. 14.\, Érd\, 2030\, Magyarország
CATEGORIES:Parkváros,tanfolyam
ATTACH;FMTTYPE=image/png:https://erdkultura.hu/wp-content/uploads/2024/03/Web-kep-18.png
END:VEVENT
BEGIN:VEVENT
DTSTART;TZID=UTC:20240526T170000
DTEND;TZID=UTC:20240526T200000
DTSTAMP:20260421T162006
CREATED:20240429T092633Z
LAST-MODIFIED:20240515T105033Z
UID:1875-1716742800-1716753600@erdkultura.hu
SUMMARY:Horvát táncház
DESCRIPTION:
URL:https://erdkultura.hu/event/horvat-tanchaz/
LOCATION:PARKVÁROS\, Gépész u. 14.\, Érd\, 2030\, Magyarország
CATEGORIES:előadás,Parkváros,tanfolyam,zene
ATTACH;FMTTYPE=image/jpeg:https://erdkultura.hu/wp-content/uploads/2024/04/Ensemble__Kolo__dancing_folk_dance_of_Gnjilane.jpg
END:VEVENT
BEGIN:VEVENT
DTSTART;TZID=UTC:20240530T140000
DTEND;TZID=UTC:20240530T170000
DTSTAMP:20260421T162006
CREATED:20240522T100308Z
LAST-MODIFIED:20240522T100331Z
UID:1959-1717077600-1717088400@erdkultura.hu
SUMMARY:Eszterlánc - Szigeti Eszter önálló műsora
DESCRIPTION:Nosztalgia klubdélután minden hónap utolsó csütörtökjén! \n„A május újra száz csodát ígér” – örökzöld szerelmes dallamok – Szigeti Eszter önálló műsora \n 
URL:https://erdkultura.hu/event/eszterlanc-szigeti-eszter-onallo-musora/
LOCATION:PARKVÁROS\, Gépész u. 14.\, Érd\, 2030\, Magyarország
CATEGORIES:előadás,Parkváros,zene
ATTACH;FMTTYPE=image/jpeg:https://erdkultura.hu/wp-content/uploads/2024/03/1711469682181_xpsh3l_2_0.jpg
END:VEVENT
END:VCALENDAR