BEGIN:VCALENDAR
VERSION:2.0
PRODID:-//ÉrdKultúra - ECPv6.8.0//NONSGML v1.0//EN
CALSCALE:GREGORIAN
METHOD:PUBLISH
X-ORIGINAL-URL:https://erdkultura.hu
X-WR-CALDESC:Events for ÉrdKultúra
REFRESH-INTERVAL;VALUE=DURATION:PT1H
X-Robots-Tag:noindex
X-PUBLISHED-TTL:PT1H
BEGIN:VTIMEZONE
TZID:UTC
BEGIN:STANDARD
TZOFFSETFROM:+0000
TZOFFSETTO:+0000
TZNAME:UTC
DTSTART:20240101T000000
END:STANDARD
END:VTIMEZONE
BEGIN:VEVENT
DTSTART;TZID=UTC:20240405T190000
DTEND;TZID=UTC:20240405T210000
DTSTAMP:20260421T173922
CREATED:20240306T165949Z
LAST-MODIFIED:20240409T165610Z
UID:1317-1712343600-1712350800@erdkultura.hu
SUMMARY:Önfejlesztő előadássorozat anyáknak
DESCRIPTION:Minden hónap első péntek estéjén 19:00-21:00-ig\nKövetkező alkalom: április 5 péntek \nMIÉRT JÖN ANYA MINDIG UTOLJÁRA? címmel \n9 fontos témával várom az édesanyákat a gyerekneveléstől kezdve a párkapcsolati kényes témákon át az időmenedzsment túl és vissza \nRészletek és regisztráció ezen az oldalon: https://neleta.hu/erdieloadasok2024 \nAz előadást tartja:\nTakács Neléta Linda\nnői önismereti tréner\, életvezetési és párkapcsolati tanácsadó\, 2 gyermekes édesanya
URL:https://erdkultura.hu/event/onfejleszto-eloadassorozat-anyaknak/
LOCATION:PARKVÁROS\, Gépész u. 14.\, Érd\, 2030\, Magyarország
CATEGORIES:előadás,Parkváros
ATTACH;FMTTYPE=image/jpeg:https://erdkultura.hu/wp-content/uploads/2024/03/415949041_833283645474446_3632727942676650760_n.jpg
END:VEVENT
BEGIN:VEVENT
DTSTART;TZID=UTC:20240406T090000
DTEND;TZID=UTC:20240406T110000
DTSTAMP:20260421T173922
CREATED:20240327T163424Z
LAST-MODIFIED:20240409T165605Z
UID:1598-1712394000-1712401200@erdkultura.hu
SUMMARY:Kerti lámpás készítő kerámia workshop
DESCRIPTION:Kerti lámpás készítő kerámia workshop. Regisztráció: takacs.gabriella@szepesmk.hu- lehetőség lesz tetszés szerinti lámpás megépítésére\, áttörésére és festésére\, de színes máz is választható ( 2 féle )\n– égetési\, mázolási díj a részvételi díjon felül opcionális \, összesen 3 féle mázból lehet majd választani ( transzparens + 2 féle színes )\n– részvétel 12 éven aluliak esetében csak felnőtt kísérővel ( 8 évnél kisebb gyerek esetében \, 1 kísérőhöz 1 gyerek ))\n– magukkal hozni ajánlott: vékony pengéjű kés és egy lapos\, egyenes fakanál ( a nem hengeres nyéllel ellátott ) vagy lapicka\nRegisztráció: takacs.gabriella@szepesmk.hu (telefonszám megadását is kérem!) Ár: 1 500 Ft
URL:https://erdkultura.hu/event/kerti-lampas-keszito-keramia-workshop/
LOCATION:PARKVÁROS\, Gépész u. 14.\, Érd\, 2030\, Magyarország
CATEGORIES:Parkváros,tanfolyam
ATTACH;FMTTYPE=image/png:https://erdkultura.hu/wp-content/uploads/2024/03/Web-kep-12.png
END:VEVENT
BEGIN:VEVENT
DTSTART;TZID=UTC:20240406T160000
DTEND;TZID=UTC:20240406T170000
DTSTAMP:20260421T173922
CREATED:20240327T163746Z
LAST-MODIFIED:20240409T165600Z
UID:1602-1712419200-1712422800@erdkultura.hu
SUMMARY:Családi Táncház a Korinda zenekarral
DESCRIPTION:Családi Táncház a Korinda zenekarral
URL:https://erdkultura.hu/event/csaladi-tanchaz-a-korinda-zenekarral/
LOCATION:PARKVÁROS\, Gépész u. 14.\, Érd\, 2030\, Magyarország
CATEGORIES:előadás,Parkváros
ATTACH;FMTTYPE=image/png:https://erdkultura.hu/wp-content/uploads/2024/03/Csaladi-tanchaz-plakat-1.png
END:VEVENT
BEGIN:VEVENT
DTSTART;TZID=UTC:20240412T190000
DTEND;TZID=UTC:20240412T210000
DTSTAMP:20260421T173922
CREATED:20240327T164515Z
LAST-MODIFIED:20240409T165517Z
UID:1605-1712948400-1712955600@erdkultura.hu
SUMMARY:Önfejlesztő előadássorozat anyáknak Takács Nelétával! - A gyermeked betegségének lelki okai!
DESCRIPTION:Önfejlesztő előadássorozat anyáknak Takács Nelétával! -A gyermeked betegségének lelki \nokai! Miért beteg már megint? Mit tehetsz a hagyományos orvosláson túl\, hogy megelőzd a nyavalyát vagy “kigyógyítsd“ a gyerekedet belőle? \nÖnfejlesztő Előadássorozat indult anyukáknak Érden\, a Parkvárosi Közösség Házban! \n🗓️Minden hónap első péntek estéjén 19:15-21:15-ig! \n9 fontos témával várom az édesanyákat a gyerekneveléstől kezdve a párkapcsolati kényes témákon át az időmenedzsmenten túl és vissza:) \n🎉A következő előadást 2024.04.12-én tartjuk: \nA GYEREKED BETEGSÉGÉNEK LELKI OKAI címmel \nMiért beteg már megint? Mit tehetsz a hagyományos orvosláson túl\, hogy megelőzd a nyavalyát vagy “kigyógyítsd“ a gyerekedet belőle? \n🔵A vírus\, a baktérium és a közösség tények ugyan\, mégsem a betegség valódi kiváltó okai. Te is biztosan észrevetted már néhányszor az ezek mögött megbúvó ismétlődéseket\, és a családi élethelyzetekkel kapcsolatos összefüggéseket. \n🔵Minden gyerek betegségnek megvan a lelki oka\, amely fontos üzenet anyának. Ennek kódolását fogom megtanítani neked! Az előadáson elmondom\, hogy milyen hibákat követsz el anyaként\, amivel tulajdonképpen újra és újra „bevonzátok” a betegséget. \n🔵Így a következő évben egyre kevesebb betegség fogja megnehezíteni a mindennapjaitokat! Ráadásul sokkal magabiztosabb és nyugodtabb leszel anyaként! \n➡️Részletek és regisztráció ezen az oldalon⬅️\nhttps://neleta.hu/egeszsegesgyerek2024 \n➡️További előadások:\nhttps://neleta.hu/erdieloadasok2024 \nIngyenes!
URL:https://erdkultura.hu/event/onfejleszto-eloadassorozat-anyaknak-takacs-neletaval-a-gyermeked-betegsegenek-lelki-okai/
LOCATION:PARKVÁROS\, Gépész u. 14.\, Érd\, 2030\, Magyarország
CATEGORIES:előadás,Parkváros
ATTACH;FMTTYPE=image/png:https://erdkultura.hu/wp-content/uploads/2024/03/Web-kep-13.png
END:VEVENT
BEGIN:VEVENT
DTSTART;TZID=UTC:20240413T090000
DTEND;TZID=UTC:20240413T170000
DTSTAMP:20260421T173922
CREATED:20240327T165546Z
LAST-MODIFIED:20240409T165513Z
UID:1608-1712998800-1713027600@erdkultura.hu
SUMMARY:Festőklub felnőtteknek
DESCRIPTION:Festőklub felnőtteknek (Minden hónap 2. szombat délelőtt) A foglalkozásra 14+ korosztályból várom szeretettel az alkotásra nyitott Hölgyeket és Urakat.\nMi vár Rád a festőklubon?\n– 1 konkrét (mindig más) akrilfestési technika bemutatása és gyakorlása\n– rajzolási technikád fejlődése\n– gyönyörű színek kikeverése\n– saját festményed megalkotása az alapozástól az utolsó ecsetvonásokig\n– egyedi figyelem és segítség\n– kellemes\, családias hangulat\n– 4 órányi teljes kikapcsolódás\, feltöltődés\n– sikerélmény\, mely egy általad vászonra festett alkotás képében kacsint vissza Rád\nE festőklubon a teljesen kezdők és gyakorlottabbak is megtalálják az örömöt és a kihívást! \nJelentkezni Szegedy Tamaránál lehet\, a 20/226-2853 telefonszámon vagy info@bohemkuckom.hu címen. \n 
URL:https://erdkultura.hu/event/festoklub-felnotteknek-2/
LOCATION:PARKVÁROS\, Gépész u. 14.\, Érd\, 2030\, Magyarország
CATEGORIES:Parkváros,tanfolyam
ATTACH;FMTTYPE=image/jpeg:https://erdkultura.hu/wp-content/uploads/2024/03/Esemenykep_0413.jpg
END:VEVENT
BEGIN:VEVENT
DTSTART;TZID=UTC:20240413T163000
DTEND;TZID=UTC:20240413T170000
DTSTAMP:20260421T173922
CREATED:20240327T170021Z
LAST-MODIFIED:20240409T165438Z
UID:1619-1713025800-1713027600@erdkultura.hu
SUMMARY:Mesedélután kézműveskedéssel
DESCRIPTION:Mesedélután kézműveskedéssel. Ismételten Mesedélután a Parkvárosi Közösségi Házban!\nÁprilisban újra várjuk a gyerekeket egy közös mesehallgatásra és kézműves foglalkozásra. Mesemondó: Kissné Matkó Gabriella\nAz esemény ingyenes! HÁROM ÉVES KORTÓL AJÁNLOTT!\nFIGYELEM: A nagy érdeklődésre való tekintettel\, REGISZTRÁCIÓ szükséges!!!\nRegisztráció: 06-23-746118 vagy keszei.virag@szepesmk.hu Ingyenes!
URL:https://erdkultura.hu/event/mesedelutan-kezmuveskedessel/
LOCATION:PARKVÁROS\, Gépész u. 14.\, Érd\, 2030\, Magyarország
CATEGORIES:előadás,Parkváros
ATTACH;FMTTYPE=image/png:https://erdkultura.hu/wp-content/uploads/2024/03/Web-kep-14.png
END:VEVENT
BEGIN:VEVENT
DTSTART;TZID=UTC:20240416T100000
DTEND;TZID=UTC:20240416T120000
DTSTAMP:20260421T173922
CREATED:20240327T172115Z
LAST-MODIFIED:20240409T165403Z
UID:1622-1713261600-1713268800@erdkultura.hu
SUMMARY:Senior Társasjáték és Kártya Klub (Idősügyi program)
DESCRIPTION:
URL:https://erdkultura.hu/event/senior-tarsasjatek-es-kartya-klub-idosugyi-program/
LOCATION:PARKVÁROS\, Gépész u. 14.\, Érd\, 2030\, Magyarország
CATEGORIES:Idősprogram,Parkváros
ATTACH;FMTTYPE=image/png:https://erdkultura.hu/wp-content/uploads/2024/03/Web-kep-15.png
END:VEVENT
BEGIN:VEVENT
DTSTART;TZID=UTC:20240417T100000
DTEND;TZID=UTC:20240417T170000
DTSTAMP:20260421T173922
CREATED:20240327T172236Z
LAST-MODIFIED:20240409T165352Z
UID:1625-1713348000-1713373200@erdkultura.hu
SUMMARY:Senior Könyvklub – Umberto Eco: A rózsa neve (Idősügyi program)
DESCRIPTION:
URL:https://erdkultura.hu/event/senior-konyvklub-umberto-eco-a-rozsa-neve-idosugyi-program/
LOCATION:PARKVÁROS\, Gépész u. 14.\, Érd\, 2030\, Magyarország
CATEGORIES:Idősprogram,Parkváros
ATTACH;FMTTYPE=image/png:https://erdkultura.hu/wp-content/uploads/2024/03/Web-kep-16.png
END:VEVENT
BEGIN:VEVENT
DTSTART;TZID=UTC:20240420T150000
DTEND;TZID=UTC:20240420T170000
DTSTAMP:20260421T173922
CREATED:20240327T173007Z
LAST-MODIFIED:20240409T165304Z
UID:1631-1713625200-1713632400@erdkultura.hu
SUMMARY:Fotókiállítás a Föld Napja alkalmából - A Mi Szigetünk
DESCRIPTION:Fotókiállítás a Föld Napja alkalmából-A MI SZIGETÜNK (Élet a Beliczay- szigeten) Négy amatőr fotós\, Belicai-szigeten készült fotóinak anyagából áll össze a kiállítás. Köszöntőt mond\, Csőzik László polgármester. Megnyitja\, Palkó Zsolt az Érdi Környezetvédő és Városszépítő Egyesület elnöke. 
URL:https://erdkultura.hu/event/fotokiallitas-a-fold-napja-alkalmabol-a-mi-szigetunk/
LOCATION:PARKVÁROS\, Gépész u. 14.\, Érd\, 2030\, Magyarország
CATEGORIES:kiállítás,Parkváros
ATTACH;FMTTYPE=image/jpeg:https://erdkultura.hu/wp-content/uploads/2024/03/IMG_0158-scaled.jpg
END:VEVENT
BEGIN:VEVENT
DTSTART;TZID=UTC:20240420T190000
DTEND;TZID=UTC:20240420T210000
DTSTAMP:20260421T173922
CREATED:20240327T172756Z
LAST-MODIFIED:20240409T165007Z
UID:1628-1713639600-1713646800@erdkultura.hu
SUMMARY:Úgy táncolnék veled!
DESCRIPTION:Úgy táncolnék veled! Tánclehetőség egyedülállóknak és pároknak. Sajátítsátok el közismert táncok alapjait ismét egy fergeteges táncesten! 🥳\nSzéchenyi Petra és Széchenyi Krisztián mindketten a Táncművészeti Egyetemen végzett professzionális táncművészek\, akik Kanadától Japánig áttáncolták a világot és most itt vannak\, hogy nektek is tanítsanak néhány lépést.\nRoki\, salsa\, keringő\, tangó vagy esetleg disco?\nGyertek és kóstoljatok bele a különböző stílusokba\, hogy a következő buliban már ti lehessetek a táncparkett ördögei! Érdeklődés: +36703239285 \,díj: 2500 Ft/fő
URL:https://erdkultura.hu/event/ugy-tancolnek-veled-2/
LOCATION:PARKVÁROS\, Gépész u. 14.\, Érd\, 2030\, Magyarország
CATEGORIES:Parkváros,tanfolyam
ATTACH;FMTTYPE=image/png:https://erdkultura.hu/wp-content/uploads/2024/03/Web-kep-18.png
END:VEVENT
BEGIN:VEVENT
DTSTART;TZID=UTC:20240421T170000
DTEND;TZID=UTC:20240421T190000
DTSTAMP:20260421T173922
CREATED:20240410T122118Z
LAST-MODIFIED:20240410T122118Z
UID:1734-1713718800-1713726000@erdkultura.hu
SUMMARY:Az Esterházy udvar zenéje
DESCRIPTION:Az Érdi Harmónia Vegyeskar szeretettel hívja Önt és kedves Családját az Esterházy udvar zenéje című hangversenyére.\n\nMűsor:\nEsterházy Pál (1635-1713): Ascendit Deus in iubilo\n„Adta isten ez világra gróf Eszterhás Palköt…”\nEsterházy Pál: Maria\, fons aquae vivae; O\, Maria gratiosa\nKocsár Miklós (1933-2019): Négy Mária ének\nMaria\, fons aquae vivae; O\, Maria gratiosa\nGregor Joseph Werner (1693-1766): Sub tuum praesidium\nJoseph Haydn (1732-1809): Missa Sancti Nicolai\, Credo\, Sanctus\n\nSzünet\n\nFranz Nikolaus Novotny (1732-1809) : Salve Regina\nJohann N. Hummel (1778-1837): O sacrum convivium\nJohann N. Fuchs (1842-1899): Salve Regina\nEsterházy Pál: Palas s Ester kedves tánca\nEsterházy Pál: Saule\, Saule\n\nA műsorban Altsach Gergely tolmácsolásában részletek hangzanak el az Esterházy család naplójából\, Esterházy Pál visszaemlékezéseiből\, levelezéséből\, verseiből\, valamint elhangzik Lackfi János „Pál uram lábnyomán ballagtomban szörzött énekek című ciklusából Az Isteni tekéntetről című vers\n\nA szünet után kerül sor az Esterházy rajzpályázat díjkiosztására\n\nKözreműködnek:\nHaász Csilla – szoprán\nRusznák Luca – alt\nAltsach Gergely – tenor\nRegenhart András – tenor\nCserményi Zsombor – basszus\nFaragó Balázs – basszus\nAmbrus Mátyás – basszus\nKovács Ensemble\nGabrieli Kiss József – continuo\nzongorán – orgonán közreműködik:\nNagy Márta KÓTA-díjas zongoraművész\nvezényel:\nVinczeffy Adrienne Artisjus-\, Interkultur Hungaria -\,\nKÓTA Életműdíjas karnagy
URL:https://erdkultura.hu/event/az-esterhazy-udvar-zeneje/
LOCATION:PARKVÁROS\, Gépész u. 14.\, Érd\, 2030\, Magyarország
CATEGORIES:előadás,Parkváros,zene
ATTACH;FMTTYPE=image/png:https://erdkultura.hu/wp-content/uploads/2024/04/esterhazy.png
END:VEVENT
BEGIN:VEVENT
DTSTART;TZID=UTC:20240422T160000
DTEND;TZID=UTC:20240422T170000
DTSTAMP:20260421T173922
CREATED:20240327T173330Z
LAST-MODIFIED:20240409T164955Z
UID:1634-1713801600-1713805200@erdkultura.hu
SUMMARY:Föld Napja pályázat-Kiállítás megnyitó és díjátadó
DESCRIPTION:Föld Napja pályázat-Kiállítás megnyitó és díjátadó 
URL:https://erdkultura.hu/event/fold-napja-palyazat-kiallitas-megnyito-es-dijatado/
LOCATION:PARKVÁROS\, Gépész u. 14.\, Érd\, 2030\, Magyarország
CATEGORIES:kiállítás,Parkváros
ATTACH;FMTTYPE=image/png:https://erdkultura.hu/wp-content/uploads/2024/03/Web-kep-19.png
END:VEVENT
BEGIN:VEVENT
DTSTART;TZID=UTC:20240425T110000
DTEND;TZID=UTC:20240425T130000
DTSTAMP:20260421T173922
CREATED:20240327T173722Z
LAST-MODIFIED:20240409T164918Z
UID:1637-1714042800-1714050000@erdkultura.hu
SUMMARY:Szárnyaló Sólymok Haikucsoport
DESCRIPTION:
URL:https://erdkultura.hu/event/szarnyalo-solymok-haikucsoport/
LOCATION:PARKVÁROS\, Gépész u. 14.\, Érd\, 2030\, Magyarország
CATEGORIES:előadás,Parkváros
ATTACH;FMTTYPE=image/png:https://erdkultura.hu/wp-content/uploads/2024/03/Web-kep-20.png
END:VEVENT
BEGIN:VEVENT
DTSTART;TZID=UTC:20240425T140000
DTEND;TZID=UTC:20240425T170000
DTSTAMP:20260421T173922
CREATED:20240327T173925Z
LAST-MODIFIED:20240409T164910Z
UID:1640-1714053600-1714064400@erdkultura.hu
SUMMARY:Eszterlánc Klub
DESCRIPTION:Eszterlánc Klub. Minden hónap utolsó csütörtök délutánján\, változó zenés műsorral várja Szigeti Eszter a kikapcsolódásra vágyó érdeklődőket. A részvétel ingyenes!
URL:https://erdkultura.hu/event/eszterlanc-klub/
LOCATION:PARKVÁROS\, Gépész u. 14.\, Érd\, 2030\, Magyarország
CATEGORIES:előadás,Parkváros
ATTACH;FMTTYPE=image/jpeg:https://erdkultura.hu/wp-content/uploads/2024/03/1711469682181_xpsh3l_2_0.jpg
END:VEVENT
END:VCALENDAR