BEGIN:VCALENDAR
VERSION:2.0
PRODID:-//ÉrdKultúra - ECPv6.8.0//NONSGML v1.0//EN
CALSCALE:GREGORIAN
METHOD:PUBLISH
X-ORIGINAL-URL:https://erdkultura.hu
X-WR-CALDESC:Events for ÉrdKultúra
REFRESH-INTERVAL;VALUE=DURATION:PT1H
X-Robots-Tag:noindex
X-PUBLISHED-TTL:PT1H
BEGIN:VTIMEZONE
TZID:UTC
BEGIN:STANDARD
TZOFFSETFROM:+0000
TZOFFSETTO:+0000
TZNAME:UTC
DTSTART:20240101T000000
END:STANDARD
END:VTIMEZONE
BEGIN:VEVENT
DTSTART;TZID=UTC:20240323T163000
DTEND;TZID=UTC:20240323T190000
DTSTAMP:20260421T190153
CREATED:20240306T145832Z
LAST-MODIFIED:20240409T165701Z
UID:1297-1711211400-1711220400@erdkultura.hu
SUMMARY:Kiállításmegnyitó
DESCRIPTION:FOLTHALOM\nFoltvarró klub kiállítása\nMegnyitja: Pogány Gyula\nKözreműködik: Tarnócziné Barabás Irén és Tolvaj Gábor\nMegtekinthető Április 18-ig.
URL:https://erdkultura.hu/event/kiallitasmegnyito/
LOCATION:PARKVÁROS\, Gépész u. 14.\, Érd\, 2030\, Magyarország
CATEGORIES:kiállítás,Parkváros
ATTACH;FMTTYPE=image/jpeg:https://erdkultura.hu/wp-content/uploads/2024/03/430471458_421235890418014_7043355918217353636_n.jpg
END:VEVENT
END:VCALENDAR