BEGIN:VCALENDAR
VERSION:2.0
PRODID:-//ÉrdKultúra - ECPv6.8.0//NONSGML v1.0//EN
CALSCALE:GREGORIAN
METHOD:PUBLISH
X-ORIGINAL-URL:https://erdkultura.hu
X-WR-CALDESC:Events for ÉrdKultúra
REFRESH-INTERVAL;VALUE=DURATION:PT1H
X-Robots-Tag:noindex
X-PUBLISHED-TTL:PT1H
BEGIN:VTIMEZONE
TZID:UTC
BEGIN:STANDARD
TZOFFSETFROM:+0000
TZOFFSETTO:+0000
TZNAME:UTC
DTSTART:20250101T000000
END:STANDARD
END:VTIMEZONE
BEGIN:VEVENT
DTSTART;TZID=UTC:20250623T080000
DTEND;TZID=UTC:20250915T170000
DTSTAMP:20260419T222200
CREATED:20250603T122509Z
LAST-MODIFIED:20250603T122509Z
UID:4997-1750665600-1757955600@erdkultura.hu
SUMMARY:Parkvárosi Fiókkönyvtár és a Jószomszédság Könyvtára: Nyári olvasási kihívás Részletek: honlapunkon és Facebook oldalunkon
DESCRIPTION:
URL:https://erdkultura.hu/event/parkvarosi-fiokkonyvtar-es-a-joszomszedsag-konyvtara-nyari-olvasasi-kihivas-reszletek-honlapunkon-es-facebook-oldalunkon/
CATEGORIES:Könyvtár
END:VEVENT
BEGIN:VEVENT
DTSTART;TZID=UTC:20250623T080000
DTEND;TZID=UTC:20250915T170000
DTSTAMP:20260419T222200
CREATED:20250603T122430Z
LAST-MODIFIED:20250603T122430Z
UID:4995-1750665600-1757955600@erdkultura.hu
SUMMARY:Gyermekkönyvtár: Nyári olvasási kihívás: 8 könyv – 8 kaland Részletek: honlapunkon és Facebook oldalunkon
DESCRIPTION:
URL:https://erdkultura.hu/event/gyermekkonyvtar-nyari-olvasasi-kihivas-8-konyv-8-kaland-reszletek-honlapunkon-es-facebook-oldalunkon/
CATEGORIES:Könyvtár
END:VEVENT
BEGIN:VEVENT
DTSTART;TZID=UTC:20250606T101500
DTEND;TZID=UTC:20250606T113000
DTSTAMP:20260419T222200
CREATED:20250603T122316Z
LAST-MODIFIED:20250603T122316Z
UID:4993-1749204900-1749209400@erdkultura.hu
SUMMARY:A Jószomszédság Könyvtára: Hogy szeressék a könyveket: Óvoda előtt álló kisgyerekek és szülők klubja
DESCRIPTION:
URL:https://erdkultura.hu/event/a-joszomszedsag-konyvtara-hogy-szeressek-a-konyveket-ovoda-elott-allo-kisgyerekek-es-szulok-klubja-2/
CATEGORIES:előadás,Könyvtár
END:VEVENT
BEGIN:VEVENT
DTSTART;TZID=UTC:20250530T080000
DTEND;TZID=UTC:20250530T170000
DTSTAMP:20260419T222200
CREATED:20250424T130207Z
LAST-MODIFIED:20250424T130339Z
UID:4841-1748592000-1748624400@erdkultura.hu
SUMMARY:A Jószomszédság Könyvtára: Olvasó-olvasó találkozó: jöjjenek el hozzánk\, és beszélgessünk egy jót olvasmányainkról
DESCRIPTION:
URL:https://erdkultura.hu/event/a-joszomszedsag-konyvtara-olvaso-olvaso-talalkozo-jojjenek-el-hozzank-es-beszelgessunk-egy-jot-olvasmanyainkrol-3/
CATEGORIES:Könyvtár
END:VEVENT
BEGIN:VEVENT
DTSTART;TZID=UTC:20250530T080000
DTEND;TZID=UTC:20250530T170000
DTSTAMP:20260419T222200
CREATED:20250424T130139Z
LAST-MODIFIED:20250424T130139Z
UID:4839-1748592000-1748624400@erdkultura.hu
SUMMARY:A Jószomszédság Könyvtára: Gyermeknapi kézműveskedés
DESCRIPTION:
URL:https://erdkultura.hu/event/a-joszomszedsag-konyvtara-gyermeknapi-kezmuveskedes/
CATEGORIES:Könyvtár
END:VEVENT
BEGIN:VEVENT
DTSTART;TZID=UTC:20250526T080000
DTEND;TZID=UTC:20250526T170000
DTSTAMP:20260419T222200
CREATED:20250424T130034Z
LAST-MODIFIED:20250424T130034Z
UID:4837-1748246400-1748278800@erdkultura.hu
SUMMARY:Parkvárosi Fiókkönyvtár: Gyermeknapi mesés nap + kézműveskedés
DESCRIPTION:
URL:https://erdkultura.hu/event/parkvarosi-fiokkonyvtar-gyermeknapi-meses-nap-kezmuveskedes/
CATEGORIES:Könyvtár
END:VEVENT
BEGIN:VEVENT
DTSTART;TZID=UTC:20250524T140000
DTEND;TZID=UTC:20250524T170000
DTSTAMP:20260419T222200
CREATED:20250424T125952Z
LAST-MODIFIED:20250424T125952Z
UID:4835-1748095200-1748106000@erdkultura.hu
SUMMARY:Gyermekkönyvtár: Részvétel a Városi Gyermeknapon
DESCRIPTION:
URL:https://erdkultura.hu/event/gyermekkonyvtar-reszvetel-a-varosi-gyermeknapon/
CATEGORIES:Könyvtár
END:VEVENT
BEGIN:VEVENT
DTSTART;TZID=UTC:20250522T170000
DTEND;TZID=UTC:20250522T193000
DTSTAMP:20260419T222200
CREATED:20250423T095937Z
LAST-MODIFIED:20250423T095937Z
UID:4771-1747933200-1747942200@erdkultura.hu
SUMMARY:Téma a sorok között!
DESCRIPTION:Beszélgetések könyvekről és az élet nagy kérdéseiről irodalmi élményeinken keresztül   \nHelyszín: Csuka Zoltán Városi Könyvtár (Hivatalnok utca 12.)  \n  \nA program az „Idősen\, aktívan\, Érden” programsorozat keretében kerül megrendezésre.  \n A részvétel ingyenes.  \nA szervezők a programváltozás jogát fenntartják.\nA programon résztvevők elfogadják a házirendet\, valamint elfogadják\, hogy a programon készült kép-\, hang- és videofelvételt a szervezők saját nyilvános felületeiken\, illetve egyéb médiafelületeken való megjelenés során felhasználhatnak. 
URL:https://erdkultura.hu/event/tema-a-sorok-kozott/
LOCATION:SZEPES\, Alsó u. 9.\, Érd\, 2030\, Magyarország
CATEGORIES:előadás,Idősprogram,Könyvtár
ATTACH;FMTTYPE=image/png:https://erdkultura.hu/wp-content/uploads/2025/02/Web-kep-50.png
END:VEVENT
BEGIN:VEVENT
DTSTART;TZID=UTC:20250522T170000
DTEND;TZID=UTC:20250522T190000
DTSTAMP:20260419T222200
CREATED:20250424T125920Z
LAST-MODIFIED:20250424T125920Z
UID:4833-1747933200-1747940400@erdkultura.hu
SUMMARY:Felnőttkönyvtár: Téma a sorok között: Évszakok - tavasz Beszélgetések könyvekről és az élet nagy kérdéseiről irodalmi élményeinken keresztül
DESCRIPTION:A találkozót vezeti: Somfainé Szűcs Mária \nA Szepes Gyula Művelődési Központ és a CSZVK közös programja \nBővebb információ a www.csukalib.hu oldalon
URL:https://erdkultura.hu/event/felnottkonyvtar-tema-a-sorok-kozott-evszakok-tavasz-beszelgetesek-konyvekrol-es-az-elet-nagy-kerdeseirol-irodalmi-elmenyeinken-keresztul/
CATEGORIES:Könyvtár
END:VEVENT
BEGIN:VEVENT
DTSTART;TZID=UTC:20250520T160000
DTEND;TZID=UTC:20250520T170000
DTSTAMP:20260419T222200
CREATED:20250424T125801Z
LAST-MODIFIED:20250424T125801Z
UID:4831-1747756800-1747760400@erdkultura.hu
SUMMARY:Gyermekkönyvtár: Internetes játék eredményhirdetése + Családi délután
DESCRIPTION:
URL:https://erdkultura.hu/event/gyermekkonyvtar-internetes-jatek-eredmenyhirdetese-csaladi-delutan/
CATEGORIES:Könyvtár
END:VEVENT
BEGIN:VEVENT
DTSTART;TZID=UTC:20250509T101500
DTEND;TZID=UTC:20250509T113000
DTSTAMP:20260419T222200
CREATED:20250424T125437Z
LAST-MODIFIED:20250424T125437Z
UID:4829-1746785700-1746790200@erdkultura.hu
SUMMARY:A Jószomszédság Könyvtára: Hogy szeressék a könyveket: Óvoda előtt álló kisgyerekek és szülők klubja
DESCRIPTION:
URL:https://erdkultura.hu/event/a-joszomszedsag-konyvtara-hogy-szeressek-a-konyveket-ovoda-elott-allo-kisgyerekek-es-szulok-klubja/
CATEGORIES:Könyvtár
END:VEVENT
BEGIN:VEVENT
DTSTART;TZID=UTC:20250507T170000
DTEND;TZID=UTC:20250507T190000
DTSTAMP:20260419T222200
CREATED:20250424T124444Z
LAST-MODIFIED:20250424T124444Z
UID:4827-1746637200-1746644400@erdkultura.hu
SUMMARY:Felnőttkönyvtár: Az autizmusról mindenkinek Előadó: Kákonyi Elizabeta gyógypedagógus
DESCRIPTION:
URL:https://erdkultura.hu/event/felnottkonyvtar-az-autizmusrol-mindenkinek-eloado-kakonyi-elizabeta-gyogypedagogus/
CATEGORIES:Könyvtár
END:VEVENT
BEGIN:VEVENT
DTSTART;TZID=UTC:20250507T110000
DTEND;TZID=UTC:20250507T120000
DTSTAMP:20260419T222200
CREATED:20250424T124319Z
LAST-MODIFIED:20250424T124319Z
UID:4825-1746615600-1746619200@erdkultura.hu
SUMMARY:Gyermekkönyvtár: Vadadi Adrienn – interaktív író-olvasó találkozó óvodásoknak és kisiskolásoknak
DESCRIPTION:
URL:https://erdkultura.hu/event/gyermekkonyvtar-vadadi-adrienn-interaktiv-iro-olvaso-talalkozo-ovodasoknak-es-kisiskolasoknak-2/
CATEGORIES:Könyvtár
END:VEVENT
BEGIN:VEVENT
DTSTART;TZID=UTC:20250507T100000
DTEND;TZID=UTC:20250507T120000
DTSTAMP:20260419T222200
CREATED:20250424T124309Z
LAST-MODIFIED:20250424T124309Z
UID:4823-1746612000-1746619200@erdkultura.hu
SUMMARY:Gyermekkönyvtár: Vadadi Adrienn – interaktív író-olvasó találkozó óvodásoknak és kisiskolásoknak
DESCRIPTION:
URL:https://erdkultura.hu/event/gyermekkonyvtar-vadadi-adrienn-interaktiv-iro-olvaso-talalkozo-ovodasoknak-es-kisiskolasoknak/
CATEGORIES:Könyvtár
END:VEVENT
BEGIN:VEVENT
DTSTART;TZID=UTC:20250428T080000
DTEND;TZID=UTC:20250428T170000
DTSTAMP:20260419T222200
CREATED:20250321T121949Z
LAST-MODIFIED:20250321T121949Z
UID:4468-1745827200-1745859600@erdkultura.hu
SUMMARY:Parkvárosi Fiókkönyvtár: A Föld napja: kézműveskedés egész nap
DESCRIPTION:
URL:https://erdkultura.hu/event/parkvarosi-fiokkonyvtar-a-fold-napja-kezmuveskedes-egesz-nap/
CATEGORIES:előadás,Könyvtár
END:VEVENT
BEGIN:VEVENT
DTSTART;TZID=UTC:20250425T100000
DTEND;TZID=UTC:20250425T120000
DTSTAMP:20260419T222200
CREATED:20250321T121831Z
LAST-MODIFIED:20250321T121838Z
UID:4464-1745575200-1745582400@erdkultura.hu
SUMMARY:A Jószomszédság Könyvtára: Olvasó-olvasó találkozó: jöjjenek el hozzánk\, és beszélgessünk egy jót olvasmányainkról!  Előzetes bejelentkezés NEM szükséges!
DESCRIPTION:
URL:https://erdkultura.hu/event/a-joszomszedsag-konyvtara-olvaso-olvaso-talalkozo-jojjenek-el-hozzank-es-beszelgessunk-egy-jot-olvasmanyainkrol-elozetes-bejelentkezes-nem-szukseges/
CATEGORIES:előadás,kiállítás,Könyvtár
END:VEVENT
BEGIN:VEVENT
DTSTART;TZID=UTC:20250425T080000
DTEND;TZID=UTC:20250425T170000
DTSTAMP:20260419T222200
CREATED:20250321T121917Z
LAST-MODIFIED:20250321T121917Z
UID:4466-1745568000-1745600400@erdkultura.hu
SUMMARY:A Jószomszédság Könyvtára: A Föld napja: kézműveskedés egész nap
DESCRIPTION:
URL:https://erdkultura.hu/event/a-joszomszedsag-konyvtara-a-fold-napja-kezmuveskedes-egesz-nap/
CATEGORIES:előadás,Könyvtár
END:VEVENT
BEGIN:VEVENT
DTSTART;TZID=UTC:20250424T170000
DTEND;TZID=UTC:20250424T190000
DTSTAMP:20260419T222200
CREATED:20250321T121642Z
LAST-MODIFIED:20250321T121642Z
UID:4462-1745514000-1745521200@erdkultura.hu
SUMMARY:Felnőttkönyvtár: Téma a sorok között: Irodalmi anekdoták
DESCRIPTION:
URL:https://erdkultura.hu/event/felnottkonyvtar-tema-a-sorok-kozott-irodalmi-anekdotak/
CATEGORIES:előadás,Könyvtár
END:VEVENT
BEGIN:VEVENT
DTSTART;TZID=UTC:20250415T100000
DTEND;TZID=UTC:20250516T110000
DTSTAMP:20260419T222200
CREATED:20250321T121503Z
LAST-MODIFIED:20250321T121507Z
UID:4460-1744711200-1747393200@erdkultura.hu
SUMMARY:Gyermekkönyvtár: Tavaszi hangszerbemutatók a Lukin László AMI tanáraival
DESCRIPTION:
URL:https://erdkultura.hu/event/gyermekkonyvtar-tavaszi-hangszerbemutatok-a-lukin-laszlo-ami-tanaraival/
CATEGORIES:előadás,Könyvtár
END:VEVENT
BEGIN:VEVENT
DTSTART;TZID=UTC:20250414T100000
DTEND;TZID=UTC:20250414T110000
DTSTAMP:20260419T222200
CREATED:20250321T121406Z
LAST-MODIFIED:20250321T121406Z
UID:4458-1744624800-1744628400@erdkultura.hu
SUMMARY:Parkvárosi Fiókkönyvtár: Tavaszi hangszerbemutatók a Lukin László AMI tanáraival
DESCRIPTION:
URL:https://erdkultura.hu/event/parkvarosi-fiokkonyvtar-tavaszi-hangszerbemutatok-a-lukin-laszlo-ami-tanaraival/
CATEGORIES:előadás,Könyvtár
END:VEVENT
BEGIN:VEVENT
DTSTART;TZID=UTC:20250410T180000
DTEND;TZID=UTC:20250410T190000
DTSTAMP:20260419T222200
CREATED:20250321T121321Z
LAST-MODIFIED:20250321T121321Z
UID:4456-1744308000-1744311600@erdkultura.hu
SUMMARY:Felnőttkönyvtár: Lookin’ Jazz: Interjú Esze Zsolttal Aki kérdez: Bögöthy Ádám
DESCRIPTION:
URL:https://erdkultura.hu/event/felnottkonyvtar-lookin-jazz-interju-esze-zsolttal-aki-kerdez-bogothy-adam/
CATEGORIES:előadás,Könyvtár,közönségtalálkozó
END:VEVENT
BEGIN:VEVENT
DTSTART;TZID=UTC:20250410T080000
DTEND;TZID=UTC:20250418T170000
DTSTAMP:20260419T222200
CREATED:20250321T121157Z
LAST-MODIFIED:20250405T183802Z
UID:4452-1744272000-1744995600@erdkultura.hu
SUMMARY:A Magyar Költészet Napja: Nyomozz velünk József Attila versei után!
DESCRIPTION:
URL:https://erdkultura.hu/event/a-magyar-kolteszet-napja-nyomozz-velunk-jozsef-attila-versei-utan/
CATEGORIES:előadás,Könyvtár
END:VEVENT
BEGIN:VEVENT
DTSTART;TZID=UTC:20250409T150000
DTEND;TZID=UTC:20250409T170000
DTSTAMP:20260419T222200
CREATED:20250321T121233Z
LAST-MODIFIED:20250321T121233Z
UID:4454-1744210800-1744218000@erdkultura.hu
SUMMARY:Gyermekkönyvtár: A Költészet napi rajzpályázat eredményhirdetése
DESCRIPTION:
URL:https://erdkultura.hu/event/gyermekkonyvtar-a-kolteszet-napi-rajzpalyazat-eredmenyhirdetese/
CATEGORIES:Könyvtár
END:VEVENT
BEGIN:VEVENT
DTSTART;TZID=UTC:20250404T101500
DTEND;TZID=UTC:20250404T113000
DTSTAMP:20260419T222200
CREATED:20250321T121050Z
LAST-MODIFIED:20250321T121050Z
UID:4450-1743761700-1743766200@erdkultura.hu
SUMMARY:A Jószomszédság Könyvtára: Hogy szeressék a könyveket… : Óvoda előtt álló kisgyerekek és szülők játszóköre
DESCRIPTION:
URL:https://erdkultura.hu/event/a-joszomszedsag-konyvtara-hogy-szeressek-a-konyveket-ovoda-elott-allo-kisgyerekek-es-szulok-jatszokore/
CATEGORIES:előadás,Könyvtár
END:VEVENT
BEGIN:VEVENT
DTSTART;TZID=UTC:20250328T100000
DTEND;TZID=UTC:20250328T120000
DTSTAMP:20260419T222200
CREATED:20250228T114832Z
LAST-MODIFIED:20250228T114832Z
UID:4206-1743156000-1743163200@erdkultura.hu
SUMMARY:A Jószomszédság Könyvtára: Olvasó-olvasó találkozó: jöjjenek el hozzánk\, és beszélgessünk egy jót olvasmányainkról!
DESCRIPTION:
URL:https://erdkultura.hu/event/a-joszomszedsag-konyvtara-olvaso-olvaso-talalkozo-jojjenek-el-hozzank-es-beszelgessunk-egy-jot-olvasmanyainkrol-2/
CATEGORIES:előadás,Könyvtár
END:VEVENT
BEGIN:VEVENT
DTSTART;TZID=UTC:20250327T170000
DTEND;TZID=UTC:20250327T190000
DTSTAMP:20260419T222200
CREATED:20250228T114756Z
LAST-MODIFIED:20250228T114756Z
UID:4204-1743094800-1743102000@erdkultura.hu
SUMMARY:Felnőttkönyvtár: Téma a sorok között: Utazás.  Beszélgetések könyvekről és az élet nagy kérdéseiről irodalmi élményeinken keresztül
DESCRIPTION:Felnőttkönyvtár: \nTéma a sorok között: Utazás. \nBeszélgetések könyvekről és az élet nagy kérdéseiről irodalmi élményeinken keresztül \nA találkozót vezeti: Somfainé Szűcs Mária \nA Szepes Gyula Művelődési Központ és a CSZVK közös programja \nBővebb információ a www.csukalib.hu oldalon
URL:https://erdkultura.hu/event/felnottkonyvtar-tema-a-sorok-kozott-utazas-beszelgetesek-konyvekrol-es-az-elet-nagy-kerdeseirol-irodalmi-elmenyeinken-keresztul/
CATEGORIES:előadás,Idősprogram,kiállítás,Könyvtár,tanfolyam
END:VEVENT
BEGIN:VEVENT
DTSTART;TZID=UTC:20250326T170000
DTEND;TZID=UTC:20250326T190000
DTSTAMP:20260419T222200
CREATED:20250228T114657Z
LAST-MODIFIED:20250228T114657Z
UID:4202-1743008400-1743015600@erdkultura.hu
SUMMARY:Felnőttkönyvtár: Cserni András: Isten Kardja c. kötetének bemutatója (A sötét sorsok trilógia zárókötete)
DESCRIPTION:
URL:https://erdkultura.hu/event/felnottkonyvtar-cserni-andras-isten-kardja-c-kotetenek-bemutatoja-a-sotet-sorsok-trilogia-zarokotete/
CATEGORIES:előadás,Könyvtár,tanfolyam
END:VEVENT
BEGIN:VEVENT
DTSTART;TZID=UTC:20250320T080000
DTEND;TZID=UTC:20250327T170000
DTSTAMP:20260419T222200
CREATED:20250228T114614Z
LAST-MODIFIED:20250228T114614Z
UID:4200-1742457600-1743094800@erdkultura.hu
SUMMARY:Internet Fiesta (országos könyvtári program)
DESCRIPTION:Az Internet Society és az Európai Unió Cordis programja 1999-től hirdette meg az Internet Fiesta programját\, aminek célja az internet minél szélesebb körben történő népszerűsítése volt. \nMagyarország 2000-től kapcsolódik a nemzetközi programsorozathoz\, a könyvtárak rövidesen a magyar Internet Fiesta motorjai lettek. A programok célja kiegészült a digitális írástudás terjesztésével és az internet felhasználási lehetőségeinek minél szélesebb körű bemutatásával. \nGyermekkönyvtár: \nInternet Fiesta: a digitális írástudáshoz kapcsolódó könyvkiemelés \n  \nFelnőttkönyvtár: \nInternet Fiesta (országos könyvtári program): \n\nKvízjáték az online világról a mesterséges intelligencia által készített ajándék könyvjelzőkért\nSzabadulószoba a Facebookon\nMurphy a könyvtárban – szórakoztató összeállítás közösségi felületeinken
URL:https://erdkultura.hu/event/internet-fiesta-orszagos-konyvtari-program/
CATEGORIES:előadás,film,kiállítás,Könyvtár,közönségtalálkozó,tanfolyam
END:VEVENT
BEGIN:VEVENT
DTSTART;TZID=UTC:20250314T080000
DTEND;TZID=UTC:20250314T170000
DTSTAMP:20260419T222200
CREATED:20250228T114451Z
LAST-MODIFIED:20250228T114451Z
UID:4198-1741939200-1741971600@erdkultura.hu
SUMMARY:A Jószomszédság Könyvtára: Március 15-i emléknap – könyvkiemelések\, kézműveskedés
DESCRIPTION:
URL:https://erdkultura.hu/event/a-joszomszedsag-konyvtara-marcius-15-i-emleknap-konyvkiemelesek-kezmuveskedes/
CATEGORIES:előadás,kiállítás,Könyvtár
END:VEVENT
BEGIN:VEVENT
DTSTART;TZID=UTC:20250313T080000
DTEND;TZID=UTC:20250313T170000
DTSTAMP:20260419T222200
CREATED:20250228T114418Z
LAST-MODIFIED:20250228T114418Z
UID:4196-1741852800-1741885200@erdkultura.hu
SUMMARY:Parkvárosi Fiókkönyvtár: Március 15-i emléknap – könyvkiemelések\, kézműveskedés
DESCRIPTION:
URL:https://erdkultura.hu/event/parkvarosi-fiokkonyvtar-marcius-15-i-emleknap-konyvkiemelesek-kezmuveskedes/
CATEGORIES:előadás,Könyvtár
END:VEVENT
END:VCALENDAR