BEGIN:VCALENDAR
VERSION:2.0
PRODID:-//ÉrdKultúra - ECPv6.8.0//NONSGML v1.0//EN
CALSCALE:GREGORIAN
METHOD:PUBLISH
X-ORIGINAL-URL:https://erdkultura.hu
X-WR-CALDESC:Events for ÉrdKultúra
REFRESH-INTERVAL;VALUE=DURATION:PT1H
X-Robots-Tag:noindex
X-PUBLISHED-TTL:PT1H
BEGIN:VTIMEZONE
TZID:UTC
BEGIN:STANDARD
TZOFFSETFROM:+0000
TZOFFSETTO:+0000
TZNAME:UTC
DTSTART:20250101T000000
END:STANDARD
END:VTIMEZONE
BEGIN:VEVENT
DTSTART;TZID=UTC:20260121T100000
DTEND;TZID=UTC:20260121T110000
DTSTAMP:20260419T190208
CREATED:20260212T130947Z
LAST-MODIFIED:20260212T130947Z
UID:7289-1768989600-1768993200@erdkultura.hu
SUMMARY:Gyermekkönyvtár: Bölöni Réka bábelőadása: A kis róka nagy kalandja
DESCRIPTION:GYERMEKKÖNYVTÁR:\nBölöni Réka bábelőadása: A kis róka nagy kalandja\nA részvétel előzetes jelentkezéshez kötött:\n– gyk@csukalib.hu\n– 06 20/740 268 \nA szervezők a programváltozás jogát fenntartják.\nA programon résztvevők elfogadják a házirendet\, valamint elfogadják\, hogy a programon készült kép-\, hang- és videofelvételt a szervezők saját nyilvános felületeiken\, illetve egyéb médiafelületeken való megjelenés során felhasználhatnak.
URL:https://erdkultura.hu/event/gyermekkonyvtar-boloni-reka-babeloadasa-a-kis-roka-nagy-kalandja/
CATEGORIES:Könyvtár
END:VEVENT
BEGIN:VEVENT
DTSTART;TZID=UTC:20260114T140000
DTEND;TZID=UTC:20260114T150000
DTSTAMP:20260419T190208
CREATED:20260212T130742Z
LAST-MODIFIED:20260212T130742Z
UID:7287-1768399200-1768402800@erdkultura.hu
SUMMARY:Parkvárosi Fiókkönyvtár: Micimackó születésnapja – mesedélután
DESCRIPTION:PARKVÁROSI FIÓKKÖNYVTÁR:\nMicimackó születésnapja – mesedélután\nA részvétel előzetes jelentkezéshez kötött:\n– pvk@csukalib.hu\n– 06 23/746 118 \nA szervezők a programváltozás jogát fenntartják.\nA programon résztvevők elfogadják a házirendet\, valamint elfogadják\, hogy a programon készült kép-\, hang- és videofelvételt a szervezők saját nyilvános felületeiken\, illetve egyéb médiafelületeken való megjelenés során felhasználhatnak.
URL:https://erdkultura.hu/event/parkvarosi-fiokkonyvtar-micimacko-szuletesnapja-mesedelutan/
CATEGORIES:Könyvtár
END:VEVENT
BEGIN:VEVENT
DTSTART;TZID=UTC:20251217T170000
DTEND;TZID=UTC:20251217T190000
DTSTAMP:20260419T190209
CREATED:20251208T163231Z
LAST-MODIFIED:20251208T163231Z
UID:6670-1765990800-1765998000@erdkultura.hu
SUMMARY:FELNŐTTKÖNYVTÁR: Könyvbemutató
DESCRIPTION:Anton Carl Fischer: A szkíta-szarmata nevek és szavak magyarázata a magyar nyelvből\nA Magyarok Világszövetségének szervezésében.
URL:https://erdkultura.hu/event/felnottkonyvtar-konyvbemutato/
CATEGORIES:Könyvtár
END:VEVENT
BEGIN:VEVENT
DTSTART;TZID=UTC:20251211T170000
DTEND;TZID=UTC:20251211T180000
DTSTAMP:20260419T190209
CREATED:20251203T132609Z
LAST-MODIFIED:20251203T140604Z
UID:6619-1765472400-1765476000@erdkultura.hu
SUMMARY:Felnőttkönyvtár: Téma a sorok között: Decemberi téma: A család és a testvérkapcsolatok Ajánlott irodalom: Szabó Magda: Für Elise A beszélgetést Somfainé Szűcs Mária vezeti.
DESCRIPTION:Beszélgetések könyvekről és az élet nagy kérdéseiről irodalmi élményeken keresztül.Decemberi téma: A család és a testvérkapcsolatokAjánlott irodalom: Szabó Magda: Für EliseA beszélgetést Somfainé Szűcs Mária vezeti.
URL:https://erdkultura.hu/event/tema-a-sorok-kozott-4/
CATEGORIES:Idősprogram,Könyvtár
ATTACH;FMTTYPE=image/png:https://erdkultura.hu/wp-content/uploads/2025/12/tema-a-sorok-kozott.png
END:VEVENT
BEGIN:VEVENT
DTSTART;TZID=UTC:20251210T170000
DTEND;TZID=UTC:20251210T190000
DTSTAMP:20260419T190209
CREATED:20251208T162920Z
LAST-MODIFIED:20251208T162920Z
UID:6667-1765386000-1765393200@erdkultura.hu
SUMMARY:FELNŐTTKÖNYVTÁR: Karácsonyra hangolódás Gergely Róberttel
DESCRIPTION:Várunk mindenkit szeretettel az idei utolsó eseményünkre. Hangolódjunk együtt az ünnepekre Gergely Róbert koncertjével.
URL:https://erdkultura.hu/event/felnottkonyvtar-karacsonyra-hangolodas-gergely-roberttel/
CATEGORIES:Könyvtár
ATTACH;FMTTYPE=image/jpeg:https://erdkultura.hu/wp-content/uploads/2025/12/gergely-robert-kocert.jpg
END:VEVENT
BEGIN:VEVENT
DTSTART;TZID=UTC:20251210T100000
DTEND;TZID=UTC:20251210T120000
DTSTAMP:20260419T190209
CREATED:20251208T160744Z
LAST-MODIFIED:20251208T160744Z
UID:6661-1765360800-1765368000@erdkultura.hu
SUMMARY:GYERMEKKÖNYVTÁR: Decemberi csillagok a Portéka  Színpad előadásában
DESCRIPTION:A részvétel előzetes jelentkezéshez kötött:\n− gyk@csukalib.hu\n− 06 23/740 268
URL:https://erdkultura.hu/event/gyermekkonyvtar-decemberi-csillagok-a-porteka-szinpad-eloadasaban/
CATEGORIES:Könyvtár
END:VEVENT
BEGIN:VEVENT
DTSTART;TZID=UTC:20251208T100000
DTEND;TZID=UTC:20251208T160000
DTSTAMP:20260419T190209
CREATED:20251208T162151Z
LAST-MODIFIED:20251208T162356Z
UID:6665-1765188000-1765209600@erdkultura.hu
SUMMARY:PARKVÁROSI FIÓKKÖNYVTÁR: Karácsonyi mesés délután −  diafilmvetítés és kézműves foglalkozás
DESCRIPTION:Hangolódjunk együtt az ünnepekre december 8-án a Parkvárosi Fiókkönyvtárban: \n10:00 – diavetítés\n13:00-16:00 – kézműves foglalkozás \nGyertek minél többen a hétfői parkvárosi foglalkozásunkra. Ha érdekel titeket akár a diavetítés\, akár a kézműveskedés\, kérjük jelezzétek a pvk@csukalib.hu email címen.
URL:https://erdkultura.hu/event/parkvarosi-fiokkonyvtar-karacsonyi-meses-delutan-%e2%88%92-diafilmvetites-es-kezmuves-foglalkozas/
CATEGORIES:Könyvtár
END:VEVENT
BEGIN:VEVENT
DTSTART;TZID=UTC:20251203T170000
DTEND;TZID=UTC:20251203T190000
DTSTAMP:20260419T190209
CREATED:20251208T155931Z
LAST-MODIFIED:20251208T155931Z
UID:6658-1764781200-1764788400@erdkultura.hu
SUMMARY:FELNŐTTKÖNYVTÁR: Író-olvasó találkozó Tomor Anitával
DESCRIPTION:FELNŐTTKÖNYVTÁR:\nTomor Anita: Hogyan készül egy romantikus regény?\nÍró-olvasó találkozó
URL:https://erdkultura.hu/event/felnottkonyvtar-iro-olvaso-talalkozo-tomor-anitaval/
CATEGORIES:Könyvtár
END:VEVENT
BEGIN:VEVENT
DTSTART;VALUE=DATE:20251201
DTEND;VALUE=DATE:20251221
DTSTAMP:20260419T190209
CREATED:20251208T161147Z
LAST-MODIFIED:20251208T162223Z
UID:6663-1764547200-1766275199@erdkultura.hu
SUMMARY:GYERMEKKÖNYVTÁR: Olvasólétra
DESCRIPTION:Juss fel te is a legmagasabbra a könyvek segítségével!\nRészletek és további információ:\n− gyk@csukalib.hu\n− 06 23/740 268
URL:https://erdkultura.hu/event/gyermekkonyvtar-olvasoletra/
CATEGORIES:Könyvtár
END:VEVENT
BEGIN:VEVENT
DTSTART;VALUE=DATE:20251201
DTEND;VALUE=DATE:20251205
DTSTAMP:20260419T190209
CREATED:20251208T163810Z
LAST-MODIFIED:20251208T163810Z
UID:6672-1764547200-1764892799@erdkultura.hu
SUMMARY:GYERMEKKÖNYVTÁR: Karácsonyváró kézműves  foglalkozások
DESCRIPTION:GYERMEKKÖNYVTÁR:\nKarácsonyváró kézműves foglalkozások
URL:https://erdkultura.hu/event/gyermekkonyvtar-karacsonyvaro-kezmuves-foglalkozasok/
CATEGORIES:Könyvtár
END:VEVENT
BEGIN:VEVENT
DTSTART;TZID=UTC:20251031T100000
DTEND;TZID=UTC:20251031T120000
DTSTAMP:20260419T190209
CREATED:20251014T140729Z
LAST-MODIFIED:20251014T140729Z
UID:5978-1761904800-1761912000@erdkultura.hu
SUMMARY:A Jószomszédság Könyvtára: Olvasó-olvasó találkozó
DESCRIPTION:
URL:https://erdkultura.hu/event/a-joszomszedsag-konyvtara-olvaso-olvaso-talalkozo-4/
CATEGORIES:előadás,Könyvtár
END:VEVENT
BEGIN:VEVENT
DTSTART;TZID=UTC:20251030T170000
DTEND;TZID=UTC:20251030T190000
DTSTAMP:20260419T190209
CREATED:20251014T140527Z
LAST-MODIFIED:20251014T140527Z
UID:5976-1761843600-1761850800@erdkultura.hu
SUMMARY:Felnőttkönyvtár: Téma a sorok között: Női sorsok a „mesés” Keleten  Beszélgetések könyvekről és az élet nagy kérdéseiről irodalmi élményeinken keresztül   A találkozót vezeti: Somfainé Szűcs Mária
DESCRIPTION:
URL:https://erdkultura.hu/event/felnottkonyvtar-tema-a-sorok-kozott-noi-sorsok-a-meses-keleten-beszelgetesek-konyvekrol-es-az-elet-nagy-kerdeseirol-irodalmi-elmenyeinken-keresztul-a-talalkozot-vezeti-somfaine/
CATEGORIES:előadás,Könyvtár
END:VEVENT
BEGIN:VEVENT
DTSTART;TZID=UTC:20251029T170000
DTEND;TZID=UTC:20251029T190000
DTSTAMP:20260419T190209
CREATED:20251014T140417Z
LAST-MODIFIED:20251014T140417Z
UID:5974-1761757200-1761764400@erdkultura.hu
SUMMARY:Író-olvasó találkozó Karády Annával
DESCRIPTION:
URL:https://erdkultura.hu/event/iro-olvaso-talalkozo-karady-annaval/
CATEGORIES:előadás,Könyvtár
END:VEVENT
BEGIN:VEVENT
DTSTART;TZID=UTC:20251017T080000
DTEND;TZID=UTC:20251022T170000
DTSTAMP:20260419T190209
CREATED:20251014T140304Z
LAST-MODIFIED:20251014T140312Z
UID:5972-1760688000-1761152400@erdkultura.hu
SUMMARY:Gyermekkönyvtár: Foglalkozások: a Zene világnapja   A Gyermekkönyvtár elérhetőségein előzetes jelentkezést kérünk!
DESCRIPTION:
URL:https://erdkultura.hu/event/gyermekkonyvtar-foglalkozasok-a-zene-vilagnapja-a-gyermekkonyvtar-elerhetosegein-elozetes-jelentkezest-kerunk/
CATEGORIES:előadás,Könyvtár
END:VEVENT
BEGIN:VEVENT
DTSTART;TZID=UTC:20250929T080000
DTEND;TZID=UTC:20251003T170000
DTSTAMP:20260419T190209
CREATED:20250826T114928Z
LAST-MODIFIED:20250826T114928Z
UID:5389-1759132800-1759510800@erdkultura.hu
SUMMARY:Gyermekkönyvtár:   Foglalkozás: Népmese napja – tematikus mesehét   A Gyermekkönyvtár elérhetőségein előzetes időpont egyeztetést kérünk!
DESCRIPTION:
URL:https://erdkultura.hu/event/gyermekkonyvtar-foglalkozas-nepmese-napja-tematikus-mesehet-a-gyermekkonyvtar-elerhetosegein-elozetes-idopont-egyeztetest-kerunk/
CATEGORIES:Könyvtár
END:VEVENT
BEGIN:VEVENT
DTSTART;TZID=UTC:20250927T130000
DTEND;TZID=UTC:20250927T170000
DTSTAMP:20260419T190209
CREATED:20250909T094349Z
LAST-MODIFIED:20250909T094349Z
UID:5538-1758978000-1758992400@erdkultura.hu
SUMMARY:Családi nap a könyvtárban - Utazás a Föld körül az állatokkal
DESCRIPTION:A programon a részvétel ingyenes. Előzetes regisztráció nem szükséges!\nRendezvényünkön kép- és hangfelvétel készülhet. A szervezők a programváltozás jogát fenntartják.
URL:https://erdkultura.hu/event/csaladi-nap-a-konyvtarban-utazas-a-fold-korul-az-allatokkal/
CATEGORIES:Könyvtár
END:VEVENT
BEGIN:VEVENT
DTSTART;TZID=UTC:20250926T100000
DTEND;TZID=UTC:20250926T120000
DTSTAMP:20260419T190209
CREATED:20250826T114859Z
LAST-MODIFIED:20250826T114859Z
UID:5387-1758880800-1758888000@erdkultura.hu
SUMMARY:A Jószomszédság Könyvtára: Olvasó-olvasó találkozó
DESCRIPTION:
URL:https://erdkultura.hu/event/a-joszomszedsag-konyvtara-olvaso-olvaso-talalkozo-3/
CATEGORIES:Könyvtár
END:VEVENT
BEGIN:VEVENT
DTSTART;TZID=UTC:20250925T170000
DTEND;TZID=UTC:20250925T190000
DTSTAMP:20260419T190209
CREATED:20250826T114827Z
LAST-MODIFIED:20250826T114827Z
UID:5385-1758819600-1758826800@erdkultura.hu
SUMMARY:Felnőttkönyvtár:   Téma a sorok között: beszélgetések könyvekről és az élet nagy kérdéseiről irodalmi élményeinken keresztül   A találkozót vezeti: Somfainé Szűcs Mária    A Szepes Gyula Művelődési Központ és a CSZVK közös programja
DESCRIPTION:
URL:https://erdkultura.hu/event/felnottkonyvtar-tema-a-sorok-kozott-beszelgetesek-konyvekrol-es-az-elet-nagy-kerdeseirol-irodalmi-elmenyeinken-keresztul-a-talalkozot-vezeti-somfaine-szucs-maria-a-szepes-gyula-muvelodesi-ko/
CATEGORIES:Könyvtár
END:VEVENT
BEGIN:VEVENT
DTSTART;TZID=UTC:20250912T080000
DTEND;TZID=UTC:20250912T170000
DTSTAMP:20260419T190209
CREATED:20250826T114633Z
LAST-MODIFIED:20250826T114633Z
UID:5379-1757664000-1757696400@erdkultura.hu
SUMMARY:A Jószomszédság Könyvtára: Őszi mesés napok: papírszínház\, kézműves foglalkozás
DESCRIPTION:
URL:https://erdkultura.hu/event/a-joszomszedsag-konyvtara-oszi-meses-napok-papirszinhaz-kezmuves-foglalkozas/
CATEGORIES:Könyvtár
END:VEVENT
BEGIN:VEVENT
DTSTART;TZID=UTC:20250906T090000
DTEND;TZID=UTC:20250906T120000
DTSTAMP:20260419T190209
CREATED:20250826T114606Z
LAST-MODIFIED:20250826T114606Z
UID:5377-1757149200-1757160000@erdkultura.hu
SUMMARY:Zenei Könyvtár (Érd\, Alsó u. 27.) - udvar: Könyvvásár ajándék és törölt könyvekből
DESCRIPTION:
URL:https://erdkultura.hu/event/zenei-konyvtar-erd-also-u-27-udvar-konyvvasar-ajandek-es-torolt-konyvekbol/
CATEGORIES:előadás,kiállítás,Könyvtár
END:VEVENT
BEGIN:VEVENT
DTSTART;TZID=UTC:20250905T101500
DTEND;TZID=UTC:20250905T113000
DTSTAMP:20260419T190209
CREATED:20250826T114509Z
LAST-MODIFIED:20250826T114509Z
UID:5375-1757067300-1757071800@erdkultura.hu
SUMMARY:A Jószomszédság Könyvtára: Hogy szeressék a könyvet
DESCRIPTION:
URL:https://erdkultura.hu/event/a-joszomszedsag-konyvtara-hogy-szeressek-a-konyvet/
CATEGORIES:előadás,Könyvtár
END:VEVENT
BEGIN:VEVENT
DTSTART;TZID=UTC:20250627T100000
DTEND;TZID=UTC:20250627T120000
DTSTAMP:20260419T190209
CREATED:20250603T122754Z
LAST-MODIFIED:20250603T122754Z
UID:5003-1751018400-1751025600@erdkultura.hu
SUMMARY:A Jószomszédság Könyvtára:   Olvasó-olvasó találkozó: jöjjenek el hozzánk\, és beszélgessünk egy jót olvasmányainkról
DESCRIPTION:
URL:https://erdkultura.hu/event/a-joszomszedsag-konyvtara-olvaso-olvaso-talalkozo-jojjenek-el-hozzank-es-beszelgessunk-egy-jot-olvasmanyainkrol-4/
CATEGORIES:Könyvtár
END:VEVENT
BEGIN:VEVENT
DTSTART;TZID=UTC:20250626T170000
DTEND;TZID=UTC:20250626T183000
DTSTAMP:20260419T190209
CREATED:20250603T122715Z
LAST-MODIFIED:20250603T122715Z
UID:5001-1750957200-1750962600@erdkultura.hu
SUMMARY:Felnőttkönyvtár:   Téma a sorok között: Erkölcsi kérdések: a bűn
DESCRIPTION:
URL:https://erdkultura.hu/event/felnottkonyvtar-tema-a-sorok-kozott-erkolcsi-kerdesek-a-bun/
CATEGORIES:Könyvtár
END:VEVENT
BEGIN:VEVENT
DTSTART;TZID=UTC:20250623T080000
DTEND;TZID=UTC:20250915T170000
DTSTAMP:20260419T190209
CREATED:20250603T122604Z
LAST-MODIFIED:20250603T122604Z
UID:4999-1750665600-1757955600@erdkultura.hu
SUMMARY:Felnőttkönyvtár: Nyári olvasási kihívás - Könyves bingó Részletek: honlapunkon és Facebook oldalunkon
DESCRIPTION:
URL:https://erdkultura.hu/event/felnottkonyvtar-nyari-olvasasi-kihivas-konyves-bingo-reszletek-honlapunkon-es-facebook-oldalunkon/
CATEGORIES:Könyvtár
END:VEVENT
BEGIN:VEVENT
DTSTART;TZID=UTC:20250623T080000
DTEND;TZID=UTC:20250915T170000
DTSTAMP:20260419T190209
CREATED:20250603T122509Z
LAST-MODIFIED:20250603T122509Z
UID:4997-1750665600-1757955600@erdkultura.hu
SUMMARY:Parkvárosi Fiókkönyvtár és a Jószomszédság Könyvtára: Nyári olvasási kihívás Részletek: honlapunkon és Facebook oldalunkon
DESCRIPTION:
URL:https://erdkultura.hu/event/parkvarosi-fiokkonyvtar-es-a-joszomszedsag-konyvtara-nyari-olvasasi-kihivas-reszletek-honlapunkon-es-facebook-oldalunkon/
CATEGORIES:Könyvtár
END:VEVENT
BEGIN:VEVENT
DTSTART;TZID=UTC:20250623T080000
DTEND;TZID=UTC:20250915T170000
DTSTAMP:20260419T190209
CREATED:20250603T122430Z
LAST-MODIFIED:20250603T122430Z
UID:4995-1750665600-1757955600@erdkultura.hu
SUMMARY:Gyermekkönyvtár: Nyári olvasási kihívás: 8 könyv – 8 kaland Részletek: honlapunkon és Facebook oldalunkon
DESCRIPTION:
URL:https://erdkultura.hu/event/gyermekkonyvtar-nyari-olvasasi-kihivas-8-konyv-8-kaland-reszletek-honlapunkon-es-facebook-oldalunkon/
CATEGORIES:Könyvtár
END:VEVENT
BEGIN:VEVENT
DTSTART;TZID=UTC:20250606T101500
DTEND;TZID=UTC:20250606T113000
DTSTAMP:20260419T190209
CREATED:20250603T122316Z
LAST-MODIFIED:20250603T122316Z
UID:4993-1749204900-1749209400@erdkultura.hu
SUMMARY:A Jószomszédság Könyvtára: Hogy szeressék a könyveket: Óvoda előtt álló kisgyerekek és szülők klubja
DESCRIPTION:
URL:https://erdkultura.hu/event/a-joszomszedsag-konyvtara-hogy-szeressek-a-konyveket-ovoda-elott-allo-kisgyerekek-es-szulok-klubja-2/
CATEGORIES:előadás,Könyvtár
END:VEVENT
BEGIN:VEVENT
DTSTART;TZID=UTC:20250530T080000
DTEND;TZID=UTC:20250530T170000
DTSTAMP:20260419T190209
CREATED:20250424T130207Z
LAST-MODIFIED:20250424T130339Z
UID:4841-1748592000-1748624400@erdkultura.hu
SUMMARY:A Jószomszédság Könyvtára: Olvasó-olvasó találkozó: jöjjenek el hozzánk\, és beszélgessünk egy jót olvasmányainkról
DESCRIPTION:
URL:https://erdkultura.hu/event/a-joszomszedsag-konyvtara-olvaso-olvaso-talalkozo-jojjenek-el-hozzank-es-beszelgessunk-egy-jot-olvasmanyainkrol-3/
CATEGORIES:Könyvtár
END:VEVENT
BEGIN:VEVENT
DTSTART;TZID=UTC:20250530T080000
DTEND;TZID=UTC:20250530T170000
DTSTAMP:20260419T190209
CREATED:20250424T130139Z
LAST-MODIFIED:20250424T130139Z
UID:4839-1748592000-1748624400@erdkultura.hu
SUMMARY:A Jószomszédság Könyvtára: Gyermeknapi kézműveskedés
DESCRIPTION:
URL:https://erdkultura.hu/event/a-joszomszedsag-konyvtara-gyermeknapi-kezmuveskedes/
CATEGORIES:Könyvtár
END:VEVENT
BEGIN:VEVENT
DTSTART;TZID=UTC:20250526T080000
DTEND;TZID=UTC:20250526T170000
DTSTAMP:20260419T190209
CREATED:20250424T130034Z
LAST-MODIFIED:20250424T130034Z
UID:4837-1748246400-1748278800@erdkultura.hu
SUMMARY:Parkvárosi Fiókkönyvtár: Gyermeknapi mesés nap + kézműveskedés
DESCRIPTION:
URL:https://erdkultura.hu/event/parkvarosi-fiokkonyvtar-gyermeknapi-meses-nap-kezmuveskedes/
CATEGORIES:Könyvtár
END:VEVENT
END:VCALENDAR