BEGIN:VCALENDAR
VERSION:2.0
PRODID:-//ÉrdKultúra - ECPv6.8.0//NONSGML v1.0//EN
CALSCALE:GREGORIAN
METHOD:PUBLISH
X-WR-CALNAME:ÉrdKultúra
X-ORIGINAL-URL:https://erdkultura.hu
X-WR-CALDESC:Events for ÉrdKultúra
REFRESH-INTERVAL;VALUE=DURATION:PT1H
X-Robots-Tag:noindex
X-PUBLISHED-TTL:PT1H
BEGIN:VTIMEZONE
TZID:UTC
BEGIN:STANDARD
TZOFFSETFROM:+0000
TZOFFSETTO:+0000
TZNAME:UTC
DTSTART:20260101T000000
END:STANDARD
END:VTIMEZONE
BEGIN:VEVENT
DTSTART;TZID=UTC:20260528T163000
DTEND;TZID=UTC:20260528T173000
DTSTAMP:20260423T043302
CREATED:20260422T141227Z
LAST-MODIFIED:20260422T141227Z
UID:7948-1779985800-1779989400@erdkultura.hu
SUMMARY:Felnőttkönyvtár: Téma a sorok között - Neveljük a gyermekeket! Kik\, mire és miképp?
DESCRIPTION:Beszélgetések könyvekről és az élet nagy kérdéseiről irodalmi élményeken keresztül.Téma a sorok között: Neveljük a gyermekeket! Kik\, mire és miképp?\nA találkozót vezeti: Somfainé Szűcs Mária\nAjánlott kötet:\n– Harper Lee: Ne bántsátok a feketerigót!\nA részvétel mindenki számára ingyenes.\nBővebb információ a www.csukalib.hu oldalon. \nA program az „Idősen\, aktívan\, Érden” programsorozat keretében kerül megrendezésre. A részvétel az érdi 65 év felettieknek ingyenes. \nA szervezők a programváltozás jogát fenntartják.\nA programon résztvevők elfogadják a házirendet\, valamint elfogadják\, hogy a programon készült kép-\, hang- és videofelvételt a szervezők saját nyilvános felületeiken\, illetve egyéb médiafelületeken való megjelenés során felhasználhatnak.
URL:https://erdkultura.hu/event/felnottkonyvtar-tema-a-sorok-kozott-neveljuk-a-gyermekeket-kik-mire-es-mikepp/
CATEGORIES:Idősprogram,Könyvtár
ATTACH;FMTTYPE=image/png:https://erdkultura.hu/wp-content/uploads/2025/12/tema-a-sorok-kozott.png
END:VEVENT
END:VCALENDAR