BEGIN:VCALENDAR
VERSION:2.0
PRODID:-//ÉrdKultúra - ECPv6.8.0//NONSGML v1.0//EN
CALSCALE:GREGORIAN
METHOD:PUBLISH
X-ORIGINAL-URL:https://erdkultura.hu
X-WR-CALDESC:Events for ÉrdKultúra
REFRESH-INTERVAL;VALUE=DURATION:PT1H
X-Robots-Tag:noindex
X-PUBLISHED-TTL:PT1H
BEGIN:VTIMEZONE
TZID:UTC
BEGIN:STANDARD
TZOFFSETFROM:+0000
TZOFFSETTO:+0000
TZNAME:UTC
DTSTART:20260101T000000
END:STANDARD
END:VTIMEZONE
BEGIN:VEVENT
DTSTART;TZID=UTC:20260408T100000
DTEND;TZID=UTC:20260408T120000
DTSTAMP:20260419T132916
CREATED:20260320T080123Z
LAST-MODIFIED:20260320T080123Z
UID:7722-1775642400-1775649600@erdkultura.hu
SUMMARY:Parkvárosi Fiókkönyvtár: Saját mesekönyv készítése
DESCRIPTION:A részvétel előzetes jelentkezéshez kötött:\n– pvk@csukalib.hu\n– 06 23/746 118
URL:https://erdkultura.hu/event/parkvarosi-fiokkonyvtar-sajat-mesekonyv-keszitese-2/
CATEGORIES:Könyvtár
ATTACH;FMTTYPE=image/jpeg:https://erdkultura.hu/wp-content/uploads/2026/02/Web-kep-1920-x-1080-pixel-1-1.jpg
END:VEVENT
END:VCALENDAR