BEGIN:VCALENDAR
VERSION:2.0
PRODID:-//ÉrdKultúra - ECPv6.8.0//NONSGML v1.0//EN
CALSCALE:GREGORIAN
METHOD:PUBLISH
X-WR-CALNAME:ÉrdKultúra
X-ORIGINAL-URL:https://erdkultura.hu
X-WR-CALDESC:Events for ÉrdKultúra
REFRESH-INTERVAL;VALUE=DURATION:PT1H
X-Robots-Tag:noindex
X-PUBLISHED-TTL:PT1H
BEGIN:VTIMEZONE
TZID:UTC
BEGIN:STANDARD
TZOFFSETFROM:+0000
TZOFFSETTO:+0000
TZNAME:UTC
DTSTART:20260101T000000
END:STANDARD
END:VTIMEZONE
BEGIN:VEVENT
DTSTART;TZID=UTC:20260407T100000
DTEND;TZID=UTC:20260407T120000
DTSTAMP:20260419T132818
CREATED:20260320T075846Z
LAST-MODIFIED:20260320T075846Z
UID:7720-1775556000-1775563200@erdkultura.hu
SUMMARY:Gyermekkönyvtár: Babával a könyvtárban
DESCRIPTION:Csendes beszélgetések kisgyermekes szülőknek minden hónap első keddjén a Gyermekkönyvtárban.A programon a részvétel ingyenes.
URL:https://erdkultura.hu/event/gyermekkonyvtar-babaval-a-konyvtarban-3/
CATEGORIES:Könyvtár
ATTACH;FMTTYPE=image/jpeg:https://erdkultura.hu/wp-content/uploads/2026/02/Web-kep-1920-x-1080-pixel-2.jpg
END:VEVENT
END:VCALENDAR