BEGIN:VCALENDAR
VERSION:2.0
PRODID:-//ÉrdKultúra - ECPv6.8.0//NONSGML v1.0//EN
CALSCALE:GREGORIAN
METHOD:PUBLISH
X-WR-CALNAME:ÉrdKultúra
X-ORIGINAL-URL:https://erdkultura.hu
X-WR-CALDESC:Events for ÉrdKultúra
REFRESH-INTERVAL;VALUE=DURATION:PT1H
X-Robots-Tag:noindex
X-PUBLISHED-TTL:PT1H
BEGIN:VTIMEZONE
TZID:UTC
BEGIN:STANDARD
TZOFFSETFROM:+0000
TZOFFSETTO:+0000
TZNAME:UTC
DTSTART:20260101T000000
END:STANDARD
END:VTIMEZONE
BEGIN:VEVENT
DTSTART;TZID=UTC:20260326T163000
DTEND;TZID=UTC:20260326T173000
DTSTAMP:20260419T145812
CREATED:20260220T142911Z
LAST-MODIFIED:20260220T142911Z
UID:7414-1774542600-1774546200@erdkultura.hu
SUMMARY:Felnőttkönyvtár: Téma a sorok között - Honnan jöttem\, ki vagyok én? (A történelem és önmagam viharában)
DESCRIPTION:Beszélgetések könyvekről és az élet nagy kérdéseiről irodalmi élményeken keresztül.Téma a sorok között: Honnan jöttem\, ki vagyok én? (A történelem és önmagam viharában \nAjánlott kötetek:\n– Dragomán György: Máglya és/vagy A fehér király\n– Grecsó Krisztián: Vera \nA találkozót vezeti: Somfainé Szűcs Mária \nA részvétel mindenki számára ingyenes!
URL:https://erdkultura.hu/event/felnottkonyvtar-tema-a-sorok-kozott-honnan-jottem-ki-vagyok-en-a-tortenelem-es-onmagam-viharaban/
CATEGORIES:Idősprogram,Könyvtár
ATTACH;FMTTYPE=image/png:https://erdkultura.hu/wp-content/uploads/2025/12/tema-a-sorok-kozott.png
END:VEVENT
END:VCALENDAR