BEGIN:VCALENDAR
VERSION:2.0
PRODID:-//ÉrdKultúra - ECPv6.8.0//NONSGML v1.0//EN
CALSCALE:GREGORIAN
METHOD:PUBLISH
X-ORIGINAL-URL:https://erdkultura.hu
X-WR-CALDESC:Events for ÉrdKultúra
REFRESH-INTERVAL;VALUE=DURATION:PT1H
X-Robots-Tag:noindex
X-PUBLISHED-TTL:PT1H
BEGIN:VTIMEZONE
TZID:UTC
BEGIN:STANDARD
TZOFFSETFROM:+0000
TZOFFSETTO:+0000
TZNAME:UTC
DTSTART:20260101T000000
END:STANDARD
END:VTIMEZONE
BEGIN:VEVENT
DTSTART;TZID=UTC:20260325T100000
DTEND;TZID=UTC:20260325T110000
DTSTAMP:20260419T150216
CREATED:20260226T112605Z
LAST-MODIFIED:20260226T112605Z
UID:7459-1774432800-1774436400@erdkultura.hu
SUMMARY:Parkvárosi Fiókkönyvtár: Micimackó születésnapja - Mesedélután
DESCRIPTION:A részvétel előzetes jelentkezéshez kötött:\n– pvk@csukalib.hu\n– 06 23/746 118
URL:https://erdkultura.hu/event/parkvarosi-fiokkonyvtar-micimacko-szuletesnapja-mesedelutan-2/
CATEGORIES:Könyvtár
ATTACH;FMTTYPE=image/jpeg:https://erdkultura.hu/wp-content/uploads/2026/02/Web-kep-micimacko-mesedelutan.jpg
END:VEVENT
BEGIN:VEVENT
DTSTART;TZID=UTC:20260325T100000
DTEND;TZID=UTC:20260325T110000
DTSTAMP:20260419T150216
CREATED:20260226T113757Z
LAST-MODIFIED:20260226T113757Z
UID:7465-1774432800-1774436400@erdkultura.hu
SUMMARY:Gyermekkönyvtár: Kiss Judit Ágnes mesekönyvíró előadása
DESCRIPTION:A részvétel előzetes jelentkezéshez kötött:\n– gyk@csukalib.hu\n– 06 23/740 268
URL:https://erdkultura.hu/event/gyermekkonyvtar-kiss-judit-agnes-mesekonyviro-eloadasa/
CATEGORIES:előadás,Könyvtár
ATTACH;FMTTYPE=image/jpeg:https://erdkultura.hu/wp-content/uploads/2026/02/Web-kep-gyerekeloadas.jpg
END:VEVENT
BEGIN:VEVENT
DTSTART;TZID=UTC:20260325T170000
DTEND;TZID=UTC:20260325T180000
DTSTAMP:20260419T150216
CREATED:20260226T113136Z
LAST-MODIFIED:20260226T113136Z
UID:7462-1774458000-1774461600@erdkultura.hu
SUMMARY:Felnőttkönyvtár: Tízes Lista – közönségtalálkozó
DESCRIPTION:Közönségtalálkozó a Tízes Lista YouTube-csatorna két alkotójával\, Mester Márk tartalom specialistával és Nyiri Donát tartalomkészítővel. \nVilágűr | Tudomány | Rejtélyek | Bűnügyek | Történelem és még sok minden más… \nAz ismeretterjesztő csatorna 2017-ben indult el azzal a céllal\, hogy megismertesse a világ érdekességeit 10-15 percben. \nA programon a részvétel ingyenes.
URL:https://erdkultura.hu/event/felnottkonyvtar-tizes-lista-kozonsegtalalkozo/
CATEGORIES:Könyvtár,közönségtalálkozó
ATTACH;FMTTYPE=image/jpeg:https://erdkultura.hu/wp-content/uploads/2026/02/Web-kep-tizes-lista.jpg
END:VEVENT
END:VCALENDAR