BEGIN:VCALENDAR
VERSION:2.0
PRODID:-//ÉrdKultúra - ECPv6.8.0//NONSGML v1.0//EN
CALSCALE:GREGORIAN
METHOD:PUBLISH
X-ORIGINAL-URL:https://erdkultura.hu
X-WR-CALDESC:Events for ÉrdKultúra
REFRESH-INTERVAL;VALUE=DURATION:PT1H
X-Robots-Tag:noindex
X-PUBLISHED-TTL:PT1H
BEGIN:VTIMEZONE
TZID:UTC
BEGIN:STANDARD
TZOFFSETFROM:+0000
TZOFFSETTO:+0000
TZNAME:UTC
DTSTART:20260101T000000
END:STANDARD
END:VTIMEZONE
BEGIN:VEVENT
DTSTART;TZID=UTC:20260318T170000
DTEND;TZID=UTC:20260318T180000
DTSTAMP:20260419T150749
CREATED:20260226T112137Z
LAST-MODIFIED:20260226T112137Z
UID:7456-1773853200-1773856800@erdkultura.hu
SUMMARY:FELNŐTTKÖNYVTÁR: Könyvbemutató - Baka Györgyi: A hallgatag kerub
DESCRIPTION:Baka Györgyi: A hallgatag kerub \nA hallhatag kerub című versgyűjtemény bemutatója\, a beszélgetőtárs Oláh Tamás költő. \nA programon a részvétel ingyenes.
URL:https://erdkultura.hu/event/felnottkonyvtar-konyvbemutato-baka-gyorgyi-a-hallgatag-kerub/
CATEGORIES:Könyvtár
ATTACH;FMTTYPE=image/jpeg:https://erdkultura.hu/wp-content/uploads/2026/02/a-hallgatag-kerub-konyvbemutato.jpg
END:VEVENT
END:VCALENDAR