BEGIN:VCALENDAR
VERSION:2.0
PRODID:-//ÉrdKultúra - ECPv6.8.0//NONSGML v1.0//EN
CALSCALE:GREGORIAN
METHOD:PUBLISH
X-WR-CALNAME:ÉrdKultúra
X-ORIGINAL-URL:https://erdkultura.hu
X-WR-CALDESC:Events for ÉrdKultúra
REFRESH-INTERVAL;VALUE=DURATION:PT1H
X-Robots-Tag:noindex
X-PUBLISHED-TTL:PT1H
BEGIN:VTIMEZONE
TZID:UTC
BEGIN:STANDARD
TZOFFSETFROM:+0000
TZOFFSETTO:+0000
TZNAME:UTC
DTSTART:20260101T000000
END:STANDARD
END:VTIMEZONE
BEGIN:VEVENT
DTSTART;TZID=UTC:20260226T163000
DTEND;TZID=UTC:20260226T173000
DTSTAMP:20260419T145731
CREATED:20260212T125231Z
LAST-MODIFIED:20260212T125231Z
UID:7281-1772123400-1772127000@erdkultura.hu
SUMMARY:Felnőttkönyvtár: Téma a sorok között - Az igaz barátság egész életre szól
DESCRIPTION:Beszélgetések könyvekről és az élet nagy kérdéseiről irodalmi élményeken keresztül.Téma a sorok között: Az igaz barátság egész életre szól\nA találkozót vezeti: Somfainé Szűcs Mária\nAjánlott kötetek:\n– Ann Napolitano: Ezüst madarak\n– Elena Ferrante: Briliáns barátnőm\nA részvétel mindenki számára ingyenes.\nBővebb információ a www.csukalib.hu oldalon. \n  \nA szervezők a programváltozás jogát fenntartják.\nA programon résztvevők elfogadják a házirendet\, valamint elfogadják\, hogy a programon készült kép-\, hang- és videofelvételt a szervezők saját nyilvános felületeiken\, illetve egyéb médiafelületeken való megjelenés során felhasználhatnak.
URL:https://erdkultura.hu/event/felnottkonyvtar-tema-a-sorok-kozott-az-igaz-baratsag-egesz-eletre-szol-3/
CATEGORIES:Idősprogram,Könyvtár
ATTACH;FMTTYPE=image/png:https://erdkultura.hu/wp-content/uploads/2025/12/tema-a-sorok-kozott.png
END:VEVENT
BEGIN:VEVENT
DTSTART;TZID=UTC:20260226T180000
DTEND;TZID=UTC:20260226T193000
DTSTAMP:20260419T145731
CREATED:20260212T125720Z
LAST-MODIFIED:20260212T125720Z
UID:7280-1772128800-1772134200@erdkultura.hu
SUMMARY:Felnőttkönyvtár: Lookin' Jazz
DESCRIPTION:FELNŐTTKÖNYVTÁR:\nLookin’ Jazz\nTalálkozó Lovász Barnabással\nAz estet vezeti: Bögöthy Ádám \nA szervezők a programváltozás jogát fenntartják.\nA programon résztvevők elfogadják a házirendet\, valamint elfogadják\, hogy a programon készült kép-\, hang- és videofelvételt a szervezők saját nyilvános felületeiken\, illetve egyéb médiafelületeken való megjelenés során felhasználhatnak.
URL:https://erdkultura.hu/event/felnottkonyvtar-lookin-jazz/
CATEGORIES:Könyvtár
END:VEVENT
END:VCALENDAR