BEGIN:VCALENDAR
VERSION:2.0
PRODID:-//ÉrdKultúra - ECPv6.8.0//NONSGML v1.0//EN
CALSCALE:GREGORIAN
METHOD:PUBLISH
X-ORIGINAL-URL:https://erdkultura.hu
X-WR-CALDESC:Events for ÉrdKultúra
REFRESH-INTERVAL;VALUE=DURATION:PT1H
X-Robots-Tag:noindex
X-PUBLISHED-TTL:PT1H
BEGIN:VTIMEZONE
TZID:UTC
BEGIN:STANDARD
TZOFFSETFROM:+0000
TZOFFSETTO:+0000
TZNAME:UTC
DTSTART:20260101T000000
END:STANDARD
END:VTIMEZONE
BEGIN:VEVENT
DTSTART;VALUE=DATE:20260216
DTEND;VALUE=DATE:20260221
DTSTAMP:20260419T162947
CREATED:20260212T124245Z
LAST-MODIFIED:20260212T124245Z
UID:7275-1771200000-1771631999@erdkultura.hu
SUMMARY:Gyermekkönyvtár: Medve-napok
DESCRIPTION:GYERMEKKÖNYVTÁR:\nMedve-napok\nA részvétel előzetes jelentkezéshez kötött:\n– gyk@csukalib.hu\n– 06 23/740 268 \n  \nA szervezők a programváltozás jogát fenntartják.\nA programon résztvevők elfogadják a házirendet\, valamint elfogadják\, hogy a programon készült kép-\, hang- és videofelvételt a szervezők saját nyilvános felületeiken\, illetve egyéb médiafelületeken való megjelenés során felhasználhatnak.
URL:https://erdkultura.hu/event/gyermekkonyvtar-medve-napok/
CATEGORIES:Könyvtár
END:VEVENT
END:VCALENDAR