BEGIN:VCALENDAR
VERSION:2.0
PRODID:-//ÉrdKultúra - ECPv6.8.0//NONSGML v1.0//EN
CALSCALE:GREGORIAN
METHOD:PUBLISH
X-ORIGINAL-URL:https://erdkultura.hu
X-WR-CALDESC:Events for ÉrdKultúra
REFRESH-INTERVAL;VALUE=DURATION:PT1H
X-Robots-Tag:noindex
X-PUBLISHED-TTL:PT1H
BEGIN:VTIMEZONE
TZID:UTC
BEGIN:STANDARD
TZOFFSETFROM:+0000
TZOFFSETTO:+0000
TZNAME:UTC
DTSTART:20260101T000000
END:STANDARD
END:VTIMEZONE
BEGIN:VEVENT
DTSTART;TZID=UTC:20260122T100000
DTEND;TZID=UTC:20260122T160000
DTSTAMP:20260419T182321
CREATED:20260212T131207Z
LAST-MODIFIED:20260212T131207Z
UID:7291-1769076000-1769097600@erdkultura.hu
SUMMARY:Gyermekkönyvtár: A magyar kultúra napja: családi  kézműves foglalkozás
DESCRIPTION:GYERMEKKÖNYVTÁR:\nA magyar kultúra napja: családi kézműves foglalkozás \nA szervezők a programváltozás jogát fenntartják.\nA programon résztvevők elfogadják a házirendet\, valamint elfogadják\, hogy a programon készült kép-\, hang- és videofelvételt a szervezők saját nyilvános felületeiken\, illetve egyéb médiafelületeken való megjelenés során felhasználhatnak.
URL:https://erdkultura.hu/event/gyermekkonyvtar-a-magyar-kultura-napja-csaladi-kezmuves-foglalkozas/
CATEGORIES:Könyvtár
END:VEVENT
END:VCALENDAR