BEGIN:VCALENDAR
VERSION:2.0
PRODID:-//ÉrdKultúra - ECPv6.8.0//NONSGML v1.0//EN
CALSCALE:GREGORIAN
METHOD:PUBLISH
X-ORIGINAL-URL:https://erdkultura.hu
X-WR-CALDESC:Events for ÉrdKultúra
REFRESH-INTERVAL;VALUE=DURATION:PT1H
X-Robots-Tag:noindex
X-PUBLISHED-TTL:PT1H
BEGIN:VTIMEZONE
TZID:UTC
BEGIN:STANDARD
TZOFFSETFROM:+0000
TZOFFSETTO:+0000
TZNAME:UTC
DTSTART:20250101T000000
END:STANDARD
END:VTIMEZONE
BEGIN:VEVENT
DTSTART;TZID=UTC:20250410T080000
DTEND;TZID=UTC:20250418T170000
DTSTAMP:20260420T113016
CREATED:20250321T121157Z
LAST-MODIFIED:20250405T183802Z
UID:4452-1744272000-1744995600@erdkultura.hu
SUMMARY:A Magyar Költészet Napja: Nyomozz velünk József Attila versei után!
DESCRIPTION:
URL:https://erdkultura.hu/event/a-magyar-kolteszet-napja-nyomozz-velunk-jozsef-attila-versei-utan/
CATEGORIES:előadás,Könyvtár
END:VEVENT
END:VCALENDAR