BEGIN:VCALENDAR
VERSION:2.0
PRODID:-//ÉrdKultúra - ECPv6.8.0//NONSGML v1.0//EN
CALSCALE:GREGORIAN
METHOD:PUBLISH
X-WR-CALNAME:ÉrdKultúra
X-ORIGINAL-URL:https://erdkultura.hu
X-WR-CALDESC:Events for ÉrdKultúra
REFRESH-INTERVAL;VALUE=DURATION:PT1H
X-Robots-Tag:noindex
X-PUBLISHED-TTL:PT1H
BEGIN:VTIMEZONE
TZID:UTC
BEGIN:STANDARD
TZOFFSETFROM:+0000
TZOFFSETTO:+0000
TZNAME:UTC
DTSTART:20250101T000000
END:STANDARD
END:VTIMEZONE
BEGIN:VEVENT
DTSTART;TZID=UTC:20250203T080000
DTEND;TZID=UTC:20250203T170000
DTSTAMP:20260421T173928
CREATED:20250127T104131Z
LAST-MODIFIED:20250127T104131Z
UID:3844-1738569600-1738602000@erdkultura.hu
SUMMARY:Felnőttkönyvtár: Az angol nyelvi klub találkozója
DESCRIPTION:
URL:https://erdkultura.hu/event/felnottkonyvtar-az-angol-nyelvi-klub-talalkozoja/
CATEGORIES:Könyvtár
END:VEVENT
END:VCALENDAR