BEGIN:VCALENDAR
VERSION:2.0
PRODID:-//ÉrdKultúra - ECPv6.8.0//NONSGML v1.0//EN
CALSCALE:GREGORIAN
METHOD:PUBLISH
X-ORIGINAL-URL:https://erdkultura.hu
X-WR-CALDESC:Events for ÉrdKultúra
REFRESH-INTERVAL;VALUE=DURATION:PT1H
X-Robots-Tag:noindex
X-PUBLISHED-TTL:PT1H
BEGIN:VTIMEZONE
TZID:UTC
BEGIN:STANDARD
TZOFFSETFROM:+0000
TZOFFSETTO:+0000
TZNAME:UTC
DTSTART:20250101T000000
END:STANDARD
END:VTIMEZONE
BEGIN:VEVENT
DTSTART;TZID=UTC:20250122T080000
DTEND;TZID=UTC:20250122T170000
DTSTAMP:20260422T010731
CREATED:20250114T105426Z
LAST-MODIFIED:20250114T105426Z
UID:3726-1737532800-1737565200@erdkultura.hu
SUMMARY:Gyermekkönyvtár: Könyvtárhasználati foglalkozás kisiskolásoknak
DESCRIPTION:
URL:https://erdkultura.hu/event/gyermekkonyvtar-konyvtarhasznalati-foglalkozas-kisiskolasoknak-2/
CATEGORIES:Könyvtár
END:VEVENT
END:VCALENDAR