BEGIN:VCALENDAR
VERSION:2.0
PRODID:-//ÉrdKultúra - ECPv6.8.0//NONSGML v1.0//EN
CALSCALE:GREGORIAN
METHOD:PUBLISH
X-WR-CALNAME:ÉrdKultúra
X-ORIGINAL-URL:https://erdkultura.hu
X-WR-CALDESC:Events for ÉrdKultúra
REFRESH-INTERVAL;VALUE=DURATION:PT1H
X-Robots-Tag:noindex
X-PUBLISHED-TTL:PT1H
BEGIN:VTIMEZONE
TZID:UTC
BEGIN:STANDARD
TZOFFSETFROM:+0000
TZOFFSETTO:+0000
TZNAME:UTC
DTSTART:20240101T000000
END:STANDARD
END:VTIMEZONE
BEGIN:VEVENT
DTSTART;TZID=UTC:20241105T080000
DTEND;TZID=UTC:20241130T170000
DTSTAMP:20260422T040140
CREATED:20241106T122920Z
LAST-MODIFIED:20241106T122920Z
UID:3114-1730793600-1732986000@erdkultura.hu
SUMMARY:Kiállítás agyagvirágokból - Felnőttkönyvtár
DESCRIPTION:
URL:https://erdkultura.hu/event/kiallitas-agyagviragokbol-felnottkonyvtar/
CATEGORIES:kiállítás,Könyvtár
END:VEVENT
BEGIN:VEVENT
DTSTART;TZID=UTC:20241113T100000
DTEND;TZID=UTC:20241113T120000
DTSTAMP:20260422T040140
CREATED:20241106T140736Z
LAST-MODIFIED:20241106T140736Z
UID:3131-1731492000-1731499200@erdkultura.hu
SUMMARY:Nyomozás Mátyás király könyvei után - Gyermekkönyvtár
DESCRIPTION:Előadás felső tagozatos gyerekeknek \nA program díjtalan\, de előzetes regisztrációhoz kötött: www.csukalib.hu
URL:https://erdkultura.hu/event/nyomozas-matyas-kiraly-konyvei-utan-gyermekkonyvtar/
CATEGORIES:előadás,Könyvtár
END:VEVENT
END:VCALENDAR