BEGIN:VCALENDAR
VERSION:2.0
PRODID:-//ÉrdKultúra - ECPv6.8.0//NONSGML v1.0//EN
CALSCALE:GREGORIAN
METHOD:PUBLISH
X-ORIGINAL-URL:https://erdkultura.hu
X-WR-CALDESC:Events for ÉrdKultúra
REFRESH-INTERVAL;VALUE=DURATION:PT1H
X-Robots-Tag:noindex
X-PUBLISHED-TTL:PT1H
BEGIN:VTIMEZONE
TZID:UTC
BEGIN:STANDARD
TZOFFSETFROM:+0000
TZOFFSETTO:+0000
TZNAME:UTC
DTSTART:20240101T000000
END:STANDARD
END:VTIMEZONE
BEGIN:VEVENT
DTSTART;TZID=UTC:20240930T080000
DTEND;TZID=UTC:20241006T170000
DTSTAMP:20260422T053132
CREATED:20240925T141028Z
LAST-MODIFIED:20240925T141028Z
UID:2662-1727683200-1728234000@erdkultura.hu
SUMMARY:Országos Könyvtári Napok
DESCRIPTION:Játék az elemekkel (a Felnőtt- és Gyermekkönyvtárban)\nMegbocsátás hete (minden részlegünkben)\nZsákbamacska betiltott könyvekből (Felnőttkönyvtár)\nVersek az őszről a Felnőttkönyvtár ablakában
URL:https://erdkultura.hu/event/orszagos-konyvtari-napok/
CATEGORIES:előadás,Könyvtár
END:VEVENT
BEGIN:VEVENT
DTSTART;TZID=UTC:20241005T130000
DTEND;TZID=UTC:20241005T170000
DTSTAMP:20260422T053132
CREATED:20240925T141349Z
LAST-MODIFIED:20240926T091030Z
UID:2666-1728133200-1728147600@erdkultura.hu
SUMMARY:70 éves a könyvtár és OKN: Családi nap – ünnepeljenek velünk!
DESCRIPTION:Felnőttkönyvtár+Gyermekkönyvtár: \n70 éves a könyvtár és OKN: Családi nap – ünnepeljenek velünk! \nUtazó mini állatkert\, Arcfestés és csillámtetoválás\, Játékos feladatok ajándékokért\, Jazzkoncert \nOktóber 5-én\, szombaton a Felnőtt és Gyermekkönyvtár: zárva
URL:https://erdkultura.hu/event/70-eves-a-konyvtar-es-okn-csaladi-nap-unnepeljenek-velunk/
CATEGORIES:előadás,Könyvtár
END:VEVENT
BEGIN:VEVENT
DTSTART;TZID=UTC:20241005T163000
DTEND;TZID=UTC:20241005T170000
DTSTAMP:20260422T053132
CREATED:20240925T141431Z
LAST-MODIFIED:20240926T091342Z
UID:2668-1728145800-1728147600@erdkultura.hu
SUMMARY:Hashtagjazz koncert (Rodek Balázs\, Bögöthy Ádám)
DESCRIPTION:Helyszín: Felnőttkönyvtár
URL:https://erdkultura.hu/event/hashtagjazz-koncert-rodek-balazs-bogothy-adam/
CATEGORIES:előadás,Könyvtár,zene
END:VEVENT
END:VCALENDAR