BEGIN:VCALENDAR
VERSION:2.0
PRODID:-//ÉrdKultúra - ECPv6.8.0//NONSGML v1.0//EN
CALSCALE:GREGORIAN
METHOD:PUBLISH
X-ORIGINAL-URL:https://erdkultura.hu
X-WR-CALDESC:Events for ÉrdKultúra
REFRESH-INTERVAL;VALUE=DURATION:PT1H
X-Robots-Tag:noindex
X-PUBLISHED-TTL:PT1H
BEGIN:VTIMEZONE
TZID:UTC
BEGIN:STANDARD
TZOFFSETFROM:+0000
TZOFFSETTO:+0000
TZNAME:UTC
DTSTART:20250101T000000
END:STANDARD
END:VTIMEZONE
BEGIN:VEVENT
DTSTART;TZID=UTC:20250929T080000
DTEND;TZID=UTC:20251003T170000
DTSTAMP:20260419T234011
CREATED:20250826T114928Z
LAST-MODIFIED:20250826T114928Z
UID:5389-1759132800-1759510800@erdkultura.hu
SUMMARY:Gyermekkönyvtár:   Foglalkozás: Népmese napja – tematikus mesehét   A Gyermekkönyvtár elérhetőségein előzetes időpont egyeztetést kérünk!
DESCRIPTION:
URL:https://erdkultura.hu/event/gyermekkonyvtar-foglalkozas-nepmese-napja-tematikus-mesehet-a-gyermekkonyvtar-elerhetosegein-elozetes-idopont-egyeztetest-kerunk/
CATEGORIES:Könyvtár
END:VEVENT
BEGIN:VEVENT
DTSTART;TZID=UTC:20251017T080000
DTEND;TZID=UTC:20251022T170000
DTSTAMP:20260419T234011
CREATED:20251014T140304Z
LAST-MODIFIED:20251014T140312Z
UID:5972-1760688000-1761152400@erdkultura.hu
SUMMARY:Gyermekkönyvtár: Foglalkozások: a Zene világnapja   A Gyermekkönyvtár elérhetőségein előzetes jelentkezést kérünk!
DESCRIPTION:
URL:https://erdkultura.hu/event/gyermekkonyvtar-foglalkozasok-a-zene-vilagnapja-a-gyermekkonyvtar-elerhetosegein-elozetes-jelentkezest-kerunk/
CATEGORIES:előadás,Könyvtár
END:VEVENT
BEGIN:VEVENT
DTSTART;TZID=UTC:20251029T170000
DTEND;TZID=UTC:20251029T190000
DTSTAMP:20260419T234011
CREATED:20251014T140417Z
LAST-MODIFIED:20251014T140417Z
UID:5974-1761757200-1761764400@erdkultura.hu
SUMMARY:Író-olvasó találkozó Karády Annával
DESCRIPTION:
URL:https://erdkultura.hu/event/iro-olvaso-talalkozo-karady-annaval/
CATEGORIES:előadás,Könyvtár
END:VEVENT
BEGIN:VEVENT
DTSTART;TZID=UTC:20251030T170000
DTEND;TZID=UTC:20251030T190000
DTSTAMP:20260419T234011
CREATED:20251014T140527Z
LAST-MODIFIED:20251014T140527Z
UID:5976-1761843600-1761850800@erdkultura.hu
SUMMARY:Felnőttkönyvtár: Téma a sorok között: Női sorsok a „mesés” Keleten  Beszélgetések könyvekről és az élet nagy kérdéseiről irodalmi élményeinken keresztül   A találkozót vezeti: Somfainé Szűcs Mária
DESCRIPTION:
URL:https://erdkultura.hu/event/felnottkonyvtar-tema-a-sorok-kozott-noi-sorsok-a-meses-keleten-beszelgetesek-konyvekrol-es-az-elet-nagy-kerdeseirol-irodalmi-elmenyeinken-keresztul-a-talalkozot-vezeti-somfaine/
CATEGORIES:előadás,Könyvtár
END:VEVENT
BEGIN:VEVENT
DTSTART;TZID=UTC:20251031T100000
DTEND;TZID=UTC:20251031T120000
DTSTAMP:20260419T234011
CREATED:20251014T140729Z
LAST-MODIFIED:20251014T140729Z
UID:5978-1761904800-1761912000@erdkultura.hu
SUMMARY:A Jószomszédság Könyvtára: Olvasó-olvasó találkozó
DESCRIPTION:
URL:https://erdkultura.hu/event/a-joszomszedsag-konyvtara-olvaso-olvaso-talalkozo-4/
CATEGORIES:előadás,Könyvtár
END:VEVENT
END:VCALENDAR