BEGIN:VCALENDAR
VERSION:2.0
PRODID:-//ÉrdKultúra - ECPv6.8.0//NONSGML v1.0//EN
CALSCALE:GREGORIAN
METHOD:PUBLISH
X-ORIGINAL-URL:https://erdkultura.hu
X-WR-CALDESC:Events for ÉrdKultúra
REFRESH-INTERVAL;VALUE=DURATION:PT1H
X-Robots-Tag:noindex
X-PUBLISHED-TTL:PT1H
BEGIN:VTIMEZONE
TZID:UTC
BEGIN:STANDARD
TZOFFSETFROM:+0000
TZOFFSETTO:+0000
TZNAME:UTC
DTSTART:20240101T000000
END:STANDARD
END:VTIMEZONE
BEGIN:VEVENT
DTSTART;TZID=UTC:20250315T140000
DTEND;TZID=UTC:20250315T170000
DTSTAMP:20260420T101551
CREATED:20250306T150626Z
LAST-MODIFIED:20250306T150626Z
UID:4262-1742047200-1742058000@erdkultura.hu
SUMMARY:Március 15-i ünnepi filmvetítés − Most vagy soha! 
DESCRIPTION:Az 1848−49-es forradalom és szabadságharcra emlékezve egész héten\, számos\, sokszínű programmal készül a Szepes Gyula Művelődési Központ − tagintézményeivel\, az Érdi Galériával és a Parkvárosi Közösségi Házzal együtt − és a Csuka Zoltán Városi Könyvtár. \nÜnnepeljünk együtt március 15-e alkalmából! \nMárcius 15-i ünnepi filmvetítés − Most vagy soha!\nHelyszín: Szepes Gyula Művelődési Központ  | 2030 Érd\, Alsó utca 9. \nMagyar történelmi kalandfilm\, akciófilm\, 135 perc\, 2024 \nA programon a részvétel ingyenes. \nTovábbi ünnepi programjaink 
URL:https://erdkultura.hu/event/marcius-15-i-unnepi-filmvetites-%e2%88%92-most-vagy-soha/
LOCATION:SZEPES\, Alsó u. 9.\, Érd\, 2030\, Magyarország
CATEGORIES:előadás,film,szepes
ATTACH;FMTTYPE=image/jpeg:https://erdkultura.hu/wp-content/uploads/2025/03/Most_vagy_soha_12V_1920x1080px.jpg
END:VEVENT
BEGIN:VEVENT
DTSTART;TZID=UTC:20250314T170000
DTEND;TZID=UTC:20250314T200000
DTSTAMP:20260420T101551
CREATED:20250214T093955Z
LAST-MODIFIED:20250217T120626Z
UID:4006-1741971600-1741982400@erdkultura.hu
SUMMARY:Filmklub Bárdos Csaba filmtörténész-esztétával 
DESCRIPTION:Filmklub Bárdos Csaba filmtörténész-esztétával   \nA graffiti királya (Basquiat)  \namerikai életrajzi dráma\, 108 perc\, 1996   \nRendező: Julian Schnabel   \n1981-ben egy addig ismeretlen\, húszéves graffiti-firkász vált a New York-i művészvilág és média legvitatottabb témájává: Jean-Michel Basquiat különleges képei egyik pillanatról a másikra gyűjtők és múzeumok legkeresettebb darabjai lettek. A film mottója a következő lehetne: „A betondzsungelben felkel a Nap…” Tehetsége és különcsége emelte fel a csillagokig\, de a csillagok mögött meg kellett ismernie a legsötétebb éjszakát is. (Port.hu)   \nA vetítést megelőző és az azt követő beszélgetést Bárdos Csaba filmtörténész-esztéta vezeti.   \nA programon a részvétel díjtalan\, de regisztrációhoz kötött. Részvételi szándékát kérjük az erdigaleria@gmail.com e-mail címen jelezze. A műsor- és programváltozás jogát fenntartjuk! 
URL:https://erdkultura.hu/event/filmklub-bardos-csaba-filmtortenesz-esztetaval-12/
LOCATION:GALÉRIA\, Alsó utca 2.\, Érd\, 2030\, Magyarország
CATEGORIES:előadás,film,Galéria,tanfolyam
ATTACH;FMTTYPE=image/png:https://erdkultura.hu/wp-content/uploads/2025/02/Web-kep-31.png
END:VEVENT
BEGIN:VEVENT
DTSTART;TZID=UTC:20250301T180000
DTEND;TZID=UTC:20250301T200000
DTSTAMP:20260420T101551
CREATED:20250214T083806Z
LAST-MODIFIED:20250216T134021Z
UID:3981-1740852000-1740859200@erdkultura.hu
SUMMARY:ÚJ! Parkvárosi Filmklub 
DESCRIPTION:Első időpont: 2025. március 1. 18:00   \nA filmvetítést követő beszélgetés meghívott vendége: \nDr. Muhi Erika ügyvéd\, jogvédő \n  Szervező: Parkvárosi Filmklub    Havonta 1 alkalommal. A részvétel ingyenes.  
URL:https://erdkultura.hu/event/parkvarosi-filmklub/
LOCATION:PARKVÁROS\, Gépész u. 14.\, Érd\, 2030\, Magyarország
CATEGORIES:előadás,film,Parkváros,tanfolyam
ATTACH;FMTTYPE=image/png:https://erdkultura.hu/wp-content/uploads/2025/02/parkvarosi-filmklub-1.png
END:VEVENT
BEGIN:VEVENT
DTSTART;TZID=UTC:20250214T170000
DTEND;TZID=UTC:20250214T210000
DTSTAMP:20260420T101551
CREATED:20250115T133116Z
LAST-MODIFIED:20250115T133116Z
UID:3744-1739552400-1739566800@erdkultura.hu
SUMMARY:Filmklub Bárdos Csaba filmtörténész-esztétával
DESCRIPTION:A nap szerelmese (Lust for life)\namerikai filmdráma\, 117 perc\, 1956 \nRendező: Vincente Minnelli\, George Cukor \nEgy nagy művész\, a szörnyű kínokat megélt holland festő Vincent Van Gogh életét beszéli el ez a felkavaró kép világú\, érdekfeszítő és érzelmeket ébresztő filmklasszikus\, mindvégig hűségesen a valóság tényeihez. Hogyan lett a holland lelkészdinasztia sarjából ellenállhatatlan belső parancs sugallatára olyan ember\, akit semi más nem érdekel\, csak hogy fessen? Van Gogh mindössze harmminchét esztendőt élt\, s ebből tíz évig alkotott. Nyomorgott\, magányos és beteg volt. Ma képei nemcsak a leghíresebb múzeumok féltve őrzött darabjai\, hanem a világ műkincspiacának dollármilliókért gazdát cserélő verhetetlen sztárjai is. A film alapjául Irving Stone életrajzi regénye szolgált\, amelyet a festő és testvére\, Theo közötti levelezés ihletett. \nforrás: Port.hu
URL:https://erdkultura.hu/event/filmklub-bardos-csaba-filmtortenesz-esztetaval-11/
LOCATION:GALÉRIA\, Alsó utca 2.\, Érd\, 2030\, Magyarország
CATEGORIES:előadás,film,Galéria,kiállítás
ATTACH;FMTTYPE=image/png:https://erdkultura.hu/wp-content/uploads/2025/01/Web-kep-10.png
END:VEVENT
BEGIN:VEVENT
DTSTART;TZID=UTC:20250110T170000
DTEND;TZID=UTC:20250110T200000
DTSTAMP:20260420T101551
CREATED:20241129T094706Z
LAST-MODIFIED:20241129T094706Z
UID:3366-1736528400-1736539200@erdkultura.hu
SUMMARY:Filmklub Bárdos Csaba filmtörténész-esztétával
DESCRIPTION:MODIGLIANI \namerikai-francia-német-olasz-román-angol\, 128 perc\, 2004\nRendező: Mick Davis \nAz életrajzi film az 1920-ban 36 évesen\, szegényen és betegségben elhunyt itáliai szobrász és festőművész\, Amadeo Modigliani utolsó szerelmét és életének utolsó napjait mutatja be. 1919-ben\, az első világháború után Párizs a művészek Mekkájának számított\, ahol a mozgalmas éjszakai életet élő alkotók veszélyes szenvedélyeiknek adóztak. Az egymással rivalizáló művészek izgalmas életét ismerhetjük meg\, valamint a szemünk elé tárul Modigliani Picasso-val folytatott keserű harcának eddig ismeretlen története is. \nA vetítést megelőző és az azt követő beszélgetést Bárdos Csaba filmtörténész-esztéta vezeti. \nA programon a részvétel ingyenes. \nA műsor- és programváltozás jogát fenntartjuk! \nKép forrása: mafab.hu
URL:https://erdkultura.hu/event/filmklub-bardos-csaba-filmtortenesz-esztetaval-10/
LOCATION:GALÉRIA\, Alsó utca 2.\, Érd\, 2030\, Magyarország
CATEGORIES:előadás,film,Galéria
ATTACH;FMTTYPE=image/jpeg:https://erdkultura.hu/wp-content/uploads/2024/11/468568025_122228821454009095_8967910472934783695_n.jpg
END:VEVENT
BEGIN:VEVENT
DTSTART;TZID=UTC:20241206T170000
DTEND;TZID=UTC:20241206T200000
DTSTAMP:20260420T101551
CREATED:20241122T160833Z
LAST-MODIFIED:20241124T181315Z
UID:3288-1733504400-1733515200@erdkultura.hu
SUMMARY:Filmklub Bárdos Csaba filmtörténész-esztétával
DESCRIPTION:AMADEUS \namerikai filmdráma\, 160 perc\, 1984 Rendező: Miloš Forman \n„Mozart és Salieri: a tehetség és a középszerűség ellentéte\, örök harca sokakat megihletett már. Milos Forman szakított e művészi hagyományokkal. Filmje nem a középszerűség szívósságát és a zseni törékenységét ábrázolja. Az Amadeusban két súlyos egyéniség mérkőzik\, ütközik meg. Forman Salierije cseppet sem kisszerű\, csupán a tehetség félreismerhetetlen nagyvonalúsága hiányzik belőle. Az a fajta művészi és emberi természetesség\, ami Mozartot igazán naggyá tette… Mozart halálos ágyánál Salierinek lassacskán megvilágosodik: hiába a düh és a görcsös akarás\, a tehetség egészen más anyagból van. Mozarttal olyan ember távozott\, aki valóban a teremtő kegyeltje volt.” (Port.hu) \nA vetítést megelőző és az azt követő beszélgetést Bárdos Csaba filmtörténész-esztéta vezeti. \nA programon a részvétel ingyenes. \nA műsor- és programváltozás jogát fenntartjuk!
URL:https://erdkultura.hu/event/filmklub-bardos-csaba-filmtortenesz-esztetaval-9/
LOCATION:GALÉRIA\, Alsó utca 2.\, Érd\, 2030\, Magyarország
CATEGORIES:előadás,film,Galéria
ATTACH;FMTTYPE=image/png:https://erdkultura.hu/wp-content/uploads/2024/11/FB-eemeny-borito-5.png
END:VEVENT
BEGIN:VEVENT
DTSTART;TZID=UTC:20241201T100000
DTEND;TZID=UTC:20241201T120000
DTSTAMP:20260420T101551
CREATED:20241115T134114Z
LAST-MODIFIED:20241122T142056Z
UID:3226-1733047200-1733054400@erdkultura.hu
SUMMARY:Ingyenes családi filmvetítés
DESCRIPTION:Ingyenes családi animációs filmvetítés\, ahol büfével és popcornnal várunk Benneteket! \namerikai családi animációs film\, komédia\, 90 perc\, 2018 \nA filmvetítésen a részvétel INGYENES.
URL:https://erdkultura.hu/event/csaladi_filmvetites/
LOCATION:SZEPES\, Alsó u. 9.\, Érd\, 2030\, Magyarország
CATEGORIES:film,szepes
ATTACH;FMTTYPE=image/png:https://erdkultura.hu/wp-content/uploads/2024/11/FB-eemeny-borito-7.png
END:VEVENT
BEGIN:VEVENT
DTSTART;TZID=UTC:20241122T170000
DTEND;TZID=UTC:20241122T200000
DTSTAMP:20260420T101551
CREATED:20241019T140548Z
LAST-MODIFIED:20241110T181247Z
UID:2933-1732294800-1732305600@erdkultura.hu
SUMMARY:Filmklub Bárdos Csaba filmtörténész-esztétával
DESCRIPTION:Éjfélkor Párizsban\nFilmklub Bárdos Csaba filmtörténész-esztétával \n2024. november 22.\, péntek 17:00 \nÉjfélkor Párizsban \n(Midnight in Paris) \nspanyol-amerikai romantikus vígjáték \, 94 perc\, 2011 \nRendező: Woody Allen \n„Gil és Inez jegyesek\, akik üzleti okokból Párizsba látogatnak. Időközben kiderül\, hogy a pár nem egészen egymáshoz való. Gil esetleg Párizsban szeretne élni\, es komoly íróvá válni\, míg Ineznél ez szóba sem jöhet. Gil szeret esőben sétálni\, míg Inez nem. A történetben a fordulatot az hozza\, hogy Gil felfedezi\, hogy pontban éjfélkor Párizs egy bizonyos pontján egy fiákerbe szállva időutazásban vehet reszt\, amely visszaröpíti az általa kedvelt 1920-as évekbe.” (Port.hu) \nA vetítést megelőző és az azt követő beszélgetést Bárdos Csaba filmtörténész-esztéta vezeti. \nA programon a részvétel ingyenes! \nA műsor- és programváltozás jogát fenntartjuk!
URL:https://erdkultura.hu/event/filmklub-bardos-csaba-filmtortenesz-esztetaval-8/
LOCATION:GALÉRIA\, Alsó utca 2.\, Érd\, 2030\, Magyarország
CATEGORIES:előadás,film,Galéria,kiállítás
ATTACH;FMTTYPE=image/jpeg:https://erdkultura.hu/wp-content/uploads/2024/10/ejfelkor.jpg
END:VEVENT
BEGIN:VEVENT
DTSTART;TZID=UTC:20241018T170000
DTEND;TZID=UTC:20241018T183000
DTSTAMP:20260420T101551
CREATED:20241003T084143Z
LAST-MODIFIED:20241003T131751Z
UID:2753-1729270800-1729276200@erdkultura.hu
SUMMARY:Filmklub - Ruben Brandt\, a gyűjtő
DESCRIPTION:Filmklub Bárdos Csaba filmtörténész-esztétával \n2024. október 18.\, péntek 17:00 \nRuben Brandt\, a gyűjtő\, magyar animációs film\, 96 perc\, 2018 \n(Ruben Brandt\, Collector) \nRendező: Milorad Krstić \n  \nHúsz nap alatt húsz híres és szigorúan őrzött múzeumot rabolnak ki\, és visznek el felbecsülhetetlen értékű műkincseket. Nem csak a rendőrség\, hanem pénzéhes fejvadászok és gengszterek is szeretnék elkapni az ügyes kezű tolvajt\, akinek fejére 1 milliárd dollárt tűnek ki vérdíjul. Még egy washingtoni detektív\, Mike Kowalski\, a nemzetközi műkincsrablásiok elismert szakértője is a nyomába ered. A rabló pedig nem más\, mint az épp sikerei csúcsán lévő Ruben Brandt\, aki nem jószántából kényszerül arra\, hogy megfújja a világ 25 legismertebb festményét. (Magyar Nemzeti Filmalap) \n  \nBárdos Csaba filmtörténész-esztétát az október 18-i alkalmon Seres Sándor filmklubvezető helyettesíti. \n  \nA programon a részvétel ingyenes.
URL:https://erdkultura.hu/event/filmklub-ruben-brandt-a-gyujto/
LOCATION:GALÉRIA\, Alsó utca 2.\, Érd\, 2030\, Magyarország
CATEGORIES:előadás,film,Galéria
ATTACH;FMTTYPE=image/png:https://erdkultura.hu/wp-content/uploads/2024/10/FB-eemeny-borito-2.png
END:VEVENT
BEGIN:VEVENT
DTSTART;TZID=UTC:20240915T150000
DTEND;TZID=UTC:20240915T170000
DTSTAMP:20260420T101551
CREATED:20240829T120506Z
LAST-MODIFIED:20240914T172510Z
UID:2315-1726412400-1726419600@erdkultura.hu
SUMMARY:Énekelj! - ingyenes filmvetítés (filmváltozás)
DESCRIPTION:AZ ESEMÉNY BETELT! \nA X. AVL-Érdi Jazz Fesztivál részeként:\nSzeptember 15.-én 15 órától Énekelj! ingyenes mesefilmvetítés a Galériában (Érd\, Alsó u. 2.) \namerikai családi animációs film\, 107 perc\, 2016 \nAz Énekelj! egy állatok által benépesített emberi világban játszódik. Buster Moon\, az elegáns koala egy valaha szebb napokat látott színház igazgatója. Buster örök optimista (na jó\, azért kissé zsivány is)\, és mindennél jobban szereti a színházát – bármit megtenne azért\, hogy fennmaradjon. Látva\, hogy élete álma az összeomlás szélén áll\, egy utolsó esélye van\, hogy visszaadja az intézmény régi fényét: ha megrendezi a világ legnagyobb énekversenyét. Öt versenyző emelkedik ki a többiek közül: egy egér\, akinek a hangja és a modora is simulékony; egy félénk tini elefánt\, akinek hatalmas a lámpaláza; egy túlhajszolt anya\, aki huszonöt kismalacot gondoz; egy ifjú gengsztergorilla\, aki szakítani akar a kétes családi múlttal; és egy punk-rock tarajos sül\, aki arrogáns pasiját igyekszik lerázni magáról. Mind az öten abban a reményben érkeznek Buster színpadára\, hogy meg tudják változtatni addigi életüket…\n(Port.hu) \nRegisztráció: Az esemény betelt! \nA X.AVL-Érdi Jazz Fesztivál további programjaira itt tudsz jegyet venni: https://jegyx1.hu/kereses
URL:https://erdkultura.hu/event/macskarisztokratak-ingyenes-filmvetites/
LOCATION:GALÉRIA\, Alsó utca 2.\, Érd\, 2030\, Magyarország
CATEGORIES:Fesztivál,film,szepes
ATTACH;FMTTYPE=image/png:https://erdkultura.hu/wp-content/uploads/2024/08/FB-eemeny-borito-1.png
END:VEVENT
BEGIN:VEVENT
DTSTART;TZID=UTC:20240914T150000
DTEND;TZID=UTC:20240914T170000
DTSTAMP:20260420T101551
CREATED:20240829T121425Z
LAST-MODIFIED:20240911T131537Z
UID:2321-1726326000-1726333200@erdkultura.hu
SUMMARY:Pont az a dal - ingyenes filmvetítés (filmváltozás)
DESCRIPTION:A X. AVL-Érdi Jazz Fesztivál részeként:\nSzeptember 14.-én 15 órától Pont az a dal ingyenes filmvetítés a Galériában (Érd\, Alsó u. 2.) \namerikai romantikus dráma\, zenés film\, 113 perc\, 2020 \nA Los Angeles-i zeneipar csillogó világában játszódik a szupersztár énekesnő\, Grace Davis (Tracee Ellis Ross) története\, akinek tehetsége és egója elképzelhetetlen magasságokban szárnyal. Maggie (Dakota Johnson) Grace túlterhelt személyi asszisztense\, aki beleragadt az énekesnő napi\, csip-csup ügyeinek intézésébe\, de nem mondott le arról a gyermekkori álmáról\, hogy zenei producer legyen.\nAmikor Grace menedzsere (Ice Cube) olyan választás elé állítja a sztárt\, ami eltérítheti a karrierje menetét\, Maggie és Grace előállnak egy tervvel\, mely örökre megváltoztathatja az életüket…\n(Port.hu) \nRegisztráció: https://docs.google.com/forms/d/e/1FAIpQLSf3btKP9rw7UzzE9H76-HcteAS_yOxHMVPtzqMhBsjuFblyFQ/viewform?usp=sf_link \nA X.AVL-Érdi Jazz Fesztivál további programjaira itt tudsz jegyet venni: https://jegyx1.hu/kereses
URL:https://erdkultura.hu/event/kaliforniai-alom-ingyenes-filmvetites/
LOCATION:GALÉRIA\, Alsó utca 2.\, Érd\, 2030\, Magyarország
CATEGORIES:Fesztivál,film,szepes
ATTACH;FMTTYPE=image/png:https://erdkultura.hu/wp-content/uploads/2024/08/FB-eemeny-borito.png
END:VEVENT
BEGIN:VEVENT
DTSTART;TZID=UTC:20240531T170000
DTEND;TZID=UTC:20240531T190000
DTSTAMP:20260420T101551
CREATED:20240424T164015Z
LAST-MODIFIED:20240506T083124Z
UID:1851-1717174800-1717182000@erdkultura.hu
SUMMARY:Filmklub Bárdos Csaba filmtörténész-esztétával
DESCRIPTION:Olasz nyelv kezdőknek (dán-svéd\, 2000\, 112 perc) \nTematika: Élet skandináv módra \nrendező: Lone Scherfig főszereplő: Anders W. Berthelsen \nRészvételi díj: 800 Ft/fő
URL:https://erdkultura.hu/event/filmklub-bardos-csaba-filmtortenesz-esztetaval-7/
LOCATION:GALÉRIA\, Alsó utca 2.\, Érd\, 2030\, Magyarország
CATEGORIES:előadás,film,Galéria
ATTACH;FMTTYPE=image/jpeg:https://erdkultura.hu/wp-content/uploads/2024/04/964.jpg
END:VEVENT
BEGIN:VEVENT
DTSTART;TZID=UTC:20240517T170000
DTEND;TZID=UTC:20240517T190000
DTSTAMP:20260420T101551
CREATED:20240422T092531Z
LAST-MODIFIED:20240508T104947Z
UID:1799-1715965200-1715972400@erdkultura.hu
SUMMARY:Filmklub Bárdos Csaba filmtörténész-esztétával – Jön Harold!
DESCRIPTION:Jön Harold! (norvég-svéd\, 2014\, 87 perc) \nTematika: élet skandináv módra \nrendező: Gunnar Vikene\, főszereplő: Bjorn Sundquist \nRészvételi díj: 800 Ft/fő
URL:https://erdkultura.hu/event/filmklub-bardos-csaba-filmtortenesz-esztetaval-jon-harold/
LOCATION:GALÉRIA\, Alsó utca 2.\, Érd\, 2030\, Magyarország
CATEGORIES:előadás,film,Galéria
ATTACH;FMTTYPE=image/jpeg:https://erdkultura.hu/wp-content/uploads/2024/04/MV5BYTAzMGY0ZWItYTQ3Mi00MDY4LThlYmEtM2FhNTA3NGIwNDBhXkEyXkFqcGdeQXVyNDE5MTU2MDE@._V1_.jpg
END:VEVENT
BEGIN:VEVENT
DTSTART;TZID=UTC:20240503T170000
DTEND;TZID=UTC:20240503T190000
DTSTAMP:20260420T101551
CREATED:20240419T133414Z
LAST-MODIFIED:20240420T183853Z
UID:1749-1714755600-1714762800@erdkultura.hu
SUMMARY:Filmklub Bárdos Csaba filmtörténész-esztétával
DESCRIPTION:Filmklub Bárdos Csaba filmtörténész-esztétával – Haverok (norvég\, 2003\, 101 perc) \nTematika: élet skandináv módra \nrendező: Morten Tyldum\, főszereplő: Nicolai Cleve Broch \nRészvételi díj: 800 Ft/fő
URL:https://erdkultura.hu/event/filmklub-bardos-csaba-filmtortenesz-esztetaval-6/
LOCATION:GALÉRIA\, Alsó utca 2.\, Érd\, 2030\, Magyarország
CATEGORIES:film,Galéria
ATTACH;FMTTYPE=image/webp:https://erdkultura.hu/wp-content/uploads/2024/04/image-w1280.webp
ORGANIZER;CN="Kanizsai Eszter I GAL%C3%89RIA":MAILTO:kanizsai.eszter@szepesmk.hu
END:VEVENT
BEGIN:VEVENT
DTSTART;TZID=UTC:20240405T170000
DTEND;TZID=UTC:20240405T190000
DTSTAMP:20260420T101551
CREATED:20240306T173313Z
LAST-MODIFIED:20240409T165618Z
UID:1335-1712336400-1712343600@erdkultura.hu
SUMMARY:Filmklub Bárdos Csaba filmtörténész-esztétával
DESCRIPTION:Minden második pénteken 17 órától \n2024. április 5.\, péntek 17 óra\nÉjszakai rohanás (amerikai\, 1988\, 121 perc)\nrendező: Martin Brest\nfőszereplő: Robert De Niro
URL:https://erdkultura.hu/event/filmklub-bardos-csaba-filmtortenesz-esztetaval-4/
LOCATION:GALÉRIA\, Alsó utca 2.\, Érd\, 2030\, Magyarország
CATEGORIES:film,Galéria
ATTACH;FMTTYPE=image/jpeg:https://erdkultura.hu/wp-content/uploads/2024/03/mid.jpg
ORGANIZER;CN="Kanizsai Eszter I GAL%C3%89RIA":MAILTO:kanizsai.eszter@szepesmk.hu
END:VEVENT
BEGIN:VEVENT
DTSTART;TZID=UTC:20240322T170000
DTEND;TZID=UTC:20240322T200000
DTSTAMP:20260420T101551
CREATED:20240130T142832Z
LAST-MODIFIED:20240313T143516Z
UID:507-1711126800-1711137600@erdkultura.hu
SUMMARY:FILMKLUB Bárdos Csaba filmtörténész-esztétával
DESCRIPTION:A SZABADSÁG ÚTJAI \n(amerikai-angol\, 2008\, 112 perc)\nrendező: Sam Mendes\nfőszereplő: Leonardo Di Caprio\, Kate Winslet \nProgram:\n17.00-17.10 Bárdos Csaba filmtörténész-esztéta felvezeti a filmet\n17.10-18.40 A film megnézése\n18.40-18.50 Szünet\n18.50-kb.20.00 Beszélgetés a filmről\, a film kapcsán bennünk felmerült gondolatokról\, érzésekről Bárdos Csaba moderálásával
URL:https://erdkultura.hu/event/filmklub-bardos-csaba-filmtortenesz-esztetaval-3/
LOCATION:GALÉRIA\, Alsó utca 2.\, Érd\, 2030\, Magyarország
CATEGORIES:film
ATTACH;FMTTYPE=image/jpeg:https://erdkultura.hu/wp-content/uploads/2024/01/ERD_KULT_A_szabadsag_utjai.jpg
ORGANIZER;CN="Kanizsai Eszter I GAL%C3%89RIA":MAILTO:kanizsai.eszter@szepesmk.hu
END:VEVENT
BEGIN:VEVENT
DTSTART;TZID=UTC:20240319T180000
DTEND;TZID=UTC:20240319T203000
DTSTAMP:20260420T101551
CREATED:20240306T171920Z
LAST-MODIFIED:20240306T174152Z
UID:1328-1710871200-1710880200@erdkultura.hu
SUMMARY:VOLT EGYSZER EGY VADVÍZORSZÁG - Szendőfi Balázs filmje a Körösök vidékéről
DESCRIPTION:2024. március 19.\, kedd 18.00-20.30 \nA víz világnapja alkalmából \nVendégünk: Szendőfi Balázs természetfilmes\, független halkutató\, zeneszerző\, basszusgitáros \nLenyűgöz és arcul csap – írták a kritikák Szendőfi Balázs Volt egyszer egy vadvízország című természetfilmjéről\, melynek 2023. március 25-én volt Békéscsabán a premierje.\n„A természet szisztematikus felszámolásának az elvét a legnagyobb magyar mondta ki.” Széchenyi István folyószabályozásának következtében a Körösök 248 helyen összesen 546 km-t rövidültek\, így pl. a Sebes-Körös min.- max. vízmennyiség különbsége 940(!) szeresére nőtt. Mi maradt Európa egyik legjelentősebb vizes élőhelyéből? \nGyönyörű képek\, izgalmas jelenetek és égető problémák\, amelyek középpontjában az éltető víz áll. A Volt egyszer egy vadvízország egy olyan film\, amely mindenkit érint és megérint. Az első képkockától lebilincselő képi világ\, a zene\, a dramaturgia ereje és a film kíméletlenül igaz üzenete\, megdöbbentően hatott. \n87 perc tömény „naturalizmus” a Körös-vidék elpusztult és még fennmaradt természeti értékeiről\, legfontosabb környezeti problémáiról. \nProgram:\n18.00-19.30 Volt egyszer egy vadvízország című film megnézése\n19.30-kb. 20.30 Beszélgetés\, „közönségtalálkozó” a film alkotójával\, Szendőfi Balázzsal \nRészvételi díj: 800 Ft/fő \nRegisztráció: kanizsai.eszter@szepesmk.hu\nBővebb információ:\nKanizsai Eszter közművelődési szakember\n+36 20 569 0455 \n 
URL:https://erdkultura.hu/event/volt-egyszer-egy-vadvizorszag-szendofi-balazs-filmje-a-korosok-videkerol/
LOCATION:GALÉRIA\, Alsó utca 2.\, Érd\, 2030\, Magyarország
CATEGORIES:film
ATTACH;FMTTYPE=image/png:https://erdkultura.hu/wp-content/uploads/2024/03/vadvizorszag.png
ORGANIZER;CN="Kanizsai Eszter I GAL%C3%89RIA":MAILTO:kanizsai.eszter@szepesmk.hu
END:VEVENT
BEGIN:VEVENT
DTSTART;TZID=UTC:20240301T170000
DTEND;TZID=UTC:20240301T200000
DTSTAMP:20260420T101551
CREATED:20240130T142249Z
LAST-MODIFIED:20240130T154324Z
UID:502-1709312400-1709323200@erdkultura.hu
SUMMARY:FILMKLUB Bárdos Csaba filtörtönész-esztétával
DESCRIPTION:FÚSI\n(izlandi\, 2015\, 94 perc)\nrendező: Dagur Kári\nfőszereplő: Gunnar Jönsson \nA Fúsi az a szívet tépően őszinte és jóindulatú film\, aminek egy-egy jelenete kitörölhetetlenül a szívünkben marad. És ez nem csak a rendező érdeme: leginkább a szelíd óriást alakító Gunnar Jönsson vesz le minket a lábunkról.\nA film egy ironikus humorú feljődéstörténet\, mely abszurd jeleneteivel kiegészülve nem csak Fúsi jellemét árnyalja rendkívüli mélységekig\, de a környezetében élők személyiségét is megismerteti velünk. Mindeközben együtt érzünk\, sajnálunk\, szurkolunk\, izgulunk\, meglepődünk és örülünk. Mint egy igazi jó filmben! \nProgram:\n17.00-17.10 Bárdos Csaba filmtörténész-esztéta felvezeti a filmet\n17.10-18.40 A film megnézése\n18.40-18.50 Szünet\n18.50-kb.20.00 Beszélgetés a filmről\, a film kapcsán bennünk felmerült gondolatokról\, érzésekről Bárdos Csaba moderálásával
URL:https://erdkultura.hu/event/filmklub-bardos-csaba-filmtortenesz-esztetaval-2/
LOCATION:GALÉRIA\, Alsó utca 2.\, Érd\, 2030\, Magyarország
CATEGORIES:film
ATTACH;FMTTYPE=image/jpeg:https://erdkultura.hu/wp-content/uploads/2024/01/fusi2.jpg
ORGANIZER;CN="Kanizsai Eszter I GAL%C3%89RIA":MAILTO:kanizsai.eszter@szepesmk.hu
END:VEVENT
BEGIN:VEVENT
DTSTART;TZID=UTC:20240216T170000
DTEND;TZID=UTC:20240216T200000
DTSTAMP:20260420T101551
CREATED:20240130T141707Z
LAST-MODIFIED:20240209T110031Z
UID:498-1708102800-1708113600@erdkultura.hu
SUMMARY:FILMKLUB Bárdos Csaba filtörtönész-esztétával
DESCRIPTION:REVANS \n(osztrák\, 2008\, 117 perc)\nrendező: Götz Spielmann\nfőszereplő: Johannes Krisch \nGötz Spielmann eddigi csaknem 20 éves karrierje során mindössze négy alkotást termelt ki\, a sorból épp a Revans hozta meg számára a nemzetközi áttörést. A rendező Oscar-jelölt filmje olyan\, mint amikor hóba izzó vasdarab hull: hideg fejjel mesél vágyról és bosszúról\, megbocsátásról és szeretetről. Kaméleonként álcázza magát több műfajnak is\, hogy végül egy tipikus fesztiválfilm váljon belőle\, de elég erős ahhoz\, hogy ez ne legyen baj. \nProgram:\n17.00-17.10 Bárdos Csaba filmtörténész-esztéta felvezeti a filmet\n17.10-18.40 A film megnézése\n18.40-18.50 Szünet\n18.50-kb.20.00 Beszélgetés a filmről\, a film kapcsán bennünk felmerült gondolatokról\, érzésekről Bárdos Csaba moderálásával
URL:https://erdkultura.hu/event/filmklub-bardos-csaba-filmtortenesz-esztetaval/
LOCATION:GALÉRIA\, Alsó utca 2.\, Érd\, 2030\, Magyarország
CATEGORIES:film
ATTACH;FMTTYPE=image/jpeg:https://erdkultura.hu/wp-content/uploads/2024/01/revanche-ti-uccidero-2008-revanche-spielmann-02.jpg
ORGANIZER;CN="Kanizsai Eszter I GAL%C3%89RIA":MAILTO:kanizsai.eszter@szepesmk.hu
END:VEVENT
END:VCALENDAR