BEGIN:VCALENDAR
VERSION:2.0
PRODID:-//ÉrdKultúra - ECPv6.8.0//NONSGML v1.0//EN
CALSCALE:GREGORIAN
METHOD:PUBLISH
X-WR-CALNAME:ÉrdKultúra
X-ORIGINAL-URL:https://erdkultura.hu
X-WR-CALDESC:Events for ÉrdKultúra
REFRESH-INTERVAL;VALUE=DURATION:PT1H
X-Robots-Tag:noindex
X-PUBLISHED-TTL:PT1H
BEGIN:VTIMEZONE
TZID:UTC
BEGIN:STANDARD
TZOFFSETFROM:+0000
TZOFFSETTO:+0000
TZNAME:UTC
DTSTART:20260101T000000
END:STANDARD
END:VTIMEZONE
BEGIN:VEVENT
DTSTART;TZID=UTC:20260313T170000
DTEND;TZID=UTC:20260313T200000
DTSTAMP:20260420T061051
CREATED:20260112T083040Z
LAST-MODIFIED:20260112T084001Z
UID:6950-1773421200-1773432000@erdkultura.hu
SUMMARY:Filmklub Bárdos Csaba filmtörténész-esztétával
DESCRIPTION:A programon a részvétel díjtalan.  \nA Filmklub időpontjai 2026-ban: \nJanuár 16. \nFebruár 13. \nÁprilis 10. \nMájus 8. \n  \nA szervezők a programváltozás jogát fenntartják.\nA programon résztvevők elfogadják a házirendet\, valamint elfogadják\, hogy a programon készült kép-\, hang- és videofelvételt a szervezők saját nyilvános felületeiken\, illetve egyéb médiafelületeken való megjelenés során felhasználhatnak.
URL:https://erdkultura.hu/event/filmklub-bardos-csaba-filmtortenesz-esztetaval-21/
LOCATION:GALÉRIA\, Alsó utca 2.\, Érd\, 2030\, Magyarország
CATEGORIES:film,Galéria
ATTACH;FMTTYPE=image/jpeg:https://erdkultura.hu/wp-content/uploads/2025/07/Web-kep.jpeg
END:VEVENT
BEGIN:VEVENT
DTSTART;TZID=UTC:20260328T180000
DTEND;TZID=UTC:20260328T210000
DTSTAMP:20260420T061051
CREATED:20260304T154305Z
LAST-MODIFIED:20260304T154305Z
UID:7540-1774720800-1774731600@erdkultura.hu
SUMMARY:Parkvárosi filmklub
DESCRIPTION:Részletek a filmről hamarosan…\n\nHelyszín: Parkvárosi Közösségi Ház (2030 Érd\, Gépész u. 14.)\nA programon való részvétel díjtalan\, de regisztrációhoz kötött. Részvételi szándékod kérjük\, jelezd az muaniko76@gmail.com e-mail címen.\n\n\nA szervezők a programváltozás jogát fenntartják.\nA programon résztvevők elfogadják a házirendet\, valamint elfogadják\, hogy a programon készült kép-\, hang- és videofelvételt a szervezők saját nyilvános felületeiken\, illetve egyéb médiafelületeken való megjelenés során felhasználhatnak.
URL:https://erdkultura.hu/event/parkvarosi-filmklub-11/
LOCATION:PARKVÁROS\, Gépész u. 14.\, Érd\, 2030\, Magyarország
CATEGORIES:előadás,film,Parkváros
ATTACH;FMTTYPE=image/jpeg:https://erdkultura.hu/wp-content/uploads/2026/03/parkvarosi-filmklub.jpg
END:VEVENT
END:VCALENDAR