BEGIN:VCALENDAR
VERSION:2.0
PRODID:-//ÉrdKultúra - ECPv6.8.0//NONSGML v1.0//EN
CALSCALE:GREGORIAN
METHOD:PUBLISH
X-ORIGINAL-URL:https://erdkultura.hu
X-WR-CALDESC:Events for ÉrdKultúra
REFRESH-INTERVAL;VALUE=DURATION:PT1H
X-Robots-Tag:noindex
X-PUBLISHED-TTL:PT1H
BEGIN:VTIMEZONE
TZID:UTC
BEGIN:STANDARD
TZOFFSETFROM:+0000
TZOFFSETTO:+0000
TZNAME:UTC
DTSTART:20250101T000000
END:STANDARD
END:VTIMEZONE
BEGIN:VEVENT
DTSTART;TZID=UTC:20251031T140000
DTEND;TZID=UTC:20251031T180000
DTSTAMP:20260422T225948
CREATED:20251003T124115Z
LAST-MODIFIED:20251007T122846Z
UID:5827-1761919200-1761933600@erdkultura.hu
SUMMARY:14. TökJó Fesztivál Érden
DESCRIPTION:14.TökJó Fesztivál\nIdén 14. alkalommal kerül megrendezésre a TökJó Fesztivál – ahol minden a tökről\, a jókedvről és a Halloween varázsáról szól. Csatlakozz hozzánk\, és ünnepeljünk együtt! \nIdőpont: 2025. 10. 31. 14:00 – 18:00 \nHelyszín: Szepes Gyula Művelődési Központ | 2030 Érd\, Alsó utca 9. \nProgramok a TökJó Fesztiválon:\n14:00 Animációs filmvetítés (95 perc – amerikai animációs film)\n15:45 JP Dance Company – Táncolj velünk!\n16:15 Halloweeni Tömegkvíz\n16:30 Animációs filmvetítés (20 perc – amerikai animációs film)\n17:00 Jelmezes felvonulás – Gyere te is jelmezben\, és mutasd meg a színpadon!\n17:30 Tökfaragó-szépségverseny eredményhirdetése\n17:40 MiniDisco \nTovábbi programok:\n\nArcfestés\nÜgyességi játékok\nBájitalkészítés\nBátorságpróba\nPapírszínház\nKézműveskedés\nMinigolf\nKézműves vásár\nTökkiállítás\nFotófal \n\n\n\n\n\nTökJó Afterparty\nIdőpont: 2025. 10. 31. 20:00 – 02:00 \nRetro és mai slágerek \nHelyszín: Tornácos Söröző | 2030 Érd\, Felső utca 22. \nBelépés jelmezben ingyenes\, jelmez nélkül 2.500 Ft/fő. \nElőzetes jelentkezés szükséges a rendezveny@marshal.hu e-mail címen. \n  \nA szervezők a programváltozás jogát fenntartják.A programon résztvevők elfogadják a házirendet\, valamint elfogadják\, hogy a programon készült kép-\, hang- és videofelvételt a szervezők saját nyilvános felületeiken\, illetve egyéb médiafelületeken való megjelenés során felhasználhatnak.
URL:https://erdkultura.hu/event/14-tokjo-fesztival/
LOCATION:SZEPES\, Alsó u. 9.\, Érd\, 2030\, Magyarország
CATEGORIES:előadás,Fesztivál,szepes,zene
ATTACH;FMTTYPE=image/jpeg:https://erdkultura.hu/wp-content/uploads/2025/10/WEB-9-scaled.jpg
END:VEVENT
BEGIN:VEVENT
DTSTART;TZID=UTC:20260117T190000
DTEND;TZID=UTC:20260117T190000
DTSTAMP:20260422T225948
CREATED:20260106T133854Z
LAST-MODIFIED:20260110T171837Z
UID:6858-1768676400-1768676400@erdkultura.hu
SUMMARY:Édesnégyes mindhalálig - vígjáték / a Spirit Alkotóműhely előadása
DESCRIPTION:Édesnégyes mindhalálig – vígjáték / a Spirit Alkotóműhely előadása \n\n\n\n\n\n\nSzereplők: Huszár Mónika / Krizsó Gabi / Töreky Erzsi / Németh Róbert \n\n\nA Spirit Alkotóműhely tagjai \n  \n\n\n\n\n\nAz „Édesnégyes” című krimivígjáték izgalmas és szórakoztató utazásra hívja a nézőket\, ahol a humor és a feszültség határvonalán egyensúlyozva bontakozik ki a cselekmény. A történet középpontjában három gazdag testvér áll\, akik mindannyian óriási összeget ígérnek annak a férfinek\, akit éppen ők fognak becserkészni – mint családi örökségük zálogát. \n\n\n\n\n\nAhogy a férfi próbálja elkerülni a szorongató helyzetet\, egyre inkább belesodoródik a testvérek kusza és extravagáns világába\, ahol nemcsak a szerelem\, hanem a pénz és a hatalom is főszerepet játszik. Miközben a férfi bujkál\, hogy megússza a bizarr házassági ajánlatokat\, váratlan fordulatok követik egymást\, és a helyzet egyre szürreálisabbá válik. \n\n\n\n\n\nA nézők szeme előtt bontakozik ki a családi intrikák és a szerelmi szálak összekapcsolódása\, miközben a férfi folyamatosan a pénz után kutat. Az előadás tele van váratlan humorral\, és feszültségben tartja a közönséget. \n  \n\n\n\n\n\nMiért érdemes megnézni? \n\n\nEz a krimivígjáték remek példája annak\, hogy a valódi érzelem és az anyagi javak közötti ellentét mennyire mulatságossá tud válni. Az előadás során a nézők nemcsak nevetni fognak\, hanem elgondolkodnak a kapcsolatok valódi értékén is. A színészi játék és a szellemes párbeszédek egy olyan felejthetetlen élményt nyújtanak\, amely garantáltan szórakoztat. \n  \n\n\n\n\n\nCsatlakozzon hozzánk egy humorral teli estéhez\, ahol a mulatság garantált! \n\nA szervezők a programváltozás jogát fenntartják.\nA programon résztvevők elfogadják a házirendet\, valamint elfogadják\, hogy a programon készült kép-\, hang- és videofelvételt a szervezők saját nyilvános felületeiken\, illetve egyéb médiafelületeken való megjelenés során felhasználhatnak.
URL:https://erdkultura.hu/event/edesnegyes-mindhalalig-vigjatek-a-spirit-alkotomuhely-eloadasa-2/
LOCATION:SZEPES\, Alsó u. 9.\, Érd\, 2030\, Magyarország
CATEGORIES:előadás,Fesztivál,szepes
ATTACH;FMTTYPE=image/png:https://erdkultura.hu/wp-content/uploads/2025/06/edesnegyes.png
END:VEVENT
BEGIN:VEVENT
DTSTART;TZID=UTC:20260501T100000
DTEND;TZID=UTC:20260501T150000
DTSTAMP:20260422T225948
CREATED:20260417T115331Z
LAST-MODIFIED:20260418T050149Z
UID:7879-1777629600-1777647600@erdkultura.hu
SUMMARY:Autós majális 2026 Érd
DESCRIPTION:Helyszín: Érd\, Főtér \n\nMájus 1-jén felpörgetjük Érdet! Látványos járművek\, zene és igazi majális hangulat vár egész nap. Nézd meg a különleges járgányokat\, élvezd a programokat\, és tölts el egy laza napot a Főtéren! \nProgramok\n10:00 Diósdi Fúvószenekar\n10:40 dr. Csőzik László\, Érd Megyei Jogú Város polgármesterének köszöntője\n11:00 JP Dance Company táncbemutató\n12:30 Álomvándorok Társasága Színitársulat\n14:00 Retro Band Zenekar\n15:00 Autós felvonulás\n15:00−21:00 A BARKA kávé és kuckó teraszán: DJ Juhász Laci \nEgész napos ingyenes programok (10:00–15:00)\n\nSzocialista Járműipar Remekeinek Seregszemléje − Szervező: TRABURG KLUB\nLádavasút és gyerekjátékok\nAutós VR szimulátor játékok\n\nGasztrovásár\n9:00-tól együttműködő partnerünk\, a BARKA kávé és kuckó reggelivel és brunch-csal várja a korán ébredőket.\nNapközben lángossal\, fánkkal\, édességekkel\, sült kolbásszal és egyéb meleg ételekkel\, valamint csapolt sörrel várjuk az érdeklődőket. \nA szervezők a programváltoztatás jogát fenntartják.\nA programon résztvevők elfogadják a házirendet\, valamint elfogadják\, hogy a programon készült kép-\, hang- és videofelvételt a szervezők saját nyilvános felületeiken\, illetve egyéb médiafelületeken való megjelenés során felhasználhatnak.
URL:https://erdkultura.hu/event/autos-majalis-2026-erd/
LOCATION:SZEPES\, Alsó u. 9.\, Érd\, 2030\, Magyarország
CATEGORIES:Fesztivál,szepes,zene
ATTACH;FMTTYPE=image/png:https://erdkultura.hu/wp-content/uploads/2026/04/IMG_4978.png
END:VEVENT
END:VCALENDAR