BEGIN:VCALENDAR
VERSION:2.0
PRODID:-//ÉrdKultúra - ECPv6.8.0//NONSGML v1.0//EN
CALSCALE:GREGORIAN
METHOD:PUBLISH
X-ORIGINAL-URL:https://erdkultura.hu
X-WR-CALDESC:Events for ÉrdKultúra
REFRESH-INTERVAL;VALUE=DURATION:PT1H
X-Robots-Tag:noindex
X-PUBLISHED-TTL:PT1H
BEGIN:VTIMEZONE
TZID:UTC
BEGIN:STANDARD
TZOFFSETFROM:+0000
TZOFFSETTO:+0000
TZNAME:UTC
DTSTART:20250101T000000
END:STANDARD
END:VTIMEZONE
BEGIN:VEVENT
DTSTART;TZID=UTC:20251031T140000
DTEND;TZID=UTC:20251031T180000
DTSTAMP:20260421T135725
CREATED:20251003T124115Z
LAST-MODIFIED:20251007T122846Z
UID:5827-1761919200-1761933600@erdkultura.hu
SUMMARY:14. TökJó Fesztivál Érden
DESCRIPTION:14.TökJó Fesztivál\nIdén 14. alkalommal kerül megrendezésre a TökJó Fesztivál – ahol minden a tökről\, a jókedvről és a Halloween varázsáról szól. Csatlakozz hozzánk\, és ünnepeljünk együtt! \nIdőpont: 2025. 10. 31. 14:00 – 18:00 \nHelyszín: Szepes Gyula Művelődési Központ | 2030 Érd\, Alsó utca 9. \nProgramok a TökJó Fesztiválon:\n14:00 Animációs filmvetítés (95 perc – amerikai animációs film)\n15:45 JP Dance Company – Táncolj velünk!\n16:15 Halloweeni Tömegkvíz\n16:30 Animációs filmvetítés (20 perc – amerikai animációs film)\n17:00 Jelmezes felvonulás – Gyere te is jelmezben\, és mutasd meg a színpadon!\n17:30 Tökfaragó-szépségverseny eredményhirdetése\n17:40 MiniDisco \nTovábbi programok:\n\nArcfestés\nÜgyességi játékok\nBájitalkészítés\nBátorságpróba\nPapírszínház\nKézműveskedés\nMinigolf\nKézműves vásár\nTökkiállítás\nFotófal \n\n\n\n\n\nTökJó Afterparty\nIdőpont: 2025. 10. 31. 20:00 – 02:00 \nRetro és mai slágerek \nHelyszín: Tornácos Söröző | 2030 Érd\, Felső utca 22. \nBelépés jelmezben ingyenes\, jelmez nélkül 2.500 Ft/fő. \nElőzetes jelentkezés szükséges a rendezveny@marshal.hu e-mail címen. \n  \nA szervezők a programváltozás jogát fenntartják.A programon résztvevők elfogadják a házirendet\, valamint elfogadják\, hogy a programon készült kép-\, hang- és videofelvételt a szervezők saját nyilvános felületeiken\, illetve egyéb médiafelületeken való megjelenés során felhasználhatnak.
URL:https://erdkultura.hu/event/14-tokjo-fesztival/
LOCATION:SZEPES\, Alsó u. 9.\, Érd\, 2030\, Magyarország
CATEGORIES:előadás,Fesztivál,szepes,zene
ATTACH;FMTTYPE=image/jpeg:https://erdkultura.hu/wp-content/uploads/2025/10/WEB-9-scaled.jpg
END:VEVENT
END:VCALENDAR