BEGIN:VCALENDAR
VERSION:2.0
PRODID:-//ÉrdKultúra - ECPv6.8.0//NONSGML v1.0//EN
CALSCALE:GREGORIAN
METHOD:PUBLISH
X-WR-CALNAME:ÉrdKultúra
X-ORIGINAL-URL:https://erdkultura.hu
X-WR-CALDESC:Events for ÉrdKultúra
REFRESH-INTERVAL;VALUE=DURATION:PT1H
X-Robots-Tag:noindex
X-PUBLISHED-TTL:PT1H
BEGIN:VTIMEZONE
TZID:UTC
BEGIN:STANDARD
TZOFFSETFROM:+0000
TZOFFSETTO:+0000
TZNAME:UTC
DTSTART:20250101T000000
END:STANDARD
END:VTIMEZONE
BEGIN:VEVENT
DTSTART;TZID=UTC:20250906T170000
DTEND;TZID=UTC:20250906T190000
DTSTAMP:20260421T164541
CREATED:20250729T082957Z
LAST-MODIFIED:20250813T114956Z
UID:5284-1757178000-1757185200@erdkultura.hu
SUMMARY:„GYERE BE RÓZSÁM” - Zenés nyárbúcsúztató Szóka Júliával és Fekete Zoltánnal a Múzeumkertben
DESCRIPTION:„GYERE BE RÓZSÁM” – Zenés nyárbúcsúztató Szóka Júliával és Fekete Zoltánnal Érden\, a Múzeumkertben\nJegyár: 3.500 Ft \nOnline jegyvásárlás: https://szepesmk.jegyx1.hu/eloadas/4738/%E2%80%9Egyere-be-rozsam%E2%80%9D-szoka-julia-es-fekete-zoltan \nJegyek a Szepes Gyula Művelődési Központban (2030 Érd\, Alsó u. 9.) is kaphatók: \n\n2025. július 28. − augusztus 1.: minden hétköznap 8:30 és 16:00 között\n2025. augusztus 11. − augusztus 31.: kedden és csütörtökön 8:30 és 16:00 között\n2025. szeptember 1-jétől: kedden és pénteken 14:00 és 19:00 között\, valamint csütörtökön 9:00-től 14:00-ig\n\nA helyfoglalás érkezési sorrendben történik! \nA szervezők a programváltozás jogát fenntartják.\nA programon résztvevők elfogadják a házirendet\, valamint elfogadják\, hogy a programon készült kép-\, hang- és videofelvételt a szervezők saját nyilvános felületeiken\, illetve egyéb médiafelületeken való megjelenés során felhasználhatnak.
URL:https://erdkultura.hu/event/gyere-be-rozsam/
LOCATION:SZEPES\, Alsó u. 9.\, Érd\, 2030\, Magyarország
CATEGORIES:előadás,Fesztivál,szepes,zene
ATTACH;FMTTYPE=image/jpeg:https://erdkultura.hu/wp-content/uploads/2025/07/FB_Event-3-1-scaled.jpg
END:VEVENT
END:VCALENDAR