BEGIN:VCALENDAR
VERSION:2.0
PRODID:-//ÉrdKultúra - ECPv6.8.0//NONSGML v1.0//EN
CALSCALE:GREGORIAN
METHOD:PUBLISH
X-ORIGINAL-URL:https://erdkultura.hu
X-WR-CALDESC:Events for ÉrdKultúra
REFRESH-INTERVAL;VALUE=DURATION:PT1H
X-Robots-Tag:noindex
X-PUBLISHED-TTL:PT1H
BEGIN:VTIMEZONE
TZID:UTC
BEGIN:STANDARD
TZOFFSETFROM:+0000
TZOFFSETTO:+0000
TZNAME:UTC
DTSTART:20250101T000000
END:STANDARD
END:VTIMEZONE
BEGIN:VEVENT
DTSTART;TZID=UTC:20250524T140000
DTEND;TZID=UTC:20250524T190000
DTSTAMP:20260421T230312
CREATED:20250417T113037Z
LAST-MODIFIED:20250506T095011Z
UID:4687-1748095200-1748113200@erdkultura.hu
SUMMARY:Mini Muri – Gyerekek a porondon
DESCRIPTION:Mini Muri – Gyerekek a porondon\nGyere el egy varázslatos délutánra\, ahol a gyerekeké a főszerep! \nIdőpont: május 24.\, szombat\, 14 órától 19 óráig \nHelyszín: Magyar Földrajzi Múzeum kertje \nMinden program ingyenes!\n  \nSzínpadi programok:\n14:00 JP Dance Company táncbemutató \n14:15 Master SE akrobatikus rock and roll táncbemutató \n14:30 Schneller Szilvia hoppdance bemutató \n15:00 Szabó Csilla és zenekara koncert \n17:00 Rutkai Bori Banda koncert – zene és mese minden korosztálynak! \nSzínházi programok:\nFigurina Bábszínház előadások \n16:00 Grim(m)aszok – ismert Grimm-mesék használati tárgyakkal előadva\, minden korosztálynak! \nBábszínházunk egyik legnépszerűbb darabja a három Grimm-mesét tartalmazó Grim/m/aszok. Az előadásban  a Csipkerózsikát\, a Nyúl meg a sün versenyfutását és a Piroska és a farkast a mesék tartalmához illő tárgyakkal elevenítjük meg. \n18:00 Jancsi és Juliska \nAz igazi Figurina-klasszikust\, a Jancsi és Juliskát stílusosan mézeskalács-figurákkal és kellékekkel\, valamint só-liszt gyurma segítségével jelenítjük meg. A Grimm-mese hagyományos befejezésétől eltérően nálunk minden jóra fordul! Még a gonosz Banya is jóságossá változik és sületlen sem marad! \nA Körúti Szinház Mesegyár foglalkozása: Légy része te is a mesének! \nTintaló Társulás előadások: Igazi cirkuszi hangulat és élmény a legkisebbeknek mini cirkuszi sátorban! \n  \nTovábbi programok:\n\nTársasjáték sarok a KI JÖN? Társasjáték Klubbal\nMesés játékok a városi könyvtár szervezésében\nBaba-mama sarok az Ága-Boga Nagycsaládosok Érdi Egyesületével\nKitűzőkészítés az Érdi Ifjúsági Önkormányzattal\nKézműveskedés az Érdi Galériában\nSlackline oktatás – Egyensúlyozás játékosan! A slackline egy különleges\, rugalmas heveder\, amelyet két fa közé feszítenek ki. Az oktatás tapasztalt segítők közreműködésével történik. Kezdőknek és bátrabb kalandoroknak is ideális!\nHangszerkészítés a Bélaműhellyel segítségével- Képzeld el\, hogy hétköznapi tárgyakból milyen sok hangszer lehet készíteni! A Bélaműhely kreatív workshopján a gyerekek újrahasznosított anyagokból készíthetnek különleges hangszereket\, miközben megismerkednek a hangok világával.\nZsonglőr játszóház – Tanuld meg te is a zsonglőrködés alapjait! A foglalkozás során a gyerekek nemcsak kipróbálhatják a különféle zsonglőreszközöket\, hanem saját zsonglőrlabdát is készíthetnek!\nArcfestés\nUgrálóvár\n\n  \nA szervezők a programváltozás jogát fenntartják.\nA programon résztvevők elfogadják a házirendet\, valamint elfogadják\, hogy a programon készült kép-\, hang- és videofelvételt a szervezők saját nyilvános felületeiken\, illetve egyéb médiafelületeken való megjelenés során felhasználhatnak.
URL:https://erdkultura.hu/event/mini-muri-2025-gyerekek-a-porondon/
LOCATION:SZEPES\, Alsó u. 9.\, Érd\, 2030\, Magyarország
CATEGORIES:előadás,Fesztivál,szepes,zene
ATTACH;FMTTYPE=image/jpeg:https://erdkultura.hu/wp-content/uploads/2025/04/Fb_event-6-scaled.jpg
END:VEVENT
END:VCALENDAR