BEGIN:VCALENDAR
VERSION:2.0
PRODID:-//ÉrdKultúra - ECPv6.8.0//NONSGML v1.0//EN
CALSCALE:GREGORIAN
METHOD:PUBLISH
X-WR-CALNAME:ÉrdKultúra
X-ORIGINAL-URL:https://erdkultura.hu
X-WR-CALDESC:Events for ÉrdKultúra
REFRESH-INTERVAL;VALUE=DURATION:PT1H
X-Robots-Tag:noindex
X-PUBLISHED-TTL:PT1H
BEGIN:VTIMEZONE
TZID:UTC
BEGIN:STANDARD
TZOFFSETFROM:+0000
TZOFFSETTO:+0000
TZNAME:UTC
DTSTART:20250101T000000
END:STANDARD
END:VTIMEZONE
BEGIN:VEVENT
DTSTART;TZID=UTC:20250501T100000
DTEND;TZID=UTC:20250501T160000
DTSTAMP:20260421T230040
CREATED:20250326T111621Z
LAST-MODIFIED:20250428T203705Z
UID:4514-1746093600-1746115200@erdkultura.hu
SUMMARY:Autós majális
DESCRIPTION:🚗🌞Idén május elsején visszapörgetjük az idő kerekét! Érd Főterén fergeteges autós majálissal várunk benneteket! 🎶  \n📅 Időpont: 2025. május 1. 10:00  \n📍Helyszín: Érd\, Főtér  \n✅ 14:30 Látványos autós felvonulás Érd központjában!   \n🚦 Szocialista Járműipar Remekeinek Seregszemléje 🚗Szervező: TRABURG KLUB  \n✅Fergeteges koncert 13:30-tól!\nFellépő: Robert Gritto \n✅Gasztro-élmények 🍔  \n✅Egész napos családi programok\, szabadtéri játékok és sok más érdekesség! 🎈🎠  \n💛Ünnepeld velünk a május elsejét és válj részévé Te is a különleges élménynek\, ahol felelevenítjük a retro majálisok klasszikus hangulatát!   \n🚗 A Szocialista Járműipar Remekeinek Seregszemléjén résztvevő autókat 08:30-tól várjuk! \nℹ️ Figyelem! A majálison résztvevő autók a Főtéren és a környező kijelölt parkolókban kapnak helyet. Érkezéskor a szervezők segítenek\, kérjük\, figyeljétek az eligazítást!  \nA férőhelyek száma limitált\, a telítettségről esemény-bejegyzésben adunk tájékoztatást.  \nℹ️A szervezők a programváltozás jogát fenntartják.\n📸A programon résztvevők elfogadják a házirendet\, valamint elfogadják\, hogy a programon készült kép-\, hang- és videofelvételt a szervezők saját nyilvános felületeiken\, illetve egyéb médiafelületeken való megjelenés során felhasználhatnak. 
URL:https://erdkultura.hu/event/autos-majalis/
LOCATION:SZEPES\, Alsó u. 9.\, Érd\, 2030\, Magyarország
CATEGORIES:előadás,Fesztivál,szepes,zene
ATTACH;FMTTYPE=image/jpeg:https://erdkultura.hu/wp-content/uploads/2025/03/WEB-2-scaled.jpg
END:VEVENT
END:VCALENDAR