BEGIN:VCALENDAR
VERSION:2.0
PRODID:-//ÉrdKultúra - ECPv6.8.0//NONSGML v1.0//EN
CALSCALE:GREGORIAN
METHOD:PUBLISH
X-WR-CALNAME:ÉrdKultúra
X-ORIGINAL-URL:https://erdkultura.hu
X-WR-CALDESC:Events for ÉrdKultúra
REFRESH-INTERVAL;VALUE=DURATION:PT1H
X-Robots-Tag:noindex
X-PUBLISHED-TTL:PT1H
BEGIN:VTIMEZONE
TZID:UTC
BEGIN:STANDARD
TZOFFSETFROM:+0000
TZOFFSETTO:+0000
TZNAME:UTC
DTSTART:20240101T000000
END:STANDARD
END:VTIMEZONE
BEGIN:VEVENT
DTSTART;TZID=UTC:20240912T173000
DTEND;TZID=UTC:20240915T170000
DTSTAMP:20260422T115508
CREATED:20240828T161410Z
LAST-MODIFIED:20240911T134209Z
UID:2307-1726162200-1726419600@erdkultura.hu
SUMMARY:AVL-Érdi Jazzfesztivál
DESCRIPTION:HELYSZÍNVÁLTOZÁS! \n\nA hétvégi rossz időre való tekintettel a pénteki\, szombati és a vasárnapi koncertek helyszíne a Szepes Gyula Művelődési Központ lesz.  \n  \nA szombati jazztörténeti előadásnak szintén a Szepes Gyula Művelődési Központ ad helyet. \n  \nA szombati és a vasárnapi filmvetítések helyszíne az Érdi Galéria. \n  \n2024.SZEPTEMBER 12. (csütörtök) | AVL Székház \n19:00 – Jazz és irodalom – Szőke Nikoletta és Tóth Krisztina\nSzőke Nikoletta Jazzplosion\nSzőke Nikoletta – ének\, László Attila – gitár\, Fekete-Kovács Kornél – trombita\, szárnykürt\, Barcza Horváth József – bőgő\, Balázs Elemér – dob\n(az esemény regisztrációhoz kötött) \n*************************** \n2024.SZEPTEMBER 13. (péntek) \n  \ndélelőtt Galéria – Jazz Játszóház (Dés) \n  \n17:30 • Magyar Földrajzi Múzeum\nHarmónia Jazzműhely: Liane Carroll Quintet (UK-HU)\nLiane Carroll – ének\, zongora\, Horváth Plutó József – basszusgitár\, Jeszenszky György – dob\, Oláh Krisztián – zongora \nKi Tud Többet – JÁTÉK ajándékokért – Ölvedi Réka \n19:00 Random Trip & Gereben Zita & Borbély Mihály\nBorbély Mihály – szaxofon\, Gereben Zita – ének\, Vavra Bence – ének\, Cséry Zoltán – billentyűs hangszer\, Barabás Tamás – basszusgitár\, Delov Jávor – dob\, Dj Q-Cee – lemezjátszó\, beatbox \n  \n*************************** \n2024.SZEPTEMBER 14. (szombat) \n  \n15.00 – Pont az a dal – Galéria \n  \n16.00 – Jazztörténeti előadás – Birta Miklós \n  \n17:30 • Magyar Földrajzi Múzeum\nOláh Kálmán Jr. Quintett\nOláh Kálmán Jr. – szaxofon\, Oláh Krisztián – zongora\, Jónás Géza – bőgő\, Márkosi András – dob\, vendég: Subicz Gábor – trombita\, szárnykürt \nKi Tud Többet – JÁTÉK ajándékokért \n19:00 Dés László – Dresch Mihály Quartet\nDés László – szaxofon\, Dresch Mihály – fúvós hangszerek\, Orbán György – bőgő\, Dés András – ütőshangszerek \n  \n*************************** \n2024.SZEPTEMBER 15. (vasárnap) \n15.00 Énekelj! – Galéria \n17:30 • Magyar Földrajzi Múzeum\nJazz.hu: Kiemelkedően tehetséges egyetemisták: Moldovai Dóra & Horváth Szabolcs Quartett \n  \nKi Tud Többet – JÁTÉK ajándékokért \n19:00 Hot Jazz Band & Gájer Bálint \n  \nA műsorváltozás jogát a szervezők fenntartják. \n  \nJegyárak: \n\n\n\n\nelővétel\nhelyszín\n\n\nAVL csütörtök\n3 000 Ft\n4 000 Ft\n\n\nnapi jegy\, péntek\, szombat\, vasárnap\n3 500 Ft\n4 000 Ft\n\n\n3 napos bérlet\n8 000 Ft\n9 000 Ft\n\n\n\n 
URL:https://erdkultura.hu/event/avl-erdi-jazzfesztival/
LOCATION:SZEPES\, Alsó u. 9.\, Érd\, 2030\, Magyarország
CATEGORIES:előadás,Fesztivál,szepes,zene
ATTACH;FMTTYPE=image/jpeg:https://erdkultura.hu/wp-content/uploads/2024/08/453627665_928285712675485_6791336124396582753_n.jpg
END:VEVENT
BEGIN:VEVENT
DTSTART;TZID=UTC:20240915T150000
DTEND;TZID=UTC:20240915T170000
DTSTAMP:20260422T115508
CREATED:20240829T120506Z
LAST-MODIFIED:20240914T172510Z
UID:2315-1726412400-1726419600@erdkultura.hu
SUMMARY:Énekelj! - ingyenes filmvetítés (filmváltozás)
DESCRIPTION:AZ ESEMÉNY BETELT! \nA X. AVL-Érdi Jazz Fesztivál részeként:\nSzeptember 15.-én 15 órától Énekelj! ingyenes mesefilmvetítés a Galériában (Érd\, Alsó u. 2.) \namerikai családi animációs film\, 107 perc\, 2016 \nAz Énekelj! egy állatok által benépesített emberi világban játszódik. Buster Moon\, az elegáns koala egy valaha szebb napokat látott színház igazgatója. Buster örök optimista (na jó\, azért kissé zsivány is)\, és mindennél jobban szereti a színházát – bármit megtenne azért\, hogy fennmaradjon. Látva\, hogy élete álma az összeomlás szélén áll\, egy utolsó esélye van\, hogy visszaadja az intézmény régi fényét: ha megrendezi a világ legnagyobb énekversenyét. Öt versenyző emelkedik ki a többiek közül: egy egér\, akinek a hangja és a modora is simulékony; egy félénk tini elefánt\, akinek hatalmas a lámpaláza; egy túlhajszolt anya\, aki huszonöt kismalacot gondoz; egy ifjú gengsztergorilla\, aki szakítani akar a kétes családi múlttal; és egy punk-rock tarajos sül\, aki arrogáns pasiját igyekszik lerázni magáról. Mind az öten abban a reményben érkeznek Buster színpadára\, hogy meg tudják változtatni addigi életüket…\n(Port.hu) \nRegisztráció: Az esemény betelt! \nA X.AVL-Érdi Jazz Fesztivál további programjaira itt tudsz jegyet venni: https://jegyx1.hu/kereses
URL:https://erdkultura.hu/event/macskarisztokratak-ingyenes-filmvetites/
LOCATION:GALÉRIA\, Alsó utca 2.\, Érd\, 2030\, Magyarország
CATEGORIES:Fesztivál,film,szepes
ATTACH;FMTTYPE=image/png:https://erdkultura.hu/wp-content/uploads/2024/08/FB-eemeny-borito-1.png
END:VEVENT
END:VCALENDAR