BEGIN:VCALENDAR
VERSION:2.0
PRODID:-//ÉrdKultúra - ECPv6.8.0//NONSGML v1.0//EN
CALSCALE:GREGORIAN
METHOD:PUBLISH
X-WR-CALNAME:ÉrdKultúra
X-ORIGINAL-URL:https://erdkultura.hu
X-WR-CALDESC:Events for ÉrdKultúra
REFRESH-INTERVAL;VALUE=DURATION:PT1H
X-Robots-Tag:noindex
X-PUBLISHED-TTL:PT1H
BEGIN:VTIMEZONE
TZID:UTC
BEGIN:STANDARD
TZOFFSETFROM:+0000
TZOFFSETTO:+0000
TZNAME:UTC
DTSTART:20260101T000000
END:STANDARD
END:VTIMEZONE
BEGIN:VEVENT
DTSTART;TZID=UTC:20260331T180000
DTEND;TZID=UTC:20260704T140000
DTSTAMP:20260420T021558
CREATED:20260323T214922Z
LAST-MODIFIED:20260329T083718Z
UID:7738-1774980000-1783173600@erdkultura.hu
SUMMARY:LUKIN LAB | Interaktív zenei tanulótér az Érdi Galériában
DESCRIPTION:A kiállítás a Lukin László Alapfokú Művészeti Iskola és a Szepes Gyula Művelődési Központ és Városi Könyvtár együttműködésében valósult meg a művészeti iskola hármas jubileumát ünneplő programsorozat részeként.  \n20 éve egy név – 60 éve egy iskola – 100 éve egy példa  \nA LUKIN LAB egy interaktív zenei tanulótér\, ahol a látogatók megismerkedhetnek Lukin László zenetanár\, karnagy\, műfordító és előadóművész életének\, valamint a róla elnevezett érdi zeneiskola történetének fontosabb állomásaival. \nA kiállítás második\, interaktív tere játékos\, kipróbálható állomásokkal vezeti be a látogatókat a zene alapvető építőelemeibe\, a rezgéstől és a hangszíntől a ritmuson át\, egészen a dallamig. \nA LUKIN LAB | Interaktív zenei tanulótér az Érdi Galériában című kiállítás 2026. július 4-ig látogatható a galéria nyitvatartási idejében.  \nKiállításmegnyitó: 2026. március 31.\, kedd\, 18:00 \nSzervező: Lukin László Alapfokú Művészeti Iskola\, Szepes Gyula Művelődési Központ és Városi Könyvtár\nEgyüttműködő partner: Érd Média\, ReachIT Kft.\nA kiállítás létrejöttét segítette: Érd Megyei Jogú Város Önkormányzata  \nTovábbi információ a Lukin László Alapfokú Művészeti Iskoláról: https://erdizeneiskola.hu/ \nA kiállításban szereplő Rhytmic Village applikációt a Rhythmic Village – World of Music by Classplash hozzájárulásával mutatjuk be.  \nA kiállításban szereplő EthnoFusion alkalmazást a Néprajzi Múzeum hozzájárulásával mutatjuk be.  \nA szervezők a programváltozás jogát fenntartják.\nA programon résztvevők elfogadják a házirendet\, valamint elfogadják\, hogy a programon készült kép-\, hang- és videofelvételt a szervezők saját nyilvános felületeiken\, illetve egyéb médiafelületeken való megjelenés során felhasználhatnak.
URL:https://erdkultura.hu/event/lukin-lab-interaktiv-zenei-tanuloter-kiallitas/
LOCATION:GALÉRIA\, Alsó utca 2.\, Érd\, 2030\, Magyarország
CATEGORIES:Galéria
ATTACH;FMTTYPE=image/jpeg:https://erdkultura.hu/wp-content/uploads/2026/03/Lukin_Lab_kiallitas_erd_2026-scaled.jpg
END:VEVENT
BEGIN:VEVENT
DTSTART;TZID=UTC:20260420T140000
DTEND;TZID=UTC:20260420T160000
DTSTAMP:20260420T021558
CREATED:20260310T072850Z
LAST-MODIFIED:20260310T072850Z
UID:7574-1776693600-1776700800@erdkultura.hu
SUMMARY:Előadás-sorozat az életvidám időskorról
DESCRIPTION:Előadás-sorozat az életvidám időskorról: Mihez kezdjünk a régi sérelmekkel? Harag\, megbocsátás és elengedés időskorban \nA program az „Idősen\, aktívan\, Érden” programsorozat keretében kerül megrendezésre.\nA részvétel az érdi 65 év felettieknek ingyenes. \nA szervezők a programváltozás jogát fenntartják.\nA programon résztvevők elfogadják a házirendet\, valamint elfogadják\, hogy a programon készült kép-\, hang- és videofelvételt a szervezők saját nyilvános felületeiken\, illetve egyéb médiafelületeken való megjelenés során felhasználhatnak.
URL:https://erdkultura.hu/event/eloadas-sorozat-az-eletvidam-idoskorrol-6/
LOCATION:SZEPES\, Alsó u. 9.\, Érd\, 2030\, Magyarország
CATEGORIES:Idősprogram,szepes
ATTACH;FMTTYPE=image/jpeg:https://erdkultura.hu/wp-content/uploads/2025/12/eloadas-sorozat-az-eletvidam-idoskorrol.jpeg
ORGANIZER;CN="Sz%C5%B1cs %C3%81gnes I SZEPES":MAILTO:szucs.agnes@erdkultura.hu
END:VEVENT
END:VCALENDAR